BEGIN:VCALENDAR
VERSION:2.0
PRODID:-//Hardloopevenementen - ECPv6.15.14//NONSGML v1.0//EN
CALSCALE:GREGORIAN
METHOD:PUBLISH
X-WR-CALNAME:Hardloopevenementen
X-ORIGINAL-URL:https://hardloopevenementen.com
X-WR-CALDESC:Evenementen voor Hardloopevenementen
REFRESH-INTERVAL;VALUE=DURATION:PT1H
X-Robots-Tag:noindex
X-PUBLISHED-TTL:PT1H
BEGIN:VTIMEZONE
TZID:UTC
BEGIN:STANDARD
TZOFFSETFROM:+0000
TZOFFSETTO:+0000
TZNAME:UTC
DTSTART:20070101T000000
END:STANDARD
END:VTIMEZONE
BEGIN:VEVENT
DTSTART;VALUE=DATE:20080329
DTEND;VALUE=DATE:20080330
DTSTAMP:20260425T155313
CREATED:20180704T172214Z
LAST-MODIFIED:20190423T094822Z
UID:19962-1206748800-1206748800@hardloopevenementen.com
SUMMARY:Condensloop Leeuwarden
DESCRIPTION:Doe mee met het hardloopevenement Condensloop te Leeuwarden op za 29 mrt 2008. De volgende afstanden staan op het programma: 2\,8 km – 9\,5 km – halve marathon hardlopen. Wilt u inschrijven voor dit loopevenement?  Raadpleeg hiervoor dan de website van de organisatie\nDe uitslagen van deze hardloopwedstrijd zijn te raadplegen via dezelfde website of via de bekende websites zoals uitslagen.nl\, runtimer en mylaps. Doet u mee met dit evenement\, zorg dan dat u goed voorbereid aan de start staat! Met een goed trainingsschema komt u een heel eind. Train bijvoorbeeld met start to run van Evy Gruyaert. Download de start to run mp3 bestanden en zet ze op uw telefoon. Oortjes in\, hit the play button en en rennen maar! \n\n\n\n\nMeer informatie over Condensloop op Hardloopkalender.nl  \n2\,8-9\,5-21\,1 km 12:00 uur  Startadres: De Merodestraat; Postcode: 8937AA; Kleedgelegenheid en EHBO; Atletiekunie-Wedstrijd  Info: S. Rijpstra (058-2135498); http:  www.lionitas.nl  Afstanden: 2\,8-9\,5-21\,1 km 12:00 uur \n  \n  \n 
URL:https://hardloopevenementen.com/loopagenda/condensloop-leeuwarden-2/
END:VEVENT
BEGIN:VEVENT
DTSTART;VALUE=DATE:20080209
DTEND;VALUE=DATE:20080210
DTSTAMP:20260425T155313
CREATED:20090923T223246Z
LAST-MODIFIED:20190423T094918Z
UID:20203-1202515200-1202515200@hardloopevenementen.com
SUMMARY:Kleine Wielenloop Leeuwarden
DESCRIPTION:Doe mee met het hardloopevenement Kleine Wielenloop te Leeuwarden op za 09 feb 2008. De volgende afstanden staan op het programma: 1 km – 2 km – 7 km – 9\,5 km – 10 Engelse mijl hardlopen. Wilt u inschrijven voor dit loopevenement?  Raadpleeg hiervoor dan de website van de organisatie\nDe uitslagen van deze hardloopwedstrijd zijn te raadplegen via dezelfde website of via de bekende websites zoals uitslagen.nl\, runtimer en mylaps. Doet u mee met dit evenement\, zorg dan dat u goed voorbereid aan de start staat! Met een goed trainingsschema komt u een heel eind. Train bijvoorbeeld met start to run van Evy Gruyaert. Download de start to run mp3 bestanden en zet ze op uw telefoon. Oortjes in\, hit the play button en en rennen maar! \n\n\n\n\nMeer informatie over Kleine Wielenloop op Hardloopkalender.nl  \nSV Friesland organiseert zaterdag 9 februari 2008 de Kleine  Wielenloop in Leeuwarden. De langste afstanden gaan door  recreatiegebied de Groene Ster\, een schitterend stuk  natuur met prima te belopen paden.    Alle afstanden 11:00 uur  Afstanden: 1  2  7  9\,5 – 16 km    Verzorging: Er is enkele keren verzorging onderweg;  lauw water en thee en aan de finish ook sinaasappel\,  bouillon en sportdrank    Inschrijving: Inschrijven vanaf 10:00 uur in de sportkantine van Voetbalvereniging  Rood geel\, Kalverdijkje 83\, 8924 JJ in Leeuwarden. Op het sportcomplex  Kalverdijkje is voldoende parkeergelegenheid. \n  \n  \n 
URL:https://hardloopevenementen.com/loopagenda/kleine-wielenloop-leeuwarden/
END:VEVENT
END:VCALENDAR