BEGIN:VCALENDAR
VERSION:2.0
PRODID:-//Hardloopevenementen - ECPv6.15.14//NONSGML v1.0//EN
CALSCALE:GREGORIAN
METHOD:PUBLISH
X-WR-CALNAME:Hardloopevenementen
X-ORIGINAL-URL:https://hardloopevenementen.com
X-WR-CALDESC:Evenementen voor Hardloopevenementen
REFRESH-INTERVAL;VALUE=DURATION:PT1H
X-Robots-Tag:noindex
X-PUBLISHED-TTL:PT1H
BEGIN:VTIMEZONE
TZID:UTC
BEGIN:STANDARD
TZOFFSETFROM:+0000
TZOFFSETTO:+0000
TZNAME:UTC
DTSTART:20110101T000000
END:STANDARD
END:VTIMEZONE
BEGIN:VEVENT
DTSTART;VALUE=DATE:20191201
DTEND;VALUE=DATE:20191202
DTSTAMP:20260424T033244
CREATED:20090320T085828Z
LAST-MODIFIED:20191114T112335Z
UID:43173-1575158400-1575158400@hardloopevenementen.com
SUMMARY:Mardenkro Enclavecross Baarle-Nassau (NB)
DESCRIPTION:Doe mee met het hardloopevenement Mardenkro Enclavecross te Baarle-Nassau (NB) op zo 01 dec 2019. De volgende afstanden staan op het programma: 0\,4 km – 0\,8 km – 1\,4 km – 5\,7 km – 9\,6 km hardlopen. Wilt u inschrijven voor dit loopevenement?  Raadpleeg hiervoor dan de website van de organisatie\nDe uitslagen van deze hardloopwedstrijd zijn te raadplegen via dezelfde website of via de bekende websites zoals uitslagen.nl\, runtimer en mylaps. Doet u mee met dit evenement\, zorg dan dat u goed voorbereid aan de start staat! Met een goed trainingsschema komt u een heel eind. Train bijvoorbeeld met start to run van Evy Gruyaert. Download de start to run mp3 bestanden en zet ze op uw telefoon. Oortjes in\, hit the play button en en rennen maar! \n\n\n\n\nMeer informatie over Mardenkro Enclavecross op Hardloopkalender.nl  \n  \n  \n 
URL:https://hardloopevenementen.com/loopagenda/mardenkro-enclavecross-baarle-nassau-nb-3/
END:VEVENT
BEGIN:VEVENT
DTSTART;VALUE=DATE:20171203
DTEND;VALUE=DATE:20171204
DTSTAMP:20260424T033244
CREATED:20170706T010631Z
LAST-MODIFIED:20190423T114221Z
UID:13658-1512259200-1512259200@hardloopevenementen.com
SUMMARY:Enclavecross Baarle-Nassau (NB)
DESCRIPTION:Doe mee met het hardloopevenement Enclavecross te Baarle-Nassau (NB) op zo 03 dec 2017. De volgende afstanden staan op het programma: 0\,4 km – 0\,8 km – 1\,4 km – 5\,7 km – 9\,6 km hardlopen. Wilt u inschrijven voor dit loopevenement?  Raadpleeg hiervoor dan de website van de organisatie\nDe uitslagen van deze hardloopwedstrijd zijn te raadplegen via dezelfde website of via de bekende websites zoals uitslagen.nl\, runtimer en mylaps. Doet u mee met dit evenement\, zorg dan dat u goed voorbereid aan de start staat! Met een goed trainingsschema komt u een heel eind. Train bijvoorbeeld met start to run van Evy Gruyaert. Download de start to run mp3 bestanden en zet ze op uw telefoon. Oortjes in\, hit the play button en en rennen maar! \n\n\n\n\nMeer informatie over Enclavecross op Hardloopkalender.nl  \n  \n  \n 
URL:https://hardloopevenementen.com/loopagenda/enclavecross-baarle-nassau-nb/
END:VEVENT
BEGIN:VEVENT
DTSTART;VALUE=DATE:20151129
DTEND;VALUE=DATE:20151130
DTSTAMP:20260424T033244
CREATED:20110501T083449Z
LAST-MODIFIED:20190423T110706Z
UID:9308-1448755200-1448755200@hardloopevenementen.com
SUMMARY:Mardenkro Enclavecross Baarle-Nassau (NB)
DESCRIPTION:Doe mee met het hardloopevenement Mardenkro Enclavecross te Baarle-Nassau (NB) op zo 29 nov 2015. De volgende afstanden staan op het programma: 5\,8 km – 9\,6 km hardlopen. Wilt u inschrijven voor dit loopevenement?  Raadpleeg hiervoor dan de website van de organisatie\nDe uitslagen van deze hardloopwedstrijd zijn te raadplegen via dezelfde website of via de bekende websites zoals uitslagen.nl\, runtimer en mylaps. Doet u mee met dit evenement\, zorg dan dat u goed voorbereid aan de start staat! Met een goed trainingsschema komt u een heel eind. Train bijvoorbeeld met start to run van Evy Gruyaert. Download de start to run mp3 bestanden en zet ze op uw telefoon. Oortjes in\, hit the play button en en rennen maar! \n\n\n\n\nMeer informatie over Mardenkro Enclavecross op Hardloopkalender.nl  \nHet loopevenement Mardenkro Enclavecross te Baarle-Nassau vindt plaats op zondag 29 november 2015. \n  \n  \n 
URL:https://hardloopevenementen.com/loopagenda/mardenkro-enclavecross-baarle-nassau-nb/
END:VEVENT
BEGIN:VEVENT
DTSTART;VALUE=DATE:20141207
DTEND;VALUE=DATE:20141208
DTSTAMP:20260424T033244
CREATED:20140831T095737Z
LAST-MODIFIED:20190423T104858Z
UID:8588-1417910400-1417910400@hardloopevenementen.com
SUMMARY:Mardenkro Baarle-Nassau (NB)
DESCRIPTION:Doe mee met het hardloopevenement Mardenkro te Baarle-Nassau (NB) op zo 07 dec 2014. De volgende afstanden staan op het programma: 5\,8 km – 9\,6 km hardlopen. Wilt u inschrijven voor dit loopevenement?  Raadpleeg hiervoor dan de website van de organisatie\nDe uitslagen van deze hardloopwedstrijd zijn te raadplegen via dezelfde website of via de bekende websites zoals uitslagen.nl\, runtimer en mylaps. Doet u mee met dit evenement\, zorg dan dat u goed voorbereid aan de start staat! Met een goed trainingsschema komt u een heel eind. Train bijvoorbeeld met start to run van Evy Gruyaert. Download de start to run mp3 bestanden en zet ze op uw telefoon. Oortjes in\, hit the play button en en rennen maar! \n\n\n\n\nMeer informatie over Mardenkro op Hardloopkalender.nl  \nHet loopevenement Mardenkro te Baarle-Nassau vindt plaats op zondag 07 december 2014. De loop wordt georganisseerd door AV Gloria. Klik hier voor het adres van de start (Google Maps). \n  \n  \n 
URL:https://hardloopevenementen.com/loopagenda/mardenkro-baarle-nassau-nb-2/
END:VEVENT
BEGIN:VEVENT
DTSTART;VALUE=DATE:20131201
DTEND;VALUE=DATE:20131202
DTSTAMP:20260424T033244
CREATED:20100909T030926Z
LAST-MODIFIED:20190423T103751Z
UID:7998-1385856000-1385856000@hardloopevenementen.com
SUMMARY:Mardenkro Baarle-Nassau (NB)
DESCRIPTION:Doe mee met het hardloopevenement Mardenkro te Baarle-Nassau (NB) op zo 01 dec 2013. De volgende afstanden staan op het programma: 5\,8 km – 9\,6 km hardlopen. Wilt u inschrijven voor dit loopevenement?  Raadpleeg hiervoor dan de website van de organisatie\nDe uitslagen van deze hardloopwedstrijd zijn te raadplegen via dezelfde website of via de bekende websites zoals uitslagen.nl\, runtimer en mylaps. Doet u mee met dit evenement\, zorg dan dat u goed voorbereid aan de start staat! Met een goed trainingsschema komt u een heel eind. Train bijvoorbeeld met start to run van Evy Gruyaert. Download de start to run mp3 bestanden en zet ze op uw telefoon. Oortjes in\, hit the play button en en rennen maar! \n\n\n\n\nMeer informatie over Mardenkro op Hardloopkalender.nl  \nHet loopevenement Mardenkro te Baarle-Nassau vindt plaats op zondag 01 december 2013. De loop wordt georganisseerd door AV Gloria. Inschrijven is mogelijk vanaf 06 oktober 2013. Klik hier voor het adres van de start (Google Maps).Er is verkleedaccomodatie met douchemogelijkheid aanwezig. Er is EHBO aanwezig. Voor meer informatie:J.Blomwedstrijdsecretariaat@gloria-atletiek.nl0135078060http:  www.gloria-atletiek.nl \n  \n  \n 
URL:https://hardloopevenementen.com/loopagenda/mardenkro-baarle-nassau-nb/
END:VEVENT
BEGIN:VEVENT
DTSTART;VALUE=DATE:20121202
DTEND;VALUE=DATE:20121203
DTSTAMP:20260424T033244
CREATED:20170514T060249Z
LAST-MODIFIED:20190423T102721Z
UID:7241-1354406400-1354406400@hardloopevenementen.com
SUMMARY:Mardenkro Enclave Cross Baarle-Nassau (NB)
DESCRIPTION:Doe mee met het hardloopevenement Mardenkro Enclave Cross te Baarle-Nassau (NB) op zo 02 dec 2012. De volgende afstanden staan op het programma: 5\,8 km – 9\,6 km hardlopen. Wilt u inschrijven voor dit loopevenement?  Raadpleeg hiervoor dan de website van de organisatie\nDe uitslagen van deze hardloopwedstrijd zijn te raadplegen via dezelfde website of via de bekende websites zoals uitslagen.nl\, runtimer en mylaps. Doet u mee met dit evenement\, zorg dan dat u goed voorbereid aan de start staat! Met een goed trainingsschema komt u een heel eind. Train bijvoorbeeld met start to run van Evy Gruyaert. Download de start to run mp3 bestanden en zet ze op uw telefoon. Oortjes in\, hit the play button en en rennen maar! \n\n\n\n\nMeer informatie over Mardenkro Enclave Cross op Hardloopkalender.nl  \nHet loopevenement Mardenkro "Enclave Cross" te Baarle-Nassau vindt plaats op zondag 02 december 2012. De loop wordt georganiseerd door AV Gloria. Inschrijven is mogelijk vanaf 01 september 2012. Klik hier voor het adres van de start (Google Maps).Er is EHBO aanwezig. Bijzonderheden: Nieuw parcours.Afstand SoortloopInschrijfgeldStarttijdInfo9.6 km3\,5013.155.8 km3\,5012.20Voor meer informatie:J.Blomjean.fleur@kpnplanet.nl0135077292http:  www.gloria-atletiek.nl \n  \n  \n 
URL:https://hardloopevenementen.com/loopagenda/mardenkro-enclave-cross-baarle-nassau-nb-2/
END:VEVENT
END:VCALENDAR