BEGIN:VCALENDAR
VERSION:2.0
PRODID:-//Hardloopevenementen - ECPv6.15.14//NONSGML v1.0//EN
CALSCALE:GREGORIAN
METHOD:PUBLISH
X-WR-CALNAME:Hardloopevenementen
X-ORIGINAL-URL:https://hardloopevenementen.com
X-WR-CALDESC:Evenementen voor Hardloopevenementen
REFRESH-INTERVAL;VALUE=DURATION:PT1H
X-Robots-Tag:noindex
X-PUBLISHED-TTL:PT1H
BEGIN:VTIMEZONE
TZID:UTC
BEGIN:STANDARD
TZOFFSETFROM:+0000
TZOFFSETTO:+0000
TZNAME:UTC
DTSTART:20080101T000000
END:STANDARD
END:VTIMEZONE
BEGIN:VEVENT
DTSTART;VALUE=DATE:20091213
DTEND;VALUE=DATE:20091214
DTSTAMP:20260422T033506
CREATED:20081006T010732Z
LAST-MODIFIED:20190423T095632Z
UID:1315-1260662400-1260662400@hardloopevenementen.com
SUMMARY:Zandboscross Deurne (NB)
DESCRIPTION:Doe mee met het hardloopevenement Zandboscross te Deurne (NB) op zo 13 dec 2009. De volgende afstanden staan op het programma: 5\,7 km – 9\,6 km hardlopen. Wilt u inschrijven voor dit loopevenement?  Raadpleeg hiervoor dan de website van de organisatie\nDe uitslagen van deze hardloopwedstrijd zijn te raadplegen via dezelfde website of via de bekende websites zoals uitslagen.nl\, runtimer en mylaps. Doet u mee met dit evenement\, zorg dan dat u goed voorbereid aan de start staat! Met een goed trainingsschema komt u een heel eind. Train bijvoorbeeld met start to run van Evy Gruyaert. Download de start to run mp3 bestanden en zet ze op uw telefoon. Oortjes in\, hit the play button en en rennen maar! \n\n\n\n\nMeer informatie over Zandboscross op Hardloopkalender.nl  \n5\,7-9\,6 km 14:00 uur \n  \n  \n 
URL:https://hardloopevenementen.com/loopagenda/zandboscross-deurne-nb/
END:VEVENT
END:VCALENDAR