BEGIN:VCALENDAR
VERSION:2.0
PRODID:-//Hardloopevenementen - ECPv6.15.14//NONSGML v1.0//EN
CALSCALE:GREGORIAN
METHOD:PUBLISH
X-ORIGINAL-URL:https://hardloopevenementen.com
X-WR-CALDESC:Evenementen voor Hardloopevenementen
REFRESH-INTERVAL;VALUE=DURATION:PT1H
X-Robots-Tag:noindex
X-PUBLISHED-TTL:PT1H
BEGIN:VTIMEZONE
TZID:UTC
BEGIN:STANDARD
TZOFFSETFROM:+0000
TZOFFSETTO:+0000
TZNAME:UTC
DTSTART:20160101T000000
END:STANDARD
END:VTIMEZONE
BEGIN:VEVENT
DTSTART;VALUE=DATE:20171118
DTEND;VALUE=DATE:20171119
DTSTAMP:20260425T133806
CREATED:20111201T070226Z
LAST-MODIFIED:20190423T114238Z
UID:13737-1510963200-1510963200@hardloopevenementen.com
SUMMARY:Afvalrace Zwolle (OV)
DESCRIPTION:Doe mee met het hardloopevenement Afvalrace te Zwolle (OV) op za 18 nov 2017. De volgende afstanden staan op het programma: 10 km hardlopen. Wilt u inschrijven voor dit loopevenement?  Raadpleeg hiervoor dan de website van de organisatie\nDe uitslagen van deze hardloopwedstrijd zijn te raadplegen via dezelfde website of via de bekende websites zoals uitslagen.nl\, runtimer en mylaps. Doet u mee met dit evenement\, zorg dan dat u goed voorbereid aan de start staat! Met een goed trainingsschema komt u een heel eind. Train bijvoorbeeld met start to run van Evy Gruyaert. Download de start to run mp3 bestanden en zet ze op uw telefoon. Oortjes in\, hit the play button en en rennen maar! \n\n\n\n\nMeer informatie over Afvalrace op Hardloopkalender.nl  \nHoud je van hardlopen en wil je wel eens iets anders dan de gebruikelijke wedstrijdjes? Op zaterdag 18 november organiseert Terp 3 iets speciaals: een afvalrace voor hardlopers.    Sportliefhebbers kennen het misschien wel van het baanwielrennen of van het skeeleren: de afvalkoers. De wedstrijd begint met een pelotonnetje rijders en elke ronde valt degene die als laatste over de streep komt af. Dat kan natuurlijk ook met hardlopen. 18 november wordt dit voor het eerst georganiseerd\, op de skeelerbaan bij de Wijthmenerplas.     De wedstrijd begint met een groep van maximaal 28 hardlopers en de afstand is maximaal 10 km. Na een paar rondes om even te wennen\, begint de afvalrace pas echt. Want vanaf dan valt er na elke ronde van 333 meter iemand af\, namelijk de loper die als laatste over de streep komt. Zo dunt de groep geleidelijk uit en op het laatst blijven er 2 over die voor de overwinning mogen sprinten.    Dat betekent dus dat je niet lekker op je eigen tempo kunt lopen\, maar dat je steeds moet zorgen dat je niet achteraan loopt. Je moet dus ook inschatten hoe sterk de concurrentie is en wat de beste taktiek is. Hoe lang duurt jouw wedstrijd? Val je na een kilometer al af of kun je het 10 km. volhouden?    Het aantal startseries is afhankelijk van de belangstelling. De eerste start is om 10.30 uur. Deelname kost 3 euro. \n  \n  \n 
URL:https://hardloopevenementen.com/loopagenda/afvalrace-zwolle-ov/
END:VEVENT
END:VCALENDAR