BEGIN:VCALENDAR
VERSION:2.0
PRODID:-//Hardloopevenementen - ECPv6.15.14//NONSGML v1.0//EN
CALSCALE:GREGORIAN
METHOD:PUBLISH
X-WR-CALNAME:Hardloopevenementen
X-ORIGINAL-URL:https://hardloopevenementen.com
X-WR-CALDESC:Evenementen voor Hardloopevenementen
REFRESH-INTERVAL;VALUE=DURATION:PT1H
X-Robots-Tag:noindex
X-PUBLISHED-TTL:PT1H
BEGIN:VTIMEZONE
TZID:UTC
BEGIN:STANDARD
TZOFFSETFROM:+0000
TZOFFSETTO:+0000
TZNAME:UTC
DTSTART:20060101T000000
END:STANDARD
END:VTIMEZONE
BEGIN:VEVENT
DTSTART;VALUE=DATE:20080927
DTEND;VALUE=DATE:20080928
DTSTAMP:20260420T234752
CREATED:20110915T104226Z
LAST-MODIFIED:20190423T094511Z
UID:19120-1222473600-1222473600@hardloopevenementen.com
SUMMARY:Rabobankloop-Alblasserdam Alblasserdam
DESCRIPTION:Doe mee met het hardloopevenement Rabobankloop-Alblasserdam te Alblasserdam op za 27 sep 2008. De volgende afstanden staan op het programma: 1 km – 2 km – 3 km – 10 km – halve marathon hardlopen. Wilt u inschrijven voor dit loopevenement?  Raadpleeg hiervoor dan de website van de organisatie\nDe uitslagen van deze hardloopwedstrijd zijn te raadplegen via dezelfde website of via de bekende websites zoals uitslagen.nl\, runtimer en mylaps. Doet u mee met dit evenement\, zorg dan dat u goed voorbereid aan de start staat! Met een goed trainingsschema komt u een heel eind. Train bijvoorbeeld met start to run van Evy Gruyaert. Download de start to run mp3 bestanden en zet ze op uw telefoon. Oortjes in\, hit the play button en en rennen maar! \n\n\n\n\nMeer informatie over Rabobankloop-Alblasserdam op Hardloopkalender.nl  \nPrachtige route’s door poldergebied an langs de molens van Kinderdijk.  start :10-21\,1 km 13:00 uur   en  1-2-3 km 13:05 uur \n  \n  \n 
URL:https://hardloopevenementen.com/loopagenda/rabobankloop-alblasserdam-alblasserdam-2/
END:VEVENT
BEGIN:VEVENT
DTSTART;VALUE=DATE:20070929
DTEND;VALUE=DATE:20070930
DTSTAMP:20260420T234752
CREATED:20090802T195652Z
LAST-MODIFIED:20190423T093858Z
UID:279-1191024000-1191024000@hardloopevenementen.com
SUMMARY:Rabobankloop-Alblasserdam Alblasserdam
DESCRIPTION:Doe mee met het hardloopevenement Rabobankloop-Alblasserdam te Alblasserdam op za 29 sep 2007. De volgende afstanden staan op het programma: 1 km – 2 km – 10 km – halve marathon hardlopen. Wilt u inschrijven voor dit loopevenement?  Raadpleeg hiervoor dan de website van de organisatie\nDe uitslagen van deze hardloopwedstrijd zijn te raadplegen via dezelfde website of via de bekende websites zoals uitslagen.nl\, runtimer en mylaps. Doet u mee met dit evenement\, zorg dan dat u goed voorbereid aan de start staat! Met een goed trainingsschema komt u een heel eind. Train bijvoorbeeld met start to run van Evy Gruyaert. Download de start to run mp3 bestanden en zet ze op uw telefoon. Oortjes in\, hit the play button en en rennen maar! \n\n\n\n\nMeer informatie over Rabobankloop-Alblasserdam op Hardloopkalender.nl  \n  \n  \n 
URL:https://hardloopevenementen.com/loopagenda/rabobankloop-alblasserdam-alblasserdam/
END:VEVENT
END:VCALENDAR