BEGIN:VCALENDAR
VERSION:2.0
PRODID:-//Hardloopevenementen - ECPv6.15.14//NONSGML v1.0//EN
CALSCALE:GREGORIAN
METHOD:PUBLISH
X-ORIGINAL-URL:https://hardloopevenementen.com
X-WR-CALDESC:Evenementen voor Hardloopevenementen
REFRESH-INTERVAL;VALUE=DURATION:PT1H
X-Robots-Tag:noindex
X-PUBLISHED-TTL:PT1H
BEGIN:VTIMEZONE
TZID:UTC
BEGIN:STANDARD
TZOFFSETFROM:+0000
TZOFFSETTO:+0000
TZNAME:UTC
DTSTART:20070101T000000
END:STANDARD
END:VTIMEZONE
BEGIN:VEVENT
DTSTART;VALUE=DATE:20140518
DTEND;VALUE=DATE:20140519
DTSTAMP:20260421T032052
CREATED:20130101T083221Z
LAST-MODIFIED:20190423T105519Z
UID:34089-1400371200-1400371200@hardloopevenementen.com
SUMMARY:Allemansloop Asten (NB)
DESCRIPTION:Doe mee met het hardloopevenement Allemansloop te Asten (NB) op zo 18 mei 2014. De volgende afstanden staan op het programma: 5 km – 10 km – 15 km – 20 km hardlopen. Wilt u inschrijven voor dit loopevenement?  Raadpleeg hiervoor dan de website van de organisatie\nDe uitslagen van deze hardloopwedstrijd zijn te raadplegen via dezelfde website of via de bekende websites zoals uitslagen.nl\, runtimer en mylaps. Doet u mee met dit evenement\, zorg dan dat u goed voorbereid aan de start staat! Met een goed trainingsschema komt u een heel eind. Train bijvoorbeeld met start to run van Evy Gruyaert. Download de start to run mp3 bestanden en zet ze op uw telefoon. Oortjes in\, hit the play button en en rennen maar! \n\n\n\n\nMeer informatie over Allemansloop op Hardloopkalender.nl  \nDe Allemansloop geeft de mogelijkheid om recreatief te hardlopen of sportief te wandelen over een verhard pad van 5 km zijnde het Allemanspad bij de Keelvenroutes in Someren aan de Provenciale weg Someren  Heeze.    Voor de Allemansloop kan er gekozen worden om 1 tot en met 4 ronden te lopen: dus 5 km\, 10 km\, 15 km\, of 20 km of wandelen 5 of 10 km.  Bij iedere doorkomst is er verzorging: water en sponsen. De tijdklok geeft de doorkomsttijd aan. Er zijn versnaperingen\, koffie en frisdrank te koop. Er is voldoende parkeergelegenheid op het grote parkeerterrein.    Goede Doel  Omdat het Allemanspad ontstaan is in het kader van het Europees jaar van mensen met een handicap -2003 zal ook dit jaar de helft van alle inschrijfgelden geschonken worden aan de lokale gehandicapten vereniging ter ondersteuning van sport voor gehandicapten.     Praktische informatie   Soort loop		: recreatieve loop (hardlopen en sportief wandelen)  Afstanden Hardlopen : 5\, 10\, 15 of 20 km  (1 tot en met 4 ronden); Afstanden exact nagemeten met km-punten.  Afstanden Wandelen  : 5 \, 10 km  (1 of 2 ronden)  Aanvang		: 10.30 uur voor alle afstanden !!  Parcours		: verhard fiets wandelpad; verkeersvrij en door prachtig natuurgebied.  Inschrijfgeld		:  5\,-  voor alle afstanden  Parkeren		: op het grote parkeerterrein nabij het Keelven\, Provenciale weg Someren-Heeze	  Inschrijven		: vanaf 9.45 uur tot een kwartier voor aanvang in het boshuis (met borden aangegeven).   Omkleden		: kleedgelegenheid en toiletten nabij de start. Er is GEEN douchegelegenheid.  Prijzen			: er zijn GEEN prijzen om de opbrengst voor het goede doel zo hoog mogelijk te maken\,                                         maar er is wel een herinnering en er wordt een volledige uitslag opgemaakt.  Nadere informatie:  Henri Koolen tel.: 0493-696293     E-mail:  Allemansloop@chello.nl     Of  kijk op onze website: www.jaspersport.nl     Wat is het Allemanspad  Het Allemanspad is een wandelpad in Someren dat voor iedereen toegankelijk en bruikbaar is. Samen met de hele familie\, van jong tot oud\, lopend met de wandelwagen of rolstoel. Op deze wijze is de mooie natuur bij het Keelven voor iedereen bereikbaar en is het voor iedereen mogelijk om ervan te genieten. De route start vanaf de grote parkeerplaats aan de Provinciale weg. Het initiatief voor het aanleggen van dit pad is in het kader van het Europees jaar van mensen met een handicap – 2003 genomen door de plaatselijke werkgroep. Het Allemanspad heeft als eerste in Nederland een officieel certificaat voor toegankelijkheid gekregen. Het Allemanspad is 5 km lang en ligt in het prachtige natuurgebied bij het Keelven. \n  \n  \n 
URL:https://hardloopevenementen.com/loopagenda/allemansloop-asten-nb-2/
END:VEVENT
BEGIN:VEVENT
DTSTART;VALUE=DATE:20130519
DTEND;VALUE=DATE:20130520
DTSTAMP:20260421T032052
CREATED:20150809T212343Z
LAST-MODIFIED:20190423T104244Z
UID:31730-1368921600-1368921600@hardloopevenementen.com
SUMMARY:Allemansloop Asten (NB)
DESCRIPTION:Doe mee met het hardloopevenement Allemansloop te Asten (NB) op zo 19 mei 2013. De volgende afstanden staan op het programma: 5 km – 10 km – 15 km – 20 km hardlopen. Wilt u inschrijven voor dit loopevenement?  Raadpleeg hiervoor dan de website van de organisatie\nDe uitslagen van deze hardloopwedstrijd zijn te raadplegen via dezelfde website of via de bekende websites zoals uitslagen.nl\, runtimer en mylaps. Doet u mee met dit evenement\, zorg dan dat u goed voorbereid aan de start staat! Met een goed trainingsschema komt u een heel eind. Train bijvoorbeeld met start to run van Evy Gruyaert. Download de start to run mp3 bestanden en zet ze op uw telefoon. Oortjes in\, hit the play button en en rennen maar! \n\n\n\n\nMeer informatie over Allemansloop op Hardloopkalender.nl  \nHelft van het inschrijfgeld is voor goede doel (sport en gehandicapten). \n  \n  \n 
URL:https://hardloopevenementen.com/loopagenda/allemansloop-asten-nb/
END:VEVENT
BEGIN:VEVENT
DTSTART;VALUE=DATE:20110515
DTEND;VALUE=DATE:20110516
DTSTAMP:20260421T032052
CREATED:20081031T104922Z
LAST-MODIFIED:20190423T102138Z
UID:6985-1305417600-1305417600@hardloopevenementen.com
SUMMARY:Allemansloop Someren (NB)
DESCRIPTION:Doe mee met het hardloopevenement Allemansloop te Someren (NB) op zo 15 mei 2011. De volgende afstanden staan op het programma: 5 km – 10 km – 15 km – 20 km hardlopen. Wilt u inschrijven voor dit loopevenement?  Raadpleeg hiervoor dan de website van de organisatie\nDe uitslagen van deze hardloopwedstrijd zijn te raadplegen via dezelfde website of via de bekende websites zoals uitslagen.nl\, runtimer en mylaps. Doet u mee met dit evenement\, zorg dan dat u goed voorbereid aan de start staat! Met een goed trainingsschema komt u een heel eind. Train bijvoorbeeld met start to run van Evy Gruyaert. Download de start to run mp3 bestanden en zet ze op uw telefoon. Oortjes in\, hit the play button en en rennen maar! \n\n\n\n\nMeer informatie over Allemansloop op Hardloopkalender.nl  \nHet loopevenement Allemansloop te Someren vindt plaats op zondag 15 mei 2011. De loop wordt georganiseerd door AV `t Jasper Sport. Inschrijven is mogelijk vanaf 15 mei 2011. Klik hier voor het adres van de start (Google Maps).Er is verkleedaccomodatie met douchemogelijkheid aanwezig. Er is EHBO aanwezig. Afstand(km)Inschrijfgeld(€)Starttijd5km€5\,0010.30uur10km€5\,0010.30uur15km€5\,0010.30uur20km€5\,0010.30uurVoor meer informatie:Henri Koolenhenrikoolen@chello.nl0493696293http:  www.jaspersport.nl \n  \n  \n 
URL:https://hardloopevenementen.com/loopagenda/allemansloop-someren-nb-2/
END:VEVENT
BEGIN:VEVENT
DTSTART;VALUE=DATE:20100516
DTEND;VALUE=DATE:20100517
DTSTAMP:20260421T032052
CREATED:20090513T232340Z
LAST-MODIFIED:20190423T101149Z
UID:23458-1273968000-1273968000@hardloopevenementen.com
SUMMARY:Allemansloop Someren (NB)
DESCRIPTION:Doe mee met het hardloopevenement Allemansloop te Someren (NB) op zo 16 mei 2010. De volgende afstanden staan op het programma: 5 km – 10 km – 15 km – 20 km hardlopen. Wilt u inschrijven voor dit loopevenement?  Raadpleeg hiervoor dan de website van de organisatie\nDe uitslagen van deze hardloopwedstrijd zijn te raadplegen via dezelfde website of via de bekende websites zoals uitslagen.nl\, runtimer en mylaps. Doet u mee met dit evenement\, zorg dan dat u goed voorbereid aan de start staat! Met een goed trainingsschema komt u een heel eind. Train bijvoorbeeld met start to run van Evy Gruyaert. Download de start to run mp3 bestanden en zet ze op uw telefoon. Oortjes in\, hit the play button en en rennen maar! \n\n\n\n\nMeer informatie over Allemansloop op Hardloopkalender.nl  \nDit loopevenement wordt georganiseerd door AV `t Jasper Sport.De eerste afstand (of onderdeel) start om 10:30.Het adres van de start en de finish is Provincialeweg10Categorie(ën): mannen\, vrouwenVooraf inschrijven is mogelijk vanaf 16 mei 2010 tot niet van toepassing.Inschrijven op de dag van de loop is mogelijk (vanaf 16.30) op dit adres: De Ontmoeting\, Marktplein 7..Meer informatie:Contactpersoon: Henri KoolenTel.: 0493696293Email: henrikoolen@chello.nlEr is een kleedaccomodatie aanwezig. Douchen is niet mogelijk.Het parcours is verhard.Overige bijzonderheden:  inschrijven vanaf 10.00 uur \n  \n  \n 
URL:https://hardloopevenementen.com/loopagenda/allemansloop-someren-nb-3/
END:VEVENT
BEGIN:VEVENT
DTSTART;VALUE=DATE:20090517
DTEND;VALUE=DATE:20090518
DTSTAMP:20260421T032052
CREATED:20110324T202037Z
LAST-MODIFIED:20190423T100121Z
UID:2310-1242518400-1242518400@hardloopevenementen.com
SUMMARY:Allemansloop Someren (NB)
DESCRIPTION:Doe mee met het hardloopevenement Allemansloop te Someren (NB) op zo 17 mei 2009. De volgende afstanden staan op het programma: 5 km – 10 km – 15 km – 20 km hardlopen. Wilt u inschrijven voor dit loopevenement?  Raadpleeg hiervoor dan de website van de organisatie\nDe uitslagen van deze hardloopwedstrijd zijn te raadplegen via dezelfde website of via de bekende websites zoals uitslagen.nl\, runtimer en mylaps. Doet u mee met dit evenement\, zorg dan dat u goed voorbereid aan de start staat! Met een goed trainingsschema komt u een heel eind. Train bijvoorbeeld met start to run van Evy Gruyaert. Download de start to run mp3 bestanden en zet ze op uw telefoon. Oortjes in\, hit the play button en en rennen maar! \n\n\n\n\nMeer informatie over Allemansloop op Hardloopkalender.nl  \n5-10-15-20 km 10:30 uur \n  \n  \n 
URL:https://hardloopevenementen.com/loopagenda/allemansloop-someren-nb/
END:VEVENT
BEGIN:VEVENT
DTSTART;VALUE=DATE:20080504
DTEND;VALUE=DATE:20080505
DTSTAMP:20260421T032052
CREATED:20071210T113225Z
LAST-MODIFIED:20190423T094736Z
UID:19761-1209859200-1209859200@hardloopevenementen.com
SUMMARY:Allemansloop Someren
DESCRIPTION:Doe mee met het hardloopevenement Allemansloop te Someren op zo 04 mei 2008. De volgende afstanden staan op het programma: 5 km – 10 km – 15 km – 20 km hardlopen. Wilt u inschrijven voor dit loopevenement?  Raadpleeg hiervoor dan de website van de organisatie\nDe uitslagen van deze hardloopwedstrijd zijn te raadplegen via dezelfde website of via de bekende websites zoals uitslagen.nl\, runtimer en mylaps. Doet u mee met dit evenement\, zorg dan dat u goed voorbereid aan de start staat! Met een goed trainingsschema komt u een heel eind. Train bijvoorbeeld met start to run van Evy Gruyaert. Download de start to run mp3 bestanden en zet ze op uw telefoon. Oortjes in\, hit the play button en en rennen maar! \n\n\n\n\nMeer informatie over Allemansloop op Hardloopkalender.nl  \n5-10-15-20 km 10:30 uur \n  \n  \n 
URL:https://hardloopevenementen.com/loopagenda/allemansloop-someren/
END:VEVENT
END:VCALENDAR