BEGIN:VCALENDAR
VERSION:2.0
PRODID:-//Hardloopevenementen - ECPv6.15.14//NONSGML v1.0//EN
CALSCALE:GREGORIAN
METHOD:PUBLISH
X-WR-CALNAME:Hardloopevenementen
X-ORIGINAL-URL:https://hardloopevenementen.com
X-WR-CALDESC:Evenementen voor Hardloopevenementen
REFRESH-INTERVAL;VALUE=DURATION:PT1H
X-Robots-Tag:noindex
X-PUBLISHED-TTL:PT1H
BEGIN:VTIMEZONE
TZID:UTC
BEGIN:STANDARD
TZOFFSETFROM:+0000
TZOFFSETTO:+0000
TZNAME:UTC
DTSTART:20100101T000000
END:STANDARD
END:VTIMEZONE
BEGIN:VEVENT
DTSTART;VALUE=DATE:20110625
DTEND;VALUE=DATE:20110626
DTSTAMP:20260425T140253
CREATED:20101126T150128Z
LAST-MODIFIED:20190423T102026Z
UID:6717-1308960000-1308960000@hardloopevenementen.com
SUMMARY:AlveMarren RondwegRun Sneek Sneek (FR)
DESCRIPTION:Doe mee met het hardloopevenement AlveMarren RondwegRun Sneek te Sneek (FR) op za 25 jun 2011. De volgende afstanden staan op het programma: 5 km – 12 km hardlopen. Wilt u inschrijven voor dit loopevenement?  Raadpleeg hiervoor dan de website van de organisatie\nDe uitslagen van deze hardloopwedstrijd zijn te raadplegen via dezelfde website of via de bekende websites zoals uitslagen.nl\, runtimer en mylaps. Doet u mee met dit evenement\, zorg dan dat u goed voorbereid aan de start staat! Met een goed trainingsschema komt u een heel eind. Train bijvoorbeeld met start to run van Evy Gruyaert. Download de start to run mp3 bestanden en zet ze op uw telefoon. Oortjes in\, hit the play button en en rennen maar! \n\n\n\n\nMeer informatie over AlveMarren RondwegRun Sneek op Hardloopkalender.nl  \nDeze loop gaat niet door.  Hiervoor in de plaats is gekomen de halve marathon Sneek-Workum  op 2 juli\, meer info: www.alvemarren.nl \n  \n  \n 
URL:https://hardloopevenementen.com/loopagenda/alvemarren-rondwegrun-sneek-sneek-fr/
END:VEVENT
END:VCALENDAR