BEGIN:VCALENDAR
VERSION:2.0
PRODID:-//Hardloopevenementen - ECPv6.15.14//NONSGML v1.0//EN
CALSCALE:GREGORIAN
METHOD:PUBLISH
X-WR-CALNAME:Hardloopevenementen
X-ORIGINAL-URL:https://hardloopevenementen.com
X-WR-CALDESC:Evenementen voor Hardloopevenementen
REFRESH-INTERVAL;VALUE=DURATION:PT1H
X-Robots-Tag:noindex
X-PUBLISHED-TTL:PT1H
BEGIN:VTIMEZONE
TZID:UTC
BEGIN:STANDARD
TZOFFSETFROM:+0000
TZOFFSETTO:+0000
TZNAME:UTC
DTSTART:20060101T000000
END:STANDARD
END:VTIMEZONE
BEGIN:VEVENT
DTSTART;VALUE=DATE:20110619
DTEND;VALUE=DATE:20110620
DTSTAMP:20260422T010345
CREATED:20110301T175315Z
LAST-MODIFIED:20190423T102034Z
UID:6749-1308441600-1308441600@hardloopevenementen.com
SUMMARY:Amnesty International Sponsorloop Utrecht (UT)
DESCRIPTION:Doe mee met het hardloopevenement Amnesty International Sponsorloop te Utrecht (UT) op zo 19 jun 2011. De volgende afstanden staan op het programma:  hardlopen. Wilt u inschrijven voor dit loopevenement?  Raadpleeg hiervoor dan de website van de organisatie\nDe uitslagen van deze hardloopwedstrijd zijn te raadplegen via dezelfde website of via de bekende websites zoals uitslagen.nl\, runtimer en mylaps. Doet u mee met dit evenement\, zorg dan dat u goed voorbereid aan de start staat! Met een goed trainingsschema komt u een heel eind. Train bijvoorbeeld met start to run van Evy Gruyaert. Download de start to run mp3 bestanden en zet ze op uw telefoon. Oortjes in\, hit the play button en en rennen maar! \n\n\n\n\nMeer informatie over Amnesty International Sponsorloop op Hardloopkalender.nl  \nHet loopevenement Amnesty International Sponsorloop te Utrecht vindt plaats op zondag 19 juni 2011. De loop wordt georganiseerd door Amnesty International Utrecht. Inschrijven is mogelijk vanaf 28 oktober 2010. Klik hier voor het adres van de start (Google Maps).Er is verkleedaccomodatie met douchemogelijkheid aanwezig. Er is EHBO aanwezig. Bijzonderheden: Zelf sponsors zoeken\, rondjes 850 m.\, 2 uur om zoveel mogelijk rondjes te lopen..Afstand(km)Inschrijfgeld()Starttijd850mperrondje10\,0014.00uurVoor meer informatie:Francis Stalpersinfo@amnestyutrecht.nl0302318803http:  www.amnestyutrecht.nl splgr.html    Helaas zal de 24e Sponsorloop dit jaar niet doorgaan.   Wij zullen er alles aan doen om volgend jaar de 24e editie van de sponsorloop te laten plaatsvinden.   Hopelijk kunnen we dan rekenen op je sportieve deelname! \n  \n  \n 
URL:https://hardloopevenementen.com/loopagenda/amnesty-international-sponsorloop-utrecht-ut/
END:VEVENT
BEGIN:VEVENT
DTSTART;VALUE=DATE:20100620
DTEND;VALUE=DATE:20100621
DTSTAMP:20260422T010345
CREATED:20180907T021808Z
LAST-MODIFIED:20190423T101047Z
UID:4015-1276992000-1276992000@hardloopevenementen.com
SUMMARY:Sponsorloop Amnesty International Utrecht (UT)
DESCRIPTION:Doe mee met het hardloopevenement Sponsorloop Amnesty International te Utrecht (UT) op zo 20 jun 2010. De volgende afstanden staan op het programma: 2 uur 0 min hardlopen. Wilt u inschrijven voor dit loopevenement?  Raadpleeg hiervoor dan de website van de organisatie\nDe uitslagen van deze hardloopwedstrijd zijn te raadplegen via dezelfde website of via de bekende websites zoals uitslagen.nl\, runtimer en mylaps. Doet u mee met dit evenement\, zorg dan dat u goed voorbereid aan de start staat! Met een goed trainingsschema komt u een heel eind. Train bijvoorbeeld met start to run van Evy Gruyaert. Download de start to run mp3 bestanden en zet ze op uw telefoon. Oortjes in\, hit the play button en en rennen maar! \n\n\n\n\nMeer informatie over Sponsorloop Amnesty International op Hardloopkalender.nl  \nDit loopevenement wordt georganiseerd door Amnesty International Utrecht.De eerste afstand (of onderdeel) start om 14:00.Het adres van de start en de finish is Stadhuisbrug 1Categorie(ën): mannen\, vrouwen\, jeugdVooraf inschrijven is mogelijk vanaf 27 oktober 2009 tot niet van toepassing.Inschrijven op de dag van de loop is mogelijk (vanaf 09\,00) op dit adres: Zwembadweg 62.Meer informatie:Contactpersoon: Amnesty UtrechtTel.: 0302318803Email: info@amnestyutrecht.nlEr is geen kleedaccomodatie aanwezig.Het parcours is verhard.Overige bijzonderheden:  Parcours gaat door de mooie parken van tussen Delft en Nootdorp \n  \n  \n 
URL:https://hardloopevenementen.com/loopagenda/sponsorloop-amnesty-international-utrecht-ut-2/
END:VEVENT
BEGIN:VEVENT
DTSTART;VALUE=DATE:20090621
DTEND;VALUE=DATE:20090622
DTSTAMP:20260422T010345
CREATED:20150811T105909Z
LAST-MODIFIED:20190423T100034Z
UID:2131-1245542400-1245542400@hardloopevenementen.com
SUMMARY:Sponsorloop Amnesty International Utrecht (UT)
DESCRIPTION:Doe mee met het hardloopevenement Sponsorloop Amnesty International te Utrecht (UT) op zo 21 jun 2009. De volgende afstanden staan op het programma: 4 km – 8 km – 12 km – 10 Engelse mijl hardlopen. Wilt u inschrijven voor dit loopevenement?  Raadpleeg hiervoor dan de website van de organisatie\nDe uitslagen van deze hardloopwedstrijd zijn te raadplegen via dezelfde website of via de bekende websites zoals uitslagen.nl\, runtimer en mylaps. Doet u mee met dit evenement\, zorg dan dat u goed voorbereid aan de start staat! Met een goed trainingsschema komt u een heel eind. Train bijvoorbeeld met start to run van Evy Gruyaert. Download de start to run mp3 bestanden en zet ze op uw telefoon. Oortjes in\, hit the play button en en rennen maar! \n\n\n\n\nMeer informatie over Sponsorloop Amnesty International op Hardloopkalender.nl  \nBinnenstad Utrecht. Rondjes van 800 meter\, 2 uur de tijd om zo veel mogelijk rondjes te lopen. Zelf sponsors zoeken. Sportmassage na afloop. \n  \n  \n 
URL:https://hardloopevenementen.com/loopagenda/sponsorloop-amnesty-international-utrecht-ut/
END:VEVENT
BEGIN:VEVENT
DTSTART;VALUE=DATE:20080608
DTEND;VALUE=DATE:20080609
DTSTAMP:20260422T010345
CREATED:20110612T102253Z
LAST-MODIFIED:20190423T094657Z
UID:19589-1212883200-1212883200@hardloopevenementen.com
SUMMARY:Sponsorloop Amnesty International Utrecht (UT)
DESCRIPTION:Doe mee met het hardloopevenement Sponsorloop Amnesty International te Utrecht (UT) op zo 08 jun 2008. De volgende afstanden staan op het programma: 2 uur 0 min hardlopen. Wilt u inschrijven voor dit loopevenement?  Raadpleeg hiervoor dan de website van de organisatie\nDe uitslagen van deze hardloopwedstrijd zijn te raadplegen via dezelfde website of via de bekende websites zoals uitslagen.nl\, runtimer en mylaps. Doet u mee met dit evenement\, zorg dan dat u goed voorbereid aan de start staat! Met een goed trainingsschema komt u een heel eind. Train bijvoorbeeld met start to run van Evy Gruyaert. Download de start to run mp3 bestanden en zet ze op uw telefoon. Oortjes in\, hit the play button en en rennen maar! \n\n\n\n\nMeer informatie over Sponsorloop Amnesty International op Hardloopkalender.nl  \nOp zondagmiddag 8 juni wordt voor de 21e keer vanaf de Stadhuisbrug in hartje Utrecht gestart om geld op te halen voor een speciaal doel: China.    De opbrengst is bestemd voor Chinese mensenrechtenverdedigers. Met de Olympische Spelen in het vooruitzicht wil Amnesty International bijdragen aan zaken als rechtsbijstand\, communicatiemiddelen en medicatie voor mensen die zich in China inzetten voor de rechten van de mens.    De lopers leggen een parcours af van 800 meter om in twee uur tijd zoveel mogelijk gesponsorde rondjes vol te maken. Voor de sfeer wordt gezorgd door straatorkest Tartouffe en een djembé groep. Ook worden er diverse verfrissingen aangeboden langs het parcours.    Voor de individuele loper met de hoogste opbrengst en de meest succesvolle groep zijn uiteraard weer mooie prijzen weggelegd.    De hardlopers kunnen zich na afloop van de sponsorloop ook nog eens laten verwennen door professionele masseurs.    Wil je meedoen aan de sponsorloop? Kijk op www.amnestyutrecht.nl voor meer informatie of bel de Sponsorlooplijn: 030-2318803. E-mailen kan ook naar info@amnestyutrecht.nl \n  \n  \n 
URL:https://hardloopevenementen.com/loopagenda/sponsorloop-amnesty-international-utrecht-ut-3/
END:VEVENT
BEGIN:VEVENT
DTSTART;VALUE=DATE:20070617
DTEND;VALUE=DATE:20070618
DTSTAMP:20260422T010345
CREATED:20090201T095758Z
LAST-MODIFIED:20190423T093940Z
UID:462-1182038400-1182038400@hardloopevenementen.com
SUMMARY:Amnesty Sponsorloop Utrecht
DESCRIPTION:Doe mee met het hardloopevenement Amnesty Sponsorloop te Utrecht op zo 17 jun 2007. De volgende afstanden staan op het programma: 0\,8 km hardlopen. Wilt u inschrijven voor dit loopevenement?  Raadpleeg hiervoor dan de website van de organisatie\nDe uitslagen van deze hardloopwedstrijd zijn te raadplegen via dezelfde website of via de bekende websites zoals uitslagen.nl\, runtimer en mylaps. Doet u mee met dit evenement\, zorg dan dat u goed voorbereid aan de start staat! Met een goed trainingsschema komt u een heel eind. Train bijvoorbeeld met start to run van Evy Gruyaert. Download de start to run mp3 bestanden en zet ze op uw telefoon. Oortjes in\, hit the play button en en rennen maar! \n\n\n\n\nMeer informatie over Amnesty Sponsorloop op Hardloopkalender.nl  \n  \n  \n 
URL:https://hardloopevenementen.com/loopagenda/amnesty-sponsorloop-utrecht/
END:VEVENT
END:VCALENDAR