BEGIN:VCALENDAR
VERSION:2.0
PRODID:-//Hardloopevenementen - ECPv6.15.14//NONSGML v1.0//EN
CALSCALE:GREGORIAN
METHOD:PUBLISH
X-ORIGINAL-URL:https://hardloopevenementen.com
X-WR-CALDESC:Evenementen voor Hardloopevenementen
REFRESH-INTERVAL;VALUE=DURATION:PT1H
X-Robots-Tag:noindex
X-PUBLISHED-TTL:PT1H
BEGIN:VTIMEZONE
TZID:UTC
BEGIN:STANDARD
TZOFFSETFROM:+0000
TZOFFSETTO:+0000
TZNAME:UTC
DTSTART:20090101T000000
END:STANDARD
END:VTIMEZONE
BEGIN:VEVENT
DTSTART;VALUE=DATE:20170610
DTEND;VALUE=DATE:20170611
DTSTAMP:20260425T112849
CREATED:20130827T170250Z
LAST-MODIFIED:20190423T114551Z
UID:14590-1497052800-1497052800@hardloopevenementen.com
SUMMARY:Braderie run Angerlo Angerlo\, gemeente Zevenaar (GE)
DESCRIPTION:Doe mee met het hardloopevenement Braderie run Angerlo te Angerlo\, gemeente Zevenaar (GE) op za 10 jun 2017. De volgende afstanden staan op het programma: 1 km – 5 km – 10 km hardlopen. Wilt u inschrijven voor dit loopevenement?  Raadpleeg hiervoor dan de website van de organisatie\nDe uitslagen van deze hardloopwedstrijd zijn te raadplegen via dezelfde website of via de bekende websites zoals uitslagen.nl\, runtimer en mylaps. Doet u mee met dit evenement\, zorg dan dat u goed voorbereid aan de start staat! Met een goed trainingsschema komt u een heel eind. Train bijvoorbeeld met start to run van Evy Gruyaert. Download de start to run mp3 bestanden en zet ze op uw telefoon. Oortjes in\, hit the play button en en rennen maar! \n\n\n\n\nMeer informatie over Braderie run Angerlo op Hardloopkalender.nl  \nVoor het  2e jaar gaan we de braderie run Angerlo houden !!     Kids run 1km 2 euro  starttijd 18:00  5 km 4 euro starttijd 18:15  10 km 6 euro starttijd 18:15    Inschrijven kan op de avond zelf !!     Omkleed en douch mogenlijkheid aanwezig.     Ehbo aanwezig . \n  \n  \n 
URL:https://hardloopevenementen.com/loopagenda/braderie-run-angerlo-angerlo-gemeente-zevenaar-ge-2/
END:VEVENT
BEGIN:VEVENT
DTSTART;VALUE=DATE:20160605
DTEND;VALUE=DATE:20160606
DTSTAMP:20260425T112849
CREATED:20150213T230930Z
LAST-MODIFIED:20190423T112444Z
UID:12620-1465084800-1465084800@hardloopevenementen.com
SUMMARY:Braderie run angerlo Angerlo\, gemeente Zevenaar (GE)
DESCRIPTION:Doe mee met het hardloopevenement Braderie run angerlo te Angerlo\, gemeente Zevenaar (GE) op zo 05 jun 2016. De volgende afstanden staan op het programma: 5 km – 10 km hardlopen. Wilt u inschrijven voor dit loopevenement?  Raadpleeg hiervoor dan de website van de organisatie\nDe uitslagen van deze hardloopwedstrijd zijn te raadplegen via dezelfde website of via de bekende websites zoals uitslagen.nl\, runtimer en mylaps. Doet u mee met dit evenement\, zorg dan dat u goed voorbereid aan de start staat! Met een goed trainingsschema komt u een heel eind. Train bijvoorbeeld met start to run van Evy Gruyaert. Download de start to run mp3 bestanden en zet ze op uw telefoon. Oortjes in\, hit the play button en en rennen maar! \n\n\n\n\nMeer informatie over Braderie run angerlo op Hardloopkalender.nl  \nMooi rondje door angerlo !! \n  \n  \n 
URL:https://hardloopevenementen.com/loopagenda/braderie-run-angerlo-angerlo-gemeente-zevenaar-ge/
END:VEVENT
BEGIN:VEVENT
DTSTART;VALUE=DATE:20100824
DTEND;VALUE=DATE:20100825
DTSTAMP:20260425T112849
CREATED:20151214T045134Z
LAST-MODIFIED:20190423T100933Z
UID:3766-1282608000-1282608000@hardloopevenementen.com
SUMMARY:Dorpsloop Angerlo Angerlo\, gemeente Zevenaar (GE)
DESCRIPTION:Doe mee met het hardloopevenement Dorpsloop Angerlo te Angerlo\, gemeente Zevenaar (GE) op di 24 aug 2010. De volgende afstanden staan op het programma: 1\,7 km – 4\,2 km hardlopen. Wilt u inschrijven voor dit loopevenement?  Raadpleeg hiervoor dan de website van de organisatie\nDe uitslagen van deze hardloopwedstrijd zijn te raadplegen via dezelfde website of via de bekende websites zoals uitslagen.nl\, runtimer en mylaps. Doet u mee met dit evenement\, zorg dan dat u goed voorbereid aan de start staat! Met een goed trainingsschema komt u een heel eind. Train bijvoorbeeld met start to run van Evy Gruyaert. Download de start to run mp3 bestanden en zet ze op uw telefoon. Oortjes in\, hit the play button en en rennen maar! \n\n\n\n\nMeer informatie over Dorpsloop Angerlo op Hardloopkalender.nl  \nGezellige kleine loop door het dorp. Kinderen lopen 1\,7 km. Volwassenen lopen 4\,2 km. Ter plaatse inschrijven. Kosten 2 euro. Verder geen fasciliteiten.  Het bestaat uit rondjes van + – 850 mtr. Alles wordt vrolijk omlijst door muziekvereniging Nieuw Leven. Verder is een omroeper en een echte rondemiss.  Start jeugd 19:00\, Start volwassenen 19:45. \n  \n  \n 
URL:https://hardloopevenementen.com/loopagenda/dorpsloop-angerlo-angerlo-gemeente-zevenaar-ge/
END:VEVENT
END:VCALENDAR