BEGIN:VCALENDAR
VERSION:2.0
PRODID:-//Hardloopevenementen - ECPv6.15.14//NONSGML v1.0//EN
CALSCALE:GREGORIAN
METHOD:PUBLISH
X-WR-CALNAME:Hardloopevenementen
X-ORIGINAL-URL:https://hardloopevenementen.com
X-WR-CALDESC:Evenementen voor Hardloopevenementen
REFRESH-INTERVAL;VALUE=DURATION:PT1H
X-Robots-Tag:noindex
X-PUBLISHED-TTL:PT1H
BEGIN:VTIMEZONE
TZID:UTC
BEGIN:STANDARD
TZOFFSETFROM:+0000
TZOFFSETTO:+0000
TZNAME:UTC
DTSTART:20070101T000000
END:STANDARD
END:VTIMEZONE
BEGIN:VEVENT
DTSTART;VALUE=DATE:20090905
DTEND;VALUE=DATE:20090906
DTSTAMP:20260421T045752
CREATED:20170426T064520Z
LAST-MODIFIED:20190423T095912Z
UID:1874-1252108800-1252108800@hardloopevenementen.com
SUMMARY:Invictus Kring-apotheek Run Appelscha\, gemeente Ooststellingwerf (FR)
DESCRIPTION:Doe mee met het hardloopevenement Invictus Kring-apotheek Run te Appelscha\, gemeente Ooststellingwerf (FR) op za 05 sep 2009. De volgende afstanden staan op het programma: 5\,3 km – 10\,5 km – halve marathon hardlopen. Wilt u inschrijven voor dit loopevenement?  Raadpleeg hiervoor dan de website van de organisatie\nDe uitslagen van deze hardloopwedstrijd zijn te raadplegen via dezelfde website of via de bekende websites zoals uitslagen.nl\, runtimer en mylaps. Doet u mee met dit evenement\, zorg dan dat u goed voorbereid aan de start staat! Met een goed trainingsschema komt u een heel eind. Train bijvoorbeeld met start to run van Evy Gruyaert. Download de start to run mp3 bestanden en zet ze op uw telefoon. Oortjes in\, hit the play button en en rennen maar! \n\n\n\n\nMeer informatie over Invictus Kring-apotheek Run op Hardloopkalender.nl  \nHet 5 km parcours voert langs de Bosberg en Olmenes en dan met een kronkel door het bos naar de Aekingaweg\, vervolgens terug richting Appelscha over de zandweg (tussen kampeerboerderij Wouda en anarchisten kamp door)\, de Sanatoriumweg en via de Bosberg weer naar de finish aan de Boerestreek.    Het parcours van  de 21 km is 2 keer de 10\,5 km ronde. Dit loopt langs de Bosberg over het terrein van Olmenes (langs het tuberculose museum)\, het dag kampeerterrein van Staatsbosbeheer\, over de camping de Roggeberg\, de Kraaiheide\, het Bruine Suikerpad\, de Aekingaweg\, De Westeres\, langs het AZC\, over de zandweg (tussen kampeerboerderij Wouda en de Anarchisten camping)\, de Sanatoriumweg en via de Bosberg weer terug naar start en finish. \n  \n  \n 
URL:https://hardloopevenementen.com/loopagenda/invictus-kring-apotheek-run-appelscha-gemeente-ooststellingwerf-fr/
END:VEVENT
BEGIN:VEVENT
DTSTART;VALUE=DATE:20080906
DTEND;VALUE=DATE:20080907
DTSTAMP:20260421T045752
CREATED:20080229T021005Z
LAST-MODIFIED:20190423T094539Z
UID:19242-1220659200-1220659200@hardloopevenementen.com
SUMMARY:Kring Apotheek Run Appelscha
DESCRIPTION:Doe mee met het hardloopevenement Kring Apotheek Run te Appelscha op za 06 sep 2008. De volgende afstanden staan op het programma: 5 km – 10 km – halve marathon hardlopen. Wilt u inschrijven voor dit loopevenement?  Raadpleeg hiervoor dan de website van de organisatie\nDe uitslagen van deze hardloopwedstrijd zijn te raadplegen via dezelfde website of via de bekende websites zoals uitslagen.nl\, runtimer en mylaps. Doet u mee met dit evenement\, zorg dan dat u goed voorbereid aan de start staat! Met een goed trainingsschema komt u een heel eind. Train bijvoorbeeld met start to run van Evy Gruyaert. Download de start to run mp3 bestanden en zet ze op uw telefoon. Oortjes in\, hit the play button en en rennen maar! \n\n\n\n\nMeer informatie over Kring Apotheek Run op Hardloopkalender.nl  \n5 km 10:45 uur\, 10-21\,1 km 11:00 uur \n  \n  \n 
URL:https://hardloopevenementen.com/loopagenda/kring-apotheek-run-appelscha/
END:VEVENT
END:VCALENDAR