BEGIN:VCALENDAR
VERSION:2.0
PRODID:-//Hardloopevenementen - ECPv6.15.14//NONSGML v1.0//EN
CALSCALE:GREGORIAN
METHOD:PUBLISH
X-WR-CALNAME:Hardloopevenementen
X-ORIGINAL-URL:https://hardloopevenementen.com
X-WR-CALDESC:Evenementen voor Hardloopevenementen
REFRESH-INTERVAL;VALUE=DURATION:PT1H
X-Robots-Tag:noindex
X-PUBLISHED-TTL:PT1H
BEGIN:VTIMEZONE
TZID:UTC
BEGIN:STANDARD
TZOFFSETFROM:+0000
TZOFFSETTO:+0000
TZNAME:UTC
DTSTART:20140101T000000
END:STANDARD
END:VTIMEZONE
BEGIN:VEVENT
DTSTART;VALUE=DATE:20151212
DTEND;VALUE=DATE:20151213
DTSTAMP:20260423T103621
CREATED:20181024T042132Z
LAST-MODIFIED:20190423T110654Z
UID:9260-1449878400-1449878400@hardloopevenementen.com
SUMMARY:arun4fun Delft (ZH)
DESCRIPTION:Doe mee met het hardloopevenement arun4fun te Delft (ZH) op za 12 dec 2015. De volgende afstanden staan op het programma: 5 km – 10 km hardlopen. Wilt u inschrijven voor dit loopevenement?  Raadpleeg hiervoor dan de website van de organisatie\nDe uitslagen van deze hardloopwedstrijd zijn te raadplegen via dezelfde website of via de bekende websites zoals uitslagen.nl\, runtimer en mylaps. Doet u mee met dit evenement\, zorg dan dat u goed voorbereid aan de start staat! Met een goed trainingsschema komt u een heel eind. Train bijvoorbeeld met start to run van Evy Gruyaert. Download de start to run mp3 bestanden en zet ze op uw telefoon. Oortjes in\, hit the play button en en rennen maar! \n\n\n\n\nMeer informatie over arun4fun op Hardloopkalender.nl  \nGratis  start 9.45 woudweg schiedam\, infocentrum A4 per fiets bereikbaar.    0900 uur vertrekken pendelbussen vanaf derde werelddreef 1\, RWS gebouw langs Kruithuisweg\, auto’s kunnen hier parkeren.    Rennen op A4 Delft-Schiedam voordat deze open gaat \n  \n  \n 
URL:https://hardloopevenementen.com/loopagenda/arun4fun-delft-zh/
END:VEVENT
END:VCALENDAR