BEGIN:VCALENDAR
VERSION:2.0
PRODID:-//Hardloopevenementen - ECPv6.15.14//NONSGML v1.0//EN
CALSCALE:GREGORIAN
METHOD:PUBLISH
X-ORIGINAL-URL:https://hardloopevenementen.com
X-WR-CALDESC:Evenementen voor Hardloopevenementen
REFRESH-INTERVAL;VALUE=DURATION:PT1H
X-Robots-Tag:noindex
X-PUBLISHED-TTL:PT1H
BEGIN:VTIMEZONE
TZID:UTC
BEGIN:STANDARD
TZOFFSETFROM:+0000
TZOFFSETTO:+0000
TZNAME:UTC
DTSTART:20070101T000000
END:STANDARD
END:VTIMEZONE
BEGIN:VEVENT
DTSTART;VALUE=DATE:20200906
DTEND;VALUE=DATE:20200907
DTSTAMP:20260420T144843
CREATED:20100218T142354Z
LAST-MODIFIED:20200206T111253Z
UID:144723-1599350400-1599350400@hardloopevenementen.com
SUMMARY:Assumburgloop Heemskerk (NH)
DESCRIPTION:Doe mee met het hardloopevenement Assumburgloop te Heemskerk (NH) op zo 06 sep 2020. De volgende afstanden staan op het programma: 2\,5 km – 10 km hardlopen. Wilt u inschrijven voor dit loopevenement?  Raadpleeg hiervoor dan de website van de organisatie\nDe uitslagen van deze hardloopwedstrijd zijn te raadplegen via dezelfde website of via de bekende websites zoals uitslagen.nl\, runtimer en mylaps. Doet u mee met dit evenement\, zorg dan dat u goed voorbereid aan de start staat! Met een goed trainingsschema komt u een heel eind. Train bijvoorbeeld met start to run van Evy Gruyaert. Download de start to run mp3 bestanden en zet ze op uw telefoon. Oortjes in\, hit the play button en en rennen maar! \n\n\n\n\nMeer informatie over Assumburgloop op Hardloopkalender.nl  \nHardloop wedstrijd georganiseerd door ijsclub Kees Jongert. Route gaat door park Assumburg langs het gelijknamige Kasteel \n  \n  \n 
URL:https://hardloopevenementen.com/loopagenda/assumburgloop-heemskerk-nh-11/
END:VEVENT
BEGIN:VEVENT
DTSTART;VALUE=DATE:20190908
DTEND;VALUE=DATE:20190909
DTSTAMP:20260420T144843
CREATED:20110108T104939Z
LAST-MODIFIED:20191114T112454Z
UID:43364-1567900800-1567900800@hardloopevenementen.com
SUMMARY:Assumburgloop Heemskerk (NH)
DESCRIPTION:Doe mee met het hardloopevenement Assumburgloop te Heemskerk (NH) op zo 08 sep 2019. De volgende afstanden staan op het programma: 2 km – 10 km hardlopen. Wilt u inschrijven voor dit loopevenement?  Raadpleeg hiervoor dan de website van de organisatie\nDe uitslagen van deze hardloopwedstrijd zijn te raadplegen via dezelfde website of via de bekende websites zoals uitslagen.nl\, runtimer en mylaps. Doet u mee met dit evenement\, zorg dan dat u goed voorbereid aan de start staat! Met een goed trainingsschema komt u een heel eind. Train bijvoorbeeld met start to run van Evy Gruyaert. Download de start to run mp3 bestanden en zet ze op uw telefoon. Oortjes in\, hit the play button en en rennen maar! \n\n\n\n\nMeer informatie over Assumburgloop op Hardloopkalender.nl  \nTrimloop georganiseerd door ijsclub Kees Jongert Heemskerk. Door het park en langs kasteel Assumburg \n  \n  \n 
URL:https://hardloopevenementen.com/loopagenda/assumburgloop-heemskerk-nh-10/
END:VEVENT
BEGIN:VEVENT
DTSTART;VALUE=DATE:20170910
DTEND;VALUE=DATE:20170911
DTSTAMP:20260420T144843
CREATED:20090825T034001Z
LAST-MODIFIED:20190423T114407Z
UID:14129-1505001600-1505001600@hardloopevenementen.com
SUMMARY:Assumburgloop Heemskerk (NH)
DESCRIPTION:Doe mee met het hardloopevenement Assumburgloop te Heemskerk (NH) op zo 10 sep 2017. De volgende afstanden staan op het programma: 2\,5 km – 10 km hardlopen. Wilt u inschrijven voor dit loopevenement?  Raadpleeg hiervoor dan de website van de organisatie\nDe uitslagen van deze hardloopwedstrijd zijn te raadplegen via dezelfde website of via de bekende websites zoals uitslagen.nl\, runtimer en mylaps. Doet u mee met dit evenement\, zorg dan dat u goed voorbereid aan de start staat! Met een goed trainingsschema komt u een heel eind. Train bijvoorbeeld met start to run van Evy Gruyaert. Download de start to run mp3 bestanden en zet ze op uw telefoon. Oortjes in\, hit the play button en en rennen maar! \n\n\n\n\nMeer informatie over Assumburgloop op Hardloopkalender.nl  \n2\,5 km voor de jeugd t m 15 jaar. Start 10 km om 10.30 uur. Start 2\,5 km om 10.45. Loop door het park van Kasteel Assumburg. Inschrijfgeld 4\,00 voor de 10 km en 2\,50 voor de 2\,5 km (jeugd t m 15 jaar)  Inschrijven vanaf 9.30 uur in het clubhuis van ijsclub Kees Jongert \n  \n  \n 
URL:https://hardloopevenementen.com/loopagenda/assumburgloop-heemskerk-nh-7/
END:VEVENT
BEGIN:VEVENT
DTSTART;VALUE=DATE:20160904
DTEND;VALUE=DATE:20160905
DTSTAMP:20260420T144843
CREATED:20151120T004228Z
LAST-MODIFIED:20190423T112239Z
UID:12079-1472947200-1472947200@hardloopevenementen.com
SUMMARY:Assumburgloop Heemskerk (NH)
DESCRIPTION:Doe mee met het hardloopevenement Assumburgloop te Heemskerk (NH) op zo 04 sep 2016. De volgende afstanden staan op het programma: 2\,5 km – 10 km hardlopen. Wilt u inschrijven voor dit loopevenement?  Raadpleeg hiervoor dan de website van de organisatie\nDe uitslagen van deze hardloopwedstrijd zijn te raadplegen via dezelfde website of via de bekende websites zoals uitslagen.nl\, runtimer en mylaps. Doet u mee met dit evenement\, zorg dan dat u goed voorbereid aan de start staat! Met een goed trainingsschema komt u een heel eind. Train bijvoorbeeld met start to run van Evy Gruyaert. Download de start to run mp3 bestanden en zet ze op uw telefoon. Oortjes in\, hit the play button en en rennen maar! \n\n\n\n\nMeer informatie over Assumburgloop op Hardloopkalender.nl  \nHet loopevenement Assumburgloop te Heemskerk vindt plaats op zondag 04 september 2016. \n  \n  \n 
URL:https://hardloopevenementen.com/loopagenda/assumburgloop-heemskerk-nh-6/
END:VEVENT
BEGIN:VEVENT
DTSTART;VALUE=DATE:20150906
DTEND;VALUE=DATE:20150907
DTSTAMP:20260420T144843
CREATED:20060923T013329Z
LAST-MODIFIED:20190423T110932Z
UID:9849-1441497600-1441497600@hardloopevenementen.com
SUMMARY:Assumburgloop Heemskerk (NH)
DESCRIPTION:Doe mee met het hardloopevenement Assumburgloop te Heemskerk (NH) op zo 06 sep 2015. De volgende afstanden staan op het programma: 2\,5 km – 10 km hardlopen. Wilt u inschrijven voor dit loopevenement?  Raadpleeg hiervoor dan de website van de organisatie\nDe uitslagen van deze hardloopwedstrijd zijn te raadplegen via dezelfde website of via de bekende websites zoals uitslagen.nl\, runtimer en mylaps. Doet u mee met dit evenement\, zorg dan dat u goed voorbereid aan de start staat! Met een goed trainingsschema komt u een heel eind. Train bijvoorbeeld met start to run van Evy Gruyaert. Download de start to run mp3 bestanden en zet ze op uw telefoon. Oortjes in\, hit the play button en en rennen maar! \n\n\n\n\nMeer informatie over Assumburgloop op Hardloopkalender.nl  \nHet loopevenement Assumburgloop te Heemskerk vindt plaats op zondag 06 september 2015. \n  \n  \n 
URL:https://hardloopevenementen.com/loopagenda/assumburgloop-heemskerk-nh-5/
END:VEVENT
BEGIN:VEVENT
DTSTART;VALUE=DATE:20140907
DTEND;VALUE=DATE:20140908
DTSTAMP:20260420T144843
CREATED:20100812T082404Z
LAST-MODIFIED:20190423T105153Z
UID:33331-1410048000-1410048000@hardloopevenementen.com
SUMMARY:Assumburgloop Heemskerk (NH)
DESCRIPTION:Doe mee met het hardloopevenement Assumburgloop te Heemskerk (NH) op zo 07 sep 2014. De volgende afstanden staan op het programma: 2 km – 10 km hardlopen. Wilt u inschrijven voor dit loopevenement?  Raadpleeg hiervoor dan de website van de organisatie\nDe uitslagen van deze hardloopwedstrijd zijn te raadplegen via dezelfde website of via de bekende websites zoals uitslagen.nl\, runtimer en mylaps. Doet u mee met dit evenement\, zorg dan dat u goed voorbereid aan de start staat! Met een goed trainingsschema komt u een heel eind. Train bijvoorbeeld met start to run van Evy Gruyaert. Download de start to run mp3 bestanden en zet ze op uw telefoon. Oortjes in\, hit the play button en en rennen maar! \n\n\n\n\nMeer informatie over Assumburgloop op Hardloopkalender.nl  \nHet loopevenement Assumburgloop te Heemskerk vindt plaats op zondag 07 september 2014. De loop wordt georganisseerd door IJsclub Kees Jongert. Klik hier voor het adres van de start (Google Maps). \n  \n  \n 
URL:https://hardloopevenementen.com/loopagenda/assumburgloop-heemskerk-nh-9/
END:VEVENT
BEGIN:VEVENT
DTSTART;VALUE=DATE:20130908
DTEND;VALUE=DATE:20130909
DTSTAMP:20260420T144843
CREATED:20130426T222226Z
LAST-MODIFIED:20190423T104015Z
UID:31163-1378598400-1378598400@hardloopevenementen.com
SUMMARY:Assumburgloop Heemskerk (NH)
DESCRIPTION:Doe mee met het hardloopevenement Assumburgloop te Heemskerk (NH) op zo 08 sep 2013. De volgende afstanden staan op het programma: 2 km – 10 km hardlopen. Wilt u inschrijven voor dit loopevenement?  Raadpleeg hiervoor dan de website van de organisatie\nDe uitslagen van deze hardloopwedstrijd zijn te raadplegen via dezelfde website of via de bekende websites zoals uitslagen.nl\, runtimer en mylaps. Doet u mee met dit evenement\, zorg dan dat u goed voorbereid aan de start staat! Met een goed trainingsschema komt u een heel eind. Train bijvoorbeeld met start to run van Evy Gruyaert. Download de start to run mp3 bestanden en zet ze op uw telefoon. Oortjes in\, hit the play button en en rennen maar! \n\n\n\n\nMeer informatie over Assumburgloop op Hardloopkalender.nl  \nHet loopevenement Assumburgloop te Heemskerk vindt plaats op zondag 15 september 2013. De loop wordt georganisseerd door IJsclub Kees Jongert. Inschrijven is mogelijk vanaf 15 september 2013. Klik hier voor het adres van de start (Google Maps).Er is verkleedaccomodatie met douchemogelijkheid aanwezig. Er is EHBO aanwezig. Voor meer informatie:C Enthovenfam.enthoven@ziggo.nl0251658778http:  www.ijsclubkeesjongert.nl \n  \n  \n 
URL:https://hardloopevenementen.com/loopagenda/assumburgloop-heemskerk-nh-8/
END:VEVENT
BEGIN:VEVENT
DTSTART;VALUE=DATE:20120909
DTEND;VALUE=DATE:20120910
DTSTAMP:20260420T144843
CREATED:20120512T143040Z
LAST-MODIFIED:20190423T102938Z
UID:7763-1347148800-1347148800@hardloopevenementen.com
SUMMARY:Assumburgloop Heemskerk (NH)
DESCRIPTION:Doe mee met het hardloopevenement Assumburgloop te Heemskerk (NH) op zo 09 sep 2012. De volgende afstanden staan op het programma: 2 km – 10 km hardlopen. Wilt u inschrijven voor dit loopevenement?  Raadpleeg hiervoor dan de website van de organisatie\nDe uitslagen van deze hardloopwedstrijd zijn te raadplegen via dezelfde website of via de bekende websites zoals uitslagen.nl\, runtimer en mylaps. Doet u mee met dit evenement\, zorg dan dat u goed voorbereid aan de start staat! Met een goed trainingsschema komt u een heel eind. Train bijvoorbeeld met start to run van Evy Gruyaert. Download de start to run mp3 bestanden en zet ze op uw telefoon. Oortjes in\, hit the play button en en rennen maar! \n\n\n\n\nMeer informatie over Assumburgloop op Hardloopkalender.nl  \nHet loopevenement Assumburgloop te Heemskerk vindt plaats op zondag 09 september 2012. De loop wordt georganiseerd door IJsclub Kees Jongert. Inschrijven is mogelijk vanaf 09 september 2012 vanaf 09.00 uur. Klik hier voor het adres van de start (Google Maps).Er is EHBO aanwezig.   10 km start om 10:30  2 km start om 10:45  Voor meer informatie:C Enthovenfam.enthoven@ziggo.nl0251658778http:  www.ijsclubkeesjongert.nl \n  \n  \n 
URL:https://hardloopevenementen.com/loopagenda/assumburgloop-heemskerk-nh-4/
END:VEVENT
BEGIN:VEVENT
DTSTART;VALUE=DATE:20110904
DTEND;VALUE=DATE:20110905
DTSTAMP:20260420T144843
CREATED:20091207T060603Z
LAST-MODIFIED:20190423T101907Z
UID:6411-1315094400-1315094400@hardloopevenementen.com
SUMMARY:Assumburgloop Heemskerk (NH)
DESCRIPTION:Doe mee met het hardloopevenement Assumburgloop te Heemskerk (NH) op zo 04 sep 2011. De volgende afstanden staan op het programma: 2\,5 km – 10 km hardlopen. Wilt u inschrijven voor dit loopevenement?  Raadpleeg hiervoor dan de website van de organisatie\nDe uitslagen van deze hardloopwedstrijd zijn te raadplegen via dezelfde website of via de bekende websites zoals uitslagen.nl\, runtimer en mylaps. Doet u mee met dit evenement\, zorg dan dat u goed voorbereid aan de start staat! Met een goed trainingsschema komt u een heel eind. Train bijvoorbeeld met start to run van Evy Gruyaert. Download de start to run mp3 bestanden en zet ze op uw telefoon. Oortjes in\, hit the play button en en rennen maar! \n\n\n\n\nMeer informatie over Assumburgloop op Hardloopkalender.nl  \nHet loopevenement Assumburgloop te Heemskerk vindt plaats op zondag 04 september 2011. De loop wordt georganiseerd door IJsclub Kees Jongert. Inschrijven is mogelijk vanaf 04 september 2011. Klik hier voor het adres van de start (Google Maps).Er is verkleedaccomodatie met douchemogelijkheid aanwezig. Er is EHBO aanwezig. Afstand(km)Inschrijfgeld(€)Starttijd10km€3\,0011.002\,5km€2\,0011\,15Voor meer informatie:Cor Enthovenfam.enthoven@ziggo.nl0251658778http:  www.ijsclubkeesjongert.nl \n  \n  \n 
URL:https://hardloopevenementen.com/loopagenda/assumburgloop-heemskerk-nh-3/
END:VEVENT
BEGIN:VEVENT
DTSTART;VALUE=DATE:20100905
DTEND;VALUE=DATE:20100906
DTSTAMP:20260420T144843
CREATED:20130222T155412Z
LAST-MODIFIED:20190423T100905Z
UID:3669-1283644800-1283644800@hardloopevenementen.com
SUMMARY:Assumburgloop Heemskerk (NH)
DESCRIPTION:Doe mee met het hardloopevenement Assumburgloop te Heemskerk (NH) op zo 05 sep 2010. De volgende afstanden staan op het programma: 2\,5 km – 10 km hardlopen. Wilt u inschrijven voor dit loopevenement?  Raadpleeg hiervoor dan de website van de organisatie\nDe uitslagen van deze hardloopwedstrijd zijn te raadplegen via dezelfde website of via de bekende websites zoals uitslagen.nl\, runtimer en mylaps. Doet u mee met dit evenement\, zorg dan dat u goed voorbereid aan de start staat! Met een goed trainingsschema komt u een heel eind. Train bijvoorbeeld met start to run van Evy Gruyaert. Download de start to run mp3 bestanden en zet ze op uw telefoon. Oortjes in\, hit the play button en en rennen maar! \n\n\n\n\nMeer informatie over Assumburgloop op Hardloopkalender.nl  \nDit loopevenement wordt georganiseerd door IJsclub Kees Jongert.De eerste afstand (of onderdeel) start om 11:00.Het adres van de start is Adelaertlaan5 Het adres van de finish is Adelaertlaan 5Categorie(ën): mannen\, vrouwen\, jeugdVooraf inschrijven is mogelijk vanaf 18 oktober 2009 tot niet van toepassing.Inschrijven op de dag van de loop is mogelijk (vanaf 10.00) op dit adres: Adelaertlaan 5 1967NN Heemskerk.Meer informatie:Contactpersoon: Cor EnthovenTel.: 0251658778Email: fam.enthoven@ziggo.nlEr is een kleedaccomodatie aanwezig. Douchen is mogelijk.Het parcours is verhard.Vorig jaar deden er 90 lopers mee aan dit evenement.Overige bijzonderheden:  prachtig parcours over dijken\, langs uiterwaarden en door boomgaarden \n  \n  \n 
URL:https://hardloopevenementen.com/loopagenda/assumburgloop-heemskerk-nh-2/
END:VEVENT
BEGIN:VEVENT
DTSTART;VALUE=DATE:20090906
DTEND;VALUE=DATE:20090907
DTSTAMP:20260420T144843
CREATED:20180309T173323Z
LAST-MODIFIED:20190423T095906Z
UID:1852-1252195200-1252195200@hardloopevenementen.com
SUMMARY:Assumburgloop Heemskerk (NH)
DESCRIPTION:Doe mee met het hardloopevenement Assumburgloop te Heemskerk (NH) op zo 06 sep 2009. De volgende afstanden staan op het programma: 2\,5 km – 10 km hardlopen. Wilt u inschrijven voor dit loopevenement?  Raadpleeg hiervoor dan de website van de organisatie\nDe uitslagen van deze hardloopwedstrijd zijn te raadplegen via dezelfde website of via de bekende websites zoals uitslagen.nl\, runtimer en mylaps. Doet u mee met dit evenement\, zorg dan dat u goed voorbereid aan de start staat! Met een goed trainingsschema komt u een heel eind. Train bijvoorbeeld met start to run van Evy Gruyaert. Download de start to run mp3 bestanden en zet ze op uw telefoon. Oortjes in\, hit the play button en en rennen maar! \n\n\n\n\nMeer informatie over Assumburgloop op Hardloopkalender.nl  \n10 km 11:00 uur\, 2\,5 km 11:10 uur \n  \n  \n 
URL:https://hardloopevenementen.com/loopagenda/assumburgloop-heemskerk-nh/
END:VEVENT
BEGIN:VEVENT
DTSTART;VALUE=DATE:20080907
DTEND;VALUE=DATE:20080908
DTSTAMP:20260420T144843
CREATED:20170421T030022Z
LAST-MODIFIED:20190423T094538Z
UID:19239-1220745600-1220745600@hardloopevenementen.com
SUMMARY:Assumburgloop Heemskerk
DESCRIPTION:Doe mee met het hardloopevenement Assumburgloop te Heemskerk op zo 07 sep 2008. De volgende afstanden staan op het programma: 2\,5 km – 10 km hardlopen. Wilt u inschrijven voor dit loopevenement?  Raadpleeg hiervoor dan de website van de organisatie\nDe uitslagen van deze hardloopwedstrijd zijn te raadplegen via dezelfde website of via de bekende websites zoals uitslagen.nl\, runtimer en mylaps. Doet u mee met dit evenement\, zorg dan dat u goed voorbereid aan de start staat! Met een goed trainingsschema komt u een heel eind. Train bijvoorbeeld met start to run van Evy Gruyaert. Download de start to run mp3 bestanden en zet ze op uw telefoon. Oortjes in\, hit the play button en en rennen maar! \n\n\n\n\nMeer informatie over Assumburgloop op Hardloopkalender.nl  \n10 km 11:00 uur\, 2\,5 km 11:15 uur  Met jeugdloop van 2.5 en een loop van 10 km.     Start bij het clubgebouw van IJsclub Kees Jongert aan de Adelaertlaan 5 in Heemskerk.     Start 10 km om 11.00 uur en start 2.5 km om 11.10 uur. Inschrijven kan vanaf 10.00 uur voor meer info: 0251-658778 (Cor Enthoven) \n  \n  \n 
URL:https://hardloopevenementen.com/loopagenda/assumburgloop-heemskerk/
END:VEVENT
END:VCALENDAR