BEGIN:VCALENDAR
VERSION:2.0
PRODID:-//Hardloopevenementen - ECPv6.15.14//NONSGML v1.0//EN
CALSCALE:GREGORIAN
METHOD:PUBLISH
X-WR-CALNAME:Hardloopevenementen
X-ORIGINAL-URL:https://hardloopevenementen.com
X-WR-CALDESC:Evenementen voor Hardloopevenementen
REFRESH-INTERVAL;VALUE=DURATION:PT1H
X-Robots-Tag:noindex
X-PUBLISHED-TTL:PT1H
BEGIN:VTIMEZONE
TZID:UTC
BEGIN:STANDARD
TZOFFSETFROM:+0000
TZOFFSETTO:+0000
TZNAME:UTC
DTSTART:20110101T000000
END:STANDARD
END:VTIMEZONE
BEGIN:VEVENT
DTSTART;VALUE=DATE:20181021
DTEND;VALUE=DATE:20181022
DTSTAMP:20260422T220713
CREATED:20090912T071708Z
LAST-MODIFIED:20190423T120200Z
UID:15787-1540080000-1540080000@hardloopevenementen.com
SUMMARY:Kluiskenshof 10 van AVR Rucphen (NB)
DESCRIPTION:Doe mee met het hardloopevenement Kluiskenshof 10 van AVR te Rucphen (NB) op zo 21 okt 2018. De volgende afstanden staan op het programma: 5 km – 10 km hardlopen. Wilt u inschrijven voor dit loopevenement?  Raadpleeg hiervoor dan de website van de organisatie\nDe uitslagen van deze hardloopwedstrijd zijn te raadplegen via dezelfde website of via de bekende websites zoals uitslagen.nl\, runtimer en mylaps. Doet u mee met dit evenement\, zorg dan dat u goed voorbereid aan de start staat! Met een goed trainingsschema komt u een heel eind. Train bijvoorbeeld met start to run van Evy Gruyaert. Download de start to run mp3 bestanden en zet ze op uw telefoon. Oortjes in\, hit the play button en en rennen maar! \n\n\n\n\nMeer informatie over Kluiskenshof 10 van AVR op Hardloopkalender.nl  \nKluiskenshof 10 van AVR’90 de loop voor iedereen!    Locatie:  Atletiekbaan AVR90\, Baanvelden 21a (Sportcentrum De Vijfsprong) Rucphen – START om 11.00 uur    Inschrijven:  Voorinschrijven kan uiterlijk tot en met 15 oktober 2018 via www.AVR90.nl of www.inschrijven.nl  Inschrijven mag uiteraard ook op de wedstrijddag bij het secretariaat tussen 09 : 30 en 10 : 45 uur    Voorinschrijven:  Afstand 10 km – 6\,00 euro   Afstand 5 km – 4\,00 euro  (Inschrijven na 15 oktober of op de wedstrijddag kost 10 km 8\,00 euro   5 km 6\,00 euro per deelnemer) \n  \n  \n 
URL:https://hardloopevenementen.com/loopagenda/kluiskenshof-10-van-avr-rucphen-nb-2/
END:VEVENT
BEGIN:VEVENT
DTSTART;VALUE=DATE:20171022
DTEND;VALUE=DATE:20171023
DTSTAMP:20260422T220713
CREATED:20131119T214539Z
LAST-MODIFIED:20190423T114311Z
UID:13877-1508630400-1508630400@hardloopevenementen.com
SUMMARY:Kluiskenshof 10 van AVR Rucphen (NB)
DESCRIPTION:Doe mee met het hardloopevenement Kluiskenshof 10 van AVR te Rucphen (NB) op zo 22 okt 2017. De volgende afstanden staan op het programma: 3 km – 5 km – 10 km hardlopen. Wilt u inschrijven voor dit loopevenement?  Raadpleeg hiervoor dan de website van de organisatie\nDe uitslagen van deze hardloopwedstrijd zijn te raadplegen via dezelfde website of via de bekende websites zoals uitslagen.nl\, runtimer en mylaps. Doet u mee met dit evenement\, zorg dan dat u goed voorbereid aan de start staat! Met een goed trainingsschema komt u een heel eind. Train bijvoorbeeld met start to run van Evy Gruyaert. Download de start to run mp3 bestanden en zet ze op uw telefoon. Oortjes in\, hit the play button en en rennen maar! \n\n\n\n\nMeer informatie over Kluiskenshof 10 van AVR op Hardloopkalender.nl  \nDe loop voor iedereen. Het streven van de organisatie van de Kluiskenshof 10 van AVR\, is om de lopers een mooie reactieve loop of wedstrijd te bieden met een mooi en snel parcours. \n  \n  \n 
URL:https://hardloopevenementen.com/loopagenda/kluiskenshof-10-van-avr-rucphen-nb/
END:VEVENT
BEGIN:VEVENT
DTSTART;VALUE=DATE:20161023
DTEND;VALUE=DATE:20161024
DTSTAMP:20260422T220713
CREATED:20130416T182503Z
LAST-MODIFIED:20190423T112119Z
UID:11706-1477180800-1477180800@hardloopevenementen.com
SUMMARY:10 van AVR Rucphen (NB)
DESCRIPTION:Doe mee met het hardloopevenement 10 van AVR te Rucphen (NB) op zo 23 okt 2016. De volgende afstanden staan op het programma: 3 km – 5 km – 10 km hardlopen. Wilt u inschrijven voor dit loopevenement?  Raadpleeg hiervoor dan de website van de organisatie\nDe uitslagen van deze hardloopwedstrijd zijn te raadplegen via dezelfde website of via de bekende websites zoals uitslagen.nl\, runtimer en mylaps. Doet u mee met dit evenement\, zorg dan dat u goed voorbereid aan de start staat! Met een goed trainingsschema komt u een heel eind. Train bijvoorbeeld met start to run van Evy Gruyaert. Download de start to run mp3 bestanden en zet ze op uw telefoon. Oortjes in\, hit the play button en en rennen maar! \n\n\n\n\nMeer informatie over 10 van AVR op Hardloopkalender.nl  \nHet loopevenement 10 van AVR te Atletiekbaan Avr Baanvelden Rucphen vindt plaats op zondag 23 oktober 2016. \n  \n  \n 
URL:https://hardloopevenementen.com/loopagenda/10-van-avr-rucphen-nb-4/
END:VEVENT
BEGIN:VEVENT
DTSTART;VALUE=DATE:20151018
DTEND;VALUE=DATE:20151019
DTSTAMP:20260422T220713
CREATED:20100826T180655Z
LAST-MODIFIED:20190423T110814Z
UID:9562-1445126400-1445126400@hardloopevenementen.com
SUMMARY:10 van AVR Rucphen (NB)
DESCRIPTION:Doe mee met het hardloopevenement 10 van AVR te Rucphen (NB) op zo 18 okt 2015. De volgende afstanden staan op het programma: 5 km – 10 km hardlopen. Wilt u inschrijven voor dit loopevenement?  Raadpleeg hiervoor dan de website van de organisatie\nDe uitslagen van deze hardloopwedstrijd zijn te raadplegen via dezelfde website of via de bekende websites zoals uitslagen.nl\, runtimer en mylaps. Doet u mee met dit evenement\, zorg dan dat u goed voorbereid aan de start staat! Met een goed trainingsschema komt u een heel eind. Train bijvoorbeeld met start to run van Evy Gruyaert. Download de start to run mp3 bestanden en zet ze op uw telefoon. Oortjes in\, hit the play button en en rennen maar! \n\n\n\n\nMeer informatie over 10 van AVR op Hardloopkalender.nl  \nHet loopevenement 10 van AVR te Atletiekbaan Avr Baanvelden Rucphen vindt plaats op zondag 18 oktober 2015. \n  \n  \n 
URL:https://hardloopevenementen.com/loopagenda/10-van-avr-rucphen-nb-3/
END:VEVENT
BEGIN:VEVENT
DTSTART;VALUE=DATE:20131020
DTEND;VALUE=DATE:20131021
DTSTAMP:20260422T220713
CREATED:20131106T054118Z
LAST-MODIFIED:20190423T103906Z
UID:8267-1382227200-1382227200@hardloopevenementen.com
SUMMARY:10 van AVR Rucphen (NB)
DESCRIPTION:Doe mee met het hardloopevenement 10 van AVR te Rucphen (NB) op zo 20 okt 2013. De volgende afstanden staan op het programma: 5 km – 10 km hardlopen. Wilt u inschrijven voor dit loopevenement?  Raadpleeg hiervoor dan de website van de organisatie\nDe uitslagen van deze hardloopwedstrijd zijn te raadplegen via dezelfde website of via de bekende websites zoals uitslagen.nl\, runtimer en mylaps. Doet u mee met dit evenement\, zorg dan dat u goed voorbereid aan de start staat! Met een goed trainingsschema komt u een heel eind. Train bijvoorbeeld met start to run van Evy Gruyaert. Download de start to run mp3 bestanden en zet ze op uw telefoon. Oortjes in\, hit the play button en en rennen maar! \n\n\n\n\nMeer informatie over 10 van AVR op Hardloopkalender.nl  \n  \n  \n 
URL:https://hardloopevenementen.com/loopagenda/10-van-avr-rucphen-nb-2/
END:VEVENT
BEGIN:VEVENT
DTSTART;VALUE=DATE:20121021
DTEND;VALUE=DATE:20121022
DTSTAMP:20260422T220713
CREATED:20170912T152913Z
LAST-MODIFIED:20190423T102837Z
UID:7519-1350777600-1350777600@hardloopevenementen.com
SUMMARY:10 van AVR Rucphen (NB)
DESCRIPTION:Doe mee met het hardloopevenement 10 van AVR te Rucphen (NB) op zo 21 okt 2012. De volgende afstanden staan op het programma: 5 km – 10 km hardlopen. Wilt u inschrijven voor dit loopevenement?  Raadpleeg hiervoor dan de website van de organisatie\nDe uitslagen van deze hardloopwedstrijd zijn te raadplegen via dezelfde website of via de bekende websites zoals uitslagen.nl\, runtimer en mylaps. Doet u mee met dit evenement\, zorg dan dat u goed voorbereid aan de start staat! Met een goed trainingsschema komt u een heel eind. Train bijvoorbeeld met start to run van Evy Gruyaert. Download de start to run mp3 bestanden en zet ze op uw telefoon. Oortjes in\, hit the play button en en rennen maar! \n\n\n\n\nMeer informatie over 10 van AVR op Hardloopkalender.nl  \n  \n  \n 
URL:https://hardloopevenementen.com/loopagenda/10-van-avr-rucphen-nb/
END:VEVENT
END:VCALENDAR