BEGIN:VCALENDAR
VERSION:2.0
PRODID:-//Hardloopevenementen - ECPv6.15.14//NONSGML v1.0//EN
CALSCALE:GREGORIAN
METHOD:PUBLISH
X-ORIGINAL-URL:https://hardloopevenementen.com
X-WR-CALDESC:Evenementen voor Hardloopevenementen
REFRESH-INTERVAL;VALUE=DURATION:PT1H
X-Robots-Tag:noindex
X-PUBLISHED-TTL:PT1H
BEGIN:VTIMEZONE
TZID:UTC
BEGIN:STANDARD
TZOFFSETFROM:+0000
TZOFFSETTO:+0000
TZNAME:UTC
DTSTART:20060101T000000
END:STANDARD
END:VTIMEZONE
BEGIN:VEVENT
DTSTART;VALUE=DATE:20190614
DTEND;VALUE=DATE:20190615
DTSTAMP:20260421T152436
CREATED:20071214T032801Z
LAST-MODIFIED:20191114T112603Z
UID:43584-1560470400-1560470400@hardloopevenementen.com
SUMMARY:B. Amsterdam Business Run Amsterdam (NH)
DESCRIPTION:Doe mee met het hardloopevenement B. Amsterdam Business Run te Amsterdam (NH) op vr 14 jun 2019. De volgende afstanden staan op het programma: 5 km – 10 km hardlopen. Wilt u inschrijven voor dit loopevenement?  Raadpleeg hiervoor dan de website van de organisatie\nDe uitslagen van deze hardloopwedstrijd zijn te raadplegen via dezelfde website of via de bekende websites zoals uitslagen.nl\, runtimer en mylaps. Doet u mee met dit evenement\, zorg dan dat u goed voorbereid aan de start staat! Met een goed trainingsschema komt u een heel eind. Train bijvoorbeeld met start to run van Evy Gruyaert. Download de start to run mp3 bestanden en zet ze op uw telefoon. Oortjes in\, hit the play button en en rennen maar! \n\n\n\n\nMeer informatie over B. Amsterdam Business Run op Hardloopkalender.nl  \nB. is a playground for business. So lets mix some business with pleasure. On the 14th of June we host the B. Business Run Amsterdam. Startups\, freelancers\, creatives and corporates are invited to compete with each other for the title of fittest business. Challenge yourself and your colleagues\, get those endorphins flowing and run your business in the fittest way possible. \n  \n  \n 
URL:https://hardloopevenementen.com/loopagenda/b-amsterdam-business-run-amsterdam-nh/
END:VEVENT
BEGIN:VEVENT
DTSTART;VALUE=DATE:20140504
DTEND;VALUE=DATE:20140505
DTSTAMP:20260421T152436
CREATED:20080411T013352Z
LAST-MODIFIED:20190423T105545Z
UID:34187-1399161600-1399161600@hardloopevenementen.com
SUMMARY:CROSSTAKEL TIME TRIAL CUP B Den Helder (NH)
DESCRIPTION:Doe mee met het hardloopevenement CROSSTAKEL TIME TRIAL CUP B te Den Helder (NH) op zo 04 mei 2014. De volgende afstanden staan op het programma:  hardlopen. Wilt u inschrijven voor dit loopevenement?  Raadpleeg hiervoor dan de website van de organisatie\nDe uitslagen van deze hardloopwedstrijd zijn te raadplegen via dezelfde website of via de bekende websites zoals uitslagen.nl\, runtimer en mylaps. Doet u mee met dit evenement\, zorg dan dat u goed voorbereid aan de start staat! Met een goed trainingsschema komt u een heel eind. Train bijvoorbeeld met start to run van Evy Gruyaert. Download de start to run mp3 bestanden en zet ze op uw telefoon. Oortjes in\, hit the play button en en rennen maar! \n\n\n\n\nMeer informatie over CROSSTAKEL TIME TRIAL CUP B op Hardloopkalender.nl  \nHet loopevenement CROSSTAKEL-TIME-TRIAL CUP B te Den Helder vindt plaats op zondag 04 mei 2014. De loop wordt georganisseerd door LIJFSTIJL Events. Klik hier voor het adres van de start (Google Maps).Bijzonderheden: 1\,1 kilometer\, 17 CROSStakels\, 300+ meter hoogteverschil. \n  \n  \n 
URL:https://hardloopevenementen.com/loopagenda/crosstakel-time-trial-cup-b-den-helder-nh/
END:VEVENT
BEGIN:VEVENT
DTSTART;VALUE=DATE:20130303
DTEND;VALUE=DATE:20130304
DTSTAMP:20260421T152436
CREATED:20110120T184701Z
LAST-MODIFIED:20190423T104437Z
UID:32155-1362268800-1362268800@hardloopevenementen.com
SUMMARY:b o d De Sprinters Voorjaarsloop Bemmel\, gemeente Lingewaard (GE)
DESCRIPTION:Doe mee met het hardloopevenement b o d De Sprinters Voorjaarsloop te Bemmel\, gemeente Lingewaard (GE) op zo 03 mrt 2013. De volgende afstanden staan op het programma: 0\,7 km – 1\,5 km – 5 km – 10 km hardlopen. Wilt u inschrijven voor dit loopevenement?  Raadpleeg hiervoor dan de website van de organisatie\nDe uitslagen van deze hardloopwedstrijd zijn te raadplegen via dezelfde website of via de bekende websites zoals uitslagen.nl\, runtimer en mylaps. Doet u mee met dit evenement\, zorg dan dat u goed voorbereid aan de start staat! Met een goed trainingsschema komt u een heel eind. Train bijvoorbeeld met start to run van Evy Gruyaert. Download de start to run mp3 bestanden en zet ze op uw telefoon. Oortjes in\, hit the play button en en rennen maar! \n\n\n\n\nMeer informatie over b o d De Sprinters Voorjaarsloop op Hardloopkalender.nl  \n4 afstanden: kidsRun (700 m.) – 1\,5 km – 5 km – 10 km. Eerste twee afstanden op de 400 meterbaan\, overige twee over één volle ronde (gecertificeerd geasfalteerd parcours) door het buitengebied van Bemmel. Elke km staat op het parcours aangegeven. \n  \n  \n 
URL:https://hardloopevenementen.com/loopagenda/b-o-d-de-sprinters-voorjaarsloop-bemmel-gemeente-lingewaard-ge/
END:VEVENT
BEGIN:VEVENT
DTSTART;VALUE=DATE:20071110
DTEND;VALUE=DATE:20071111
DTSTAMP:20260421T152436
CREATED:20090919T105345Z
LAST-MODIFIED:20190423T093833Z
UID:170-1194652800-1194652800@hardloopevenementen.com
SUMMARY:B en A Run Monster
DESCRIPTION:Doe mee met het hardloopevenement B en A Run te Monster op za 10 nov 2007. De volgende afstanden staan op het programma: 6\,9 km hardlopen. Wilt u inschrijven voor dit loopevenement?  Raadpleeg hiervoor dan de website van de organisatie\nDe uitslagen van deze hardloopwedstrijd zijn te raadplegen via dezelfde website of via de bekende websites zoals uitslagen.nl\, runtimer en mylaps. Doet u mee met dit evenement\, zorg dan dat u goed voorbereid aan de start staat! Met een goed trainingsschema komt u een heel eind. Train bijvoorbeeld met start to run van Evy Gruyaert. Download de start to run mp3 bestanden en zet ze op uw telefoon. Oortjes in\, hit the play button en en rennen maar! \n\n\n\n\nMeer informatie over B en A Run op Hardloopkalender.nl  \n  \n  \n 
URL:https://hardloopevenementen.com/loopagenda/b-en-a-run-monster/
END:VEVENT
END:VCALENDAR