BEGIN:VCALENDAR
VERSION:2.0
PRODID:-//Hardloopevenementen - ECPv6.15.14//NONSGML v1.0//EN
CALSCALE:GREGORIAN
METHOD:PUBLISH
X-ORIGINAL-URL:https://hardloopevenementen.com
X-WR-CALDESC:Evenementen voor Hardloopevenementen
REFRESH-INTERVAL;VALUE=DURATION:PT1H
X-Robots-Tag:noindex
X-PUBLISHED-TTL:PT1H
BEGIN:VTIMEZONE
TZID:UTC
BEGIN:STANDARD
TZOFFSETFROM:+0000
TZOFFSETTO:+0000
TZNAME:UTC
DTSTART:20060101T000000
END:STANDARD
END:VTIMEZONE
BEGIN:VEVENT
DTSTART;VALUE=DATE:20151119
DTEND;VALUE=DATE:20151120
DTSTAMP:20260422T030955
CREATED:20110728T173201Z
LAST-MODIFIED:20190423T110721Z
UID:9373-1447891200-1447891200@hardloopevenementen.com
SUMMARY:baancross Hac63 Hoogeveen (DR)
DESCRIPTION:Doe mee met het hardloopevenement baancross Hac63 te Hoogeveen (DR) op do 19 nov 2015. De volgende afstanden staan op het programma: 5 km hardlopen. Wilt u inschrijven voor dit loopevenement?  Raadpleeg hiervoor dan de website van de organisatie\nDe uitslagen van deze hardloopwedstrijd zijn te raadplegen via dezelfde website of via de bekende websites zoals uitslagen.nl\, runtimer en mylaps. Doet u mee met dit evenement\, zorg dan dat u goed voorbereid aan de start staat! Met een goed trainingsschema komt u een heel eind. Train bijvoorbeeld met start to run van Evy Gruyaert. Download de start to run mp3 bestanden en zet ze op uw telefoon. Oortjes in\, hit the play button en en rennen maar! \n\n\n\n\nMeer informatie over baancross Hac63 op Hardloopkalender.nl  \nStart 19:45 uur. Inschrijving tot 19.15 uur \n  \n  \n 
URL:https://hardloopevenementen.com/loopagenda/baancross-hac63-hoogeveen-dr/
END:VEVENT
BEGIN:VEVENT
DTSTART;VALUE=DATE:20071129
DTEND;VALUE=DATE:20071130
DTSTAMP:20260422T030955
CREATED:20090124T164714Z
LAST-MODIFIED:20190423T093819Z
UID:115-1196294400-1196294400@hardloopevenementen.com
SUMMARY:Baancross Hoogeveen
DESCRIPTION:Doe mee met het hardloopevenement Baancross te Hoogeveen op do 29 nov 2007. De volgende afstanden staan op het programma: 5 km hardlopen. Wilt u inschrijven voor dit loopevenement?  Raadpleeg hiervoor dan de website van de organisatie\nDe uitslagen van deze hardloopwedstrijd zijn te raadplegen via dezelfde website of via de bekende websites zoals uitslagen.nl\, runtimer en mylaps. Doet u mee met dit evenement\, zorg dan dat u goed voorbereid aan de start staat! Met een goed trainingsschema komt u een heel eind. Train bijvoorbeeld met start to run van Evy Gruyaert. Download de start to run mp3 bestanden en zet ze op uw telefoon. Oortjes in\, hit the play button en en rennen maar! \n\n\n\n\nMeer informatie over Baancross op Hardloopkalender.nl  \n  \n  \n 
URL:https://hardloopevenementen.com/loopagenda/baancross-hoogeveen/
END:VEVENT
END:VCALENDAR