BEGIN:VCALENDAR
VERSION:2.0
PRODID:-//Hardloopevenementen - ECPv6.15.14//NONSGML v1.0//EN
CALSCALE:GREGORIAN
METHOD:PUBLISH
X-WR-CALNAME:Hardloopevenementen
X-ORIGINAL-URL:https://hardloopevenementen.com
X-WR-CALDESC:Evenementen voor Hardloopevenementen
REFRESH-INTERVAL;VALUE=DURATION:PT1H
X-Robots-Tag:noindex
X-PUBLISHED-TTL:PT1H
BEGIN:VTIMEZONE
TZID:UTC
BEGIN:STANDARD
TZOFFSETFROM:+0000
TZOFFSETTO:+0000
TZNAME:UTC
DTSTART:20090101T000000
END:STANDARD
END:VTIMEZONE
BEGIN:VEVENT
DTSTART;VALUE=DATE:20130523
DTEND;VALUE=DATE:20130524
DTSTAMP:20260421T162711
CREATED:20081028T072802Z
LAST-MODIFIED:20190423T104242Z
UID:31717-1369267200-1369267200@hardloopevenementen.com
SUMMARY:Baanwedstrijd Langepad Rotterdam (ZH)
DESCRIPTION:Doe mee met het hardloopevenement Baanwedstrijd Langepad te Rotterdam (ZH) op do 23 mei 2013. De volgende afstanden staan op het programma: 3 km hardlopen. Wilt u inschrijven voor dit loopevenement?  Raadpleeg hiervoor dan de website van de organisatie\nDe uitslagen van deze hardloopwedstrijd zijn te raadplegen via dezelfde website of via de bekende websites zoals uitslagen.nl\, runtimer en mylaps. Doet u mee met dit evenement\, zorg dan dat u goed voorbereid aan de start staat! Met een goed trainingsschema komt u een heel eind. Train bijvoorbeeld met start to run van Evy Gruyaert. Download de start to run mp3 bestanden en zet ze op uw telefoon. Oortjes in\, hit the play button en en rennen maar! \n\n\n\n\nMeer informatie over Baanwedstrijd Langepad op Hardloopkalender.nl  \nHet loopevenement Baanwedstrijd Langepad te Rotterdam vindt plaats op donderdag 23 mei 2013. De loop wordt georganisseerd door PAC. Inschrijven is mogelijk vanaf 15 mei 2013. Klik hier voor het adres van de start (Google Maps).Er is verkleedaccomodatie met douchemogelijkheid aanwezig. Voor meer informatie:Mevr. M. Louwmanm.louwman@planet.nl0102021014http:  www.pacrotterdam.nl \n  \n  \n 
URL:https://hardloopevenementen.com/loopagenda/baanwedstrijd-langepad-rotterdam-zh/
END:VEVENT
BEGIN:VEVENT
DTSTART;VALUE=DATE:20120706
DTEND;VALUE=DATE:20120707
DTSTAMP:20260421T162711
CREATED:20120825T200625Z
LAST-MODIFIED:20190423T103104Z
UID:28042-1341532800-1341532800@hardloopevenementen.com
SUMMARY:Open baanwedstrijd AV Goor Goor\, gemeente Hof van Twente (OV)
DESCRIPTION:Doe mee met het hardloopevenement Open baanwedstrijd AV Goor te Goor\, gemeente Hof van Twente (OV) op vr 06 jul 2012. De volgende afstanden staan op het programma: 0\,4 km – 0\,8 km – 1 km – 1\,5 km – 5 km hardlopen. Wilt u inschrijven voor dit loopevenement?  Raadpleeg hiervoor dan de website van de organisatie\nDe uitslagen van deze hardloopwedstrijd zijn te raadplegen via dezelfde website of via de bekende websites zoals uitslagen.nl\, runtimer en mylaps. Doet u mee met dit evenement\, zorg dan dat u goed voorbereid aan de start staat! Met een goed trainingsschema komt u een heel eind. Train bijvoorbeeld met start to run van Evy Gruyaert. Download de start to run mp3 bestanden en zet ze op uw telefoon. Oortjes in\, hit the play button en en rennen maar! \n\n\n\n\nMeer informatie over Open baanwedstrijd AV Goor op Hardloopkalender.nl  \nDe Open Baanwedstrijd staat\, zoals de naam al zegt\, open voor iedereen. Wedstrijdatleten en trimmers zijn dus allen welkom. De 400\, 800 en 1000 meter zijn jeugdlopen. De 1500 meter heeft een jeugdklassement (15 t m 17 jaar) en een uitslag met volwassenen. Wanneer nodig bestaat de 5000 meter uit een snelle en een minder snelle serie. De loop wordt gehouden op een grasbaan. \n  \n  \n 
URL:https://hardloopevenementen.com/loopagenda/open-baanwedstrijd-av-goor-goor-gemeente-hof-van-twente-ov/
END:VEVENT
BEGIN:VEVENT
DTSTART;VALUE=DATE:20100701
DTEND;VALUE=DATE:20100702
DTSTAMP:20260421T162711
CREATED:20180224T153113Z
LAST-MODIFIED:20190423T101032Z
UID:3960-1277942400-1277942400@hardloopevenementen.com
SUMMARY:5 km baanwedstrijd en coopertest Lelystad (FL)
DESCRIPTION:Doe mee met het hardloopevenement 5 km baanwedstrijd en coopertest te Lelystad (FL) op do 01 jul 2010. De volgende afstanden staan op het programma: 12 min – 5 km hardlopen. Wilt u inschrijven voor dit loopevenement?  Raadpleeg hiervoor dan de website van de organisatie\nDe uitslagen van deze hardloopwedstrijd zijn te raadplegen via dezelfde website of via de bekende websites zoals uitslagen.nl\, runtimer en mylaps. Doet u mee met dit evenement\, zorg dan dat u goed voorbereid aan de start staat! Met een goed trainingsschema komt u een heel eind. Train bijvoorbeeld met start to run van Evy Gruyaert. Download de start to run mp3 bestanden en zet ze op uw telefoon. Oortjes in\, hit the play button en en rennen maar! \n\n\n\n\nMeer informatie over 5 km baanwedstrijd en coopertest op Hardloopkalender.nl  \nOpen 5 km baanwedstrijd en coopertest. U verzekert zich met voorinschrijving van deelname. adviseren om vooraf in te schrijven. Daardoor is het voor de organisatie mogelijk een goed chronoloog te maken. Voorinschrijving  2\,- en (na inschrijving  5\,- maar heeft niet onze voorkeur). Er zijn geen prijzen te verdienen. De coopertesten zullen rond de klok van 18.30 uur aanvangen en de 5 km zal vanaf 19.30 uur plaats vinden. Aktuele informatie kunt u op de website vinden. \n  \n  \n 
URL:https://hardloopevenementen.com/loopagenda/5-km-baanwedstrijd-en-coopertest-lelystad-fl/
END:VEVENT
END:VCALENDAR