BEGIN:VCALENDAR
VERSION:2.0
PRODID:-//Hardloopevenementen - ECPv6.15.14//NONSGML v1.0//EN
CALSCALE:GREGORIAN
METHOD:PUBLISH
X-ORIGINAL-URL:https://hardloopevenementen.com
X-WR-CALDESC:Evenementen voor Hardloopevenementen
REFRESH-INTERVAL;VALUE=DURATION:PT1H
X-Robots-Tag:noindex
X-PUBLISHED-TTL:PT1H
BEGIN:VTIMEZONE
TZID:UTC
BEGIN:STANDARD
TZOFFSETFROM:+0000
TZOFFSETTO:+0000
TZNAME:UTC
DTSTART:20170101T000000
END:STANDARD
END:VTIMEZONE
BEGIN:VEVENT
DTSTART;VALUE=DATE:20200209
DTEND;VALUE=DATE:20200210
DTSTAMP:20260419T145459
CREATED:20070702T194505Z
LAST-MODIFIED:20200206T111525Z
UID:145352-1581206400-1581206400@hardloopevenementen.com
SUMMARY:PAC Ballententstrandloop Hoek van Holland\, gemeente Rotterdam (ZH)
DESCRIPTION:Doe mee met het hardloopevenement PAC Ballententstrandloop te Hoek van Holland\, gemeente Rotterdam (ZH) op zo 09 feb 2020. De volgende afstanden staan op het programma: 5 km – 10 km – 20 km hardlopen. Wilt u inschrijven voor dit loopevenement?  Raadpleeg hiervoor dan de website van de organisatie\nDe uitslagen van deze hardloopwedstrijd zijn te raadplegen via dezelfde website of via de bekende websites zoals uitslagen.nl\, runtimer en mylaps. Doet u mee met dit evenement\, zorg dan dat u goed voorbereid aan de start staat! Met een goed trainingsschema komt u een heel eind. Train bijvoorbeeld met start to run van Evy Gruyaert. Download de start to run mp3 bestanden en zet ze op uw telefoon. Oortjes in\, hit the play button en en rennen maar! \n\n\n\n\nMeer informatie over PAC Ballententstrandloop op Hardloopkalender.nl  \n  \n  \n 
URL:https://hardloopevenementen.com/loopagenda/pac-ballententstrandloop-hoek-van-holland-gemeente-rotterdam-zh/
END:VEVENT
BEGIN:VEVENT
DTSTART;VALUE=DATE:20180204
DTEND;VALUE=DATE:20180205
DTSTAMP:20260419T145459
CREATED:20160208T130449Z
LAST-MODIFIED:20190423T120657Z
UID:17112-1517702400-1517702400@hardloopevenementen.com
SUMMARY:Ballententstrandloop Hoek van Holland\, gemeente Rotterdam (ZH)
DESCRIPTION:Doe mee met het hardloopevenement Ballententstrandloop te Hoek van Holland\, gemeente Rotterdam (ZH) op zo 04 feb 2018. De volgende afstanden staan op het programma: 5 km – 10 km – 20 km hardlopen. Wilt u inschrijven voor dit loopevenement?  Raadpleeg hiervoor dan de website van de organisatie\nDe uitslagen van deze hardloopwedstrijd zijn te raadplegen via dezelfde website of via de bekende websites zoals uitslagen.nl\, runtimer en mylaps. Doet u mee met dit evenement\, zorg dan dat u goed voorbereid aan de start staat! Met een goed trainingsschema komt u een heel eind. Train bijvoorbeeld met start to run van Evy Gruyaert. Download de start to run mp3 bestanden en zet ze op uw telefoon. Oortjes in\, hit the play button en en rennen maar! \n\n\n\n\nMeer informatie over Ballententstrandloop op Hardloopkalender.nl  \nPAC organiseert weer de traditionele strandloop in Hoek van Holland.   Een heerlijke winterse loop\, met na afloop de mogelijkheid lekker aan de snert te gaan. Ongeacht de afstand die gelopen wordt\, je voelt je een held als je deze loop hebt gedaan.            Aanvang: 10.00 uur  Afstanden 5\,10 en 20 km  Parcours Strand keerpunt op 5 km voor de 10 en de 20 km\, en voor de 5 km een keerpunt op de 2\,5 km  Adres: De Globetrotter\, Rechtestraat 24\, 3151 HN Hoek van Holland    Kosten  4\,00    Inschrijven via Inschrijven.nl of ter plaatse \n  \n  \n 
URL:https://hardloopevenementen.com/loopagenda/ballententstrandloop-hoek-van-holland-gemeente-rotterdam-zh/
END:VEVENT
END:VCALENDAR