BEGIN:VCALENDAR
VERSION:2.0
PRODID:-//Hardloopevenementen - ECPv6.15.14//NONSGML v1.0//EN
CALSCALE:GREGORIAN
METHOD:PUBLISH
X-ORIGINAL-URL:https://hardloopevenementen.com
X-WR-CALDESC:Evenementen voor Hardloopevenementen
REFRESH-INTERVAL;VALUE=DURATION:PT1H
X-Robots-Tag:noindex
X-PUBLISHED-TTL:PT1H
BEGIN:VTIMEZONE
TZID:UTC
BEGIN:STANDARD
TZOFFSETFROM:+0000
TZOFFSETTO:+0000
TZNAME:UTC
DTSTART:20170101T000000
END:STANDARD
END:VTIMEZONE
BEGIN:VEVENT
DTSTART;VALUE=DATE:20200927
DTEND;VALUE=DATE:20200928
DTSTAMP:20260423T055816
CREATED:20170823T014038Z
LAST-MODIFIED:20200206T111241Z
UID:144664-1601164800-1601164800@hardloopevenementen.com
SUMMARY:Bargerveentrailrun Weiteveen\, gemeente Emmen (DR)
DESCRIPTION:Doe mee met het hardloopevenement Bargerveentrailrun te Weiteveen\, gemeente Emmen (DR) op zo 27 sep 2020. De volgende afstanden staan op het programma: 8\,5 km – 15 km – 22 km hardlopen. Wilt u inschrijven voor dit loopevenement?  Raadpleeg hiervoor dan de website van de organisatie\nDe uitslagen van deze hardloopwedstrijd zijn te raadplegen via dezelfde website of via de bekende websites zoals uitslagen.nl\, runtimer en mylaps. Doet u mee met dit evenement\, zorg dan dat u goed voorbereid aan de start staat! Met een goed trainingsschema komt u een heel eind. Train bijvoorbeeld met start to run van Evy Gruyaert. Download de start to run mp3 bestanden en zet ze op uw telefoon. Oortjes in\, hit the play button en en rennen maar! \n\n\n\n\nMeer informatie over Bargerveentrailrun op Hardloopkalender.nl  \nNaast trailrunning kun je ook deelnemen aan het onderdeel Canicross of wandelen. \n  \n  \n 
URL:https://hardloopevenementen.com/loopagenda/bargerveentrailrun-weiteveen-gemeente-emmen-dr-2/
END:VEVENT
BEGIN:VEVENT
DTSTART;VALUE=DATE:20180930
DTEND;VALUE=DATE:20181001
DTSTAMP:20260423T055816
CREATED:20161230T202100Z
LAST-MODIFIED:20190423T120229Z
UID:15916-1538265600-1538265600@hardloopevenementen.com
SUMMARY:Bargerveentrailrun Weiteveen\, gemeente Emmen (DR)
DESCRIPTION:Doe mee met het hardloopevenement Bargerveentrailrun te Weiteveen\, gemeente Emmen (DR) op zo 30 sep 2018. De volgende afstanden staan op het programma: 8\,5 km – 15 km – 22 km hardlopen. Wilt u inschrijven voor dit loopevenement?  Raadpleeg hiervoor dan de website van de organisatie\nDe uitslagen van deze hardloopwedstrijd zijn te raadplegen via dezelfde website of via de bekende websites zoals uitslagen.nl\, runtimer en mylaps. Doet u mee met dit evenement\, zorg dan dat u goed voorbereid aan de start staat! Met een goed trainingsschema komt u een heel eind. Train bijvoorbeeld met start to run van Evy Gruyaert. Download de start to run mp3 bestanden en zet ze op uw telefoon. Oortjes in\, hit the play button en en rennen maar! \n\n\n\n\nMeer informatie over Bargerveentrailrun op Hardloopkalender.nl  \nEen trailrun georganiseerd door Loopgroep Klazienaveen.  De trail loopt door het prachtige en unieke natuurgebied Bargerveen. \n  \n  \n 
URL:https://hardloopevenementen.com/loopagenda/bargerveentrailrun-weiteveen-gemeente-emmen-dr/
END:VEVENT
END:VCALENDAR