BEGIN:VCALENDAR
VERSION:2.0
PRODID:-//Hardloopevenementen - ECPv6.15.14//NONSGML v1.0//EN
CALSCALE:GREGORIAN
METHOD:PUBLISH
X-WR-CALNAME:Hardloopevenementen
X-ORIGINAL-URL:https://hardloopevenementen.com
X-WR-CALDESC:Evenementen voor Hardloopevenementen
REFRESH-INTERVAL;VALUE=DURATION:PT1H
X-Robots-Tag:noindex
X-PUBLISHED-TTL:PT1H
BEGIN:VTIMEZONE
TZID:UTC
BEGIN:STANDARD
TZOFFSETFROM:+0000
TZOFFSETTO:+0000
TZNAME:UTC
DTSTART:20110101T000000
END:STANDARD
END:VTIMEZONE
BEGIN:VEVENT
DTSTART;VALUE=DATE:20120708
DTEND;VALUE=DATE:20120709
DTSTAMP:20260424T154633
CREATED:20090416T165100Z
LAST-MODIFIED:20190423T103100Z
UID:28030-1341705600-1341705600@hardloopevenementen.com
SUMMARY:Helden Race ten bate van Fight cancer Amsterdam (NH)
DESCRIPTION:Doe mee met het hardloopevenement Helden Race ten bate van Fight cancer te Amsterdam (NH) op zo 08 jul 2012. De volgende afstanden staan op het programma: 6 km hardlopen. Wilt u inschrijven voor dit loopevenement?  Raadpleeg hiervoor dan de website van de organisatie\nDe uitslagen van deze hardloopwedstrijd zijn te raadplegen via dezelfde website of via de bekende websites zoals uitslagen.nl\, runtimer en mylaps. Doet u mee met dit evenement\, zorg dan dat u goed voorbereid aan de start staat! Met een goed trainingsschema komt u een heel eind. Train bijvoorbeeld met start to run van Evy Gruyaert. Download de start to run mp3 bestanden en zet ze op uw telefoon. Oortjes in\, hit the play button en en rennen maar! \n\n\n\n\nMeer informatie over Helden Race ten bate van Fight cancer op Hardloopkalender.nl  \nDe Helden Race wordt ook gehouden in Eindhoven op 17 juni en in Den Haag op 30 september.  Loop voor het goede doel Fight cancer\, het jongerenlabel van KWF Kankerbestrijding.  Love Life. Fight cancer. \n  \n  \n 
URL:https://hardloopevenementen.com/loopagenda/helden-race-ten-bate-van-fight-cancer-amsterdam-nh/
END:VEVENT
END:VCALENDAR