BEGIN:VCALENDAR
VERSION:2.0
PRODID:-//Hardloopevenementen - ECPv6.15.14//NONSGML v1.0//EN
CALSCALE:GREGORIAN
METHOD:PUBLISH
X-ORIGINAL-URL:https://hardloopevenementen.com
X-WR-CALDESC:Evenementen voor Hardloopevenementen
REFRESH-INTERVAL;VALUE=DURATION:PT1H
X-Robots-Tag:noindex
X-PUBLISHED-TTL:PT1H
BEGIN:VTIMEZONE
TZID:UTC
BEGIN:STANDARD
TZOFFSETFROM:+0000
TZOFFSETTO:+0000
TZNAME:UTC
DTSTART:20150101T000000
END:STANDARD
END:VTIMEZONE
BEGIN:VEVENT
DTSTART;VALUE=DATE:20200509
DTEND;VALUE=DATE:20200510
DTSTAMP:20260421T000854
CREATED:20070625T074714Z
LAST-MODIFIED:20200206T111403Z
UID:145014-1588982400-1588982400@hardloopevenementen.com
SUMMARY:30e BAX 5x5 estafetteloop Doetinchem (GE)
DESCRIPTION:Doe mee met het hardloopevenement 30e BAX 5×5 estafetteloop te Doetinchem (GE) op za 09 mei 2020. De volgende afstanden staan op het programma: 1 km – 5 km hardlopen. Wilt u inschrijven voor dit loopevenement?  Raadpleeg hiervoor dan de website van de organisatie\nDe uitslagen van deze hardloopwedstrijd zijn te raadplegen via dezelfde website of via de bekende websites zoals uitslagen.nl\, runtimer en mylaps. Doet u mee met dit evenement\, zorg dan dat u goed voorbereid aan de start staat! Met een goed trainingsschema komt u een heel eind. Train bijvoorbeeld met start to run van Evy Gruyaert. Download de start to run mp3 bestanden en zet ze op uw telefoon. Oortjes in\, hit the play button en en rennen maar! \n\n\n\n\nMeer informatie over 30e BAX 5×5 estafetteloop op Hardloopkalender.nl  \n  \n  \n 
URL:https://hardloopevenementen.com/loopagenda/30e-bax-5x5-estafetteloop-doetinchem-ge/
END:VEVENT
BEGIN:VEVENT
DTSTART;VALUE=DATE:20190511
DTEND;VALUE=DATE:20190512
DTSTAMP:20260421T000854
CREATED:20090519T115816Z
LAST-MODIFIED:20191114T112640Z
UID:43737-1557532800-1557532800@hardloopevenementen.com
SUMMARY:BAX 5x5 Estafetteloop Doetinchem (GE)
DESCRIPTION:Doe mee met het hardloopevenement BAX 5×5 Estafetteloop te Doetinchem (GE) op za 11 mei 2019. De volgende afstanden staan op het programma: 1 km – 5 km hardlopen. Wilt u inschrijven voor dit loopevenement?  Raadpleeg hiervoor dan de website van de organisatie\nDe uitslagen van deze hardloopwedstrijd zijn te raadplegen via dezelfde website of via de bekende websites zoals uitslagen.nl\, runtimer en mylaps. Doet u mee met dit evenement\, zorg dan dat u goed voorbereid aan de start staat! Met een goed trainingsschema komt u een heel eind. Train bijvoorbeeld met start to run van Evy Gruyaert. Download de start to run mp3 bestanden en zet ze op uw telefoon. Oortjes in\, hit the play button en en rennen maar! \n\n\n\n\nMeer informatie over BAX 5×5 Estafetteloop op Hardloopkalender.nl  \nEstafetteloop. Teams van 5 personen lopen ieder 1 km of 5 km. \n  \n  \n 
URL:https://hardloopevenementen.com/loopagenda/bax-5x5-estafetteloop-doetinchem-ge/
END:VEVENT
BEGIN:VEVENT
DTSTART;VALUE=DATE:20180512
DTEND;VALUE=DATE:20180513
DTSTAMP:20260421T000854
CREATED:20180216T145715Z
LAST-MODIFIED:20190423T120508Z
UID:16624-1526083200-1526083200@hardloopevenementen.com
SUMMARY:BAX 5x5 estafette ARGO Atletiek Doetinchem (GE)
DESCRIPTION:Doe mee met het hardloopevenement BAX 5×5 estafette ARGO Atletiek te Doetinchem (GE) op za 12 mei 2018. De volgende afstanden staan op het programma: 1 km – 5 km hardlopen. Wilt u inschrijven voor dit loopevenement?  Raadpleeg hiervoor dan de website van de organisatie\nDe uitslagen van deze hardloopwedstrijd zijn te raadplegen via dezelfde website of via de bekende websites zoals uitslagen.nl\, runtimer en mylaps. Doet u mee met dit evenement\, zorg dan dat u goed voorbereid aan de start staat! Met een goed trainingsschema komt u een heel eind. Train bijvoorbeeld met start to run van Evy Gruyaert. Download de start to run mp3 bestanden en zet ze op uw telefoon. Oortjes in\, hit the play button en en rennen maar! \n\n\n\n\nMeer informatie over BAX 5×5 estafette ARGO Atletiek op Hardloopkalender.nl  \nMet een estafette-team van 5 lopers wordt totaal 25 km of 5 km gelopen. \n  \n  \n 
URL:https://hardloopevenementen.com/loopagenda/bax-5x5-estafette-argo-atletiek-doetinchem-ge/
END:VEVENT
BEGIN:VEVENT
DTSTART;VALUE=DATE:20180512
DTEND;VALUE=DATE:20180513
DTSTAMP:20260421T000854
CREATED:20091001T162930Z
LAST-MODIFIED:20190423T120507Z
UID:16621-1526083200-1526083200@hardloopevenementen.com
SUMMARY:28e BAX 5x5 estafetteloop Doetinchem (GE)
DESCRIPTION:Doe mee met het hardloopevenement 28e BAX 5×5 estafetteloop te Doetinchem (GE) op za 12 mei 2018. De volgende afstanden staan op het programma: 1 km – 5 km hardlopen. Wilt u inschrijven voor dit loopevenement?  Raadpleeg hiervoor dan de website van de organisatie\nDe uitslagen van deze hardloopwedstrijd zijn te raadplegen via dezelfde website of via de bekende websites zoals uitslagen.nl\, runtimer en mylaps. Doet u mee met dit evenement\, zorg dan dat u goed voorbereid aan de start staat! Met een goed trainingsschema komt u een heel eind. Train bijvoorbeeld met start to run van Evy Gruyaert. Download de start to run mp3 bestanden en zet ze op uw telefoon. Oortjes in\, hit the play button en en rennen maar! \n\n\n\n\nMeer informatie over 28e BAX 5×5 estafetteloop op Hardloopkalender.nl  \n  \n  \n 
URL:https://hardloopevenementen.com/loopagenda/28e-bax-5x5-estafetteloop-doetinchem-ge/
END:VEVENT
BEGIN:VEVENT
DTSTART;VALUE=DATE:20160514
DTEND;VALUE=DATE:20160515
DTSTAMP:20260421T000854
CREATED:20131120T024228Z
LAST-MODIFIED:20190423T112524Z
UID:12789-1463184000-1463184000@hardloopevenementen.com
SUMMARY:26e BAX 5 x 5 estafetteloop Doetinchem (GE)
DESCRIPTION:Doe mee met het hardloopevenement 26e BAX 5 x 5 estafetteloop te Doetinchem (GE) op za 14 mei 2016. De volgende afstanden staan op het programma: 1 km – 1\,2 km – 2\,5 km – 5 km – 5\,2 km – 10 km hardlopen. Wilt u inschrijven voor dit loopevenement?  Raadpleeg hiervoor dan de website van de organisatie\nDe uitslagen van deze hardloopwedstrijd zijn te raadplegen via dezelfde website of via de bekende websites zoals uitslagen.nl\, runtimer en mylaps. Doet u mee met dit evenement\, zorg dan dat u goed voorbereid aan de start staat! Met een goed trainingsschema komt u een heel eind. Train bijvoorbeeld met start to run van Evy Gruyaert. Download de start to run mp3 bestanden en zet ze op uw telefoon. Oortjes in\, hit the play button en en rennen maar! \n\n\n\n\nMeer informatie over 26e BAX 5 x 5 estafetteloop op Hardloopkalender.nl  \nHet loopevenement 26e BAX 5 x 5 estafetteloop te Doetinchem vindt plaats op zaterdag 14 mei 2016. \n  \n  \n 
URL:https://hardloopevenementen.com/loopagenda/26e-bax-5-x-5-estafetteloop-doetinchem-ge/
END:VEVENT
END:VCALENDAR