BEGIN:VCALENDAR
VERSION:2.0
PRODID:-//Hardloopevenementen - ECPv6.15.14//NONSGML v1.0//EN
CALSCALE:GREGORIAN
METHOD:PUBLISH
X-ORIGINAL-URL:https://hardloopevenementen.com
X-WR-CALDESC:Evenementen voor Hardloopevenementen
REFRESH-INTERVAL;VALUE=DURATION:PT1H
X-Robots-Tag:noindex
X-PUBLISHED-TTL:PT1H
BEGIN:VTIMEZONE
TZID:UTC
BEGIN:STANDARD
TZOFFSETFROM:+0000
TZOFFSETTO:+0000
TZNAME:UTC
DTSTART:20060101T000000
END:STANDARD
END:VTIMEZONE
BEGIN:VEVENT
DTSTART;VALUE=DATE:20180331
DTEND;VALUE=DATE:20180401
DTSTAMP:20260423T222201
CREATED:20140629T185614Z
LAST-MODIFIED:20190423T120600Z
UID:16859-1522454400-1522454400@hardloopevenementen.com
SUMMARY:Bedrijvenloop Franeker Franeker\, gemeente Franekeradeel (FR)
DESCRIPTION:Doe mee met het hardloopevenement Bedrijvenloop Franeker te Franeker\, gemeente Franekeradeel (FR) op za 31 mrt 2018. De volgende afstanden staan op het programma: 5\,5 km hardlopen. Wilt u inschrijven voor dit loopevenement?  Raadpleeg hiervoor dan de website van de organisatie\nDe uitslagen van deze hardloopwedstrijd zijn te raadplegen via dezelfde website of via de bekende websites zoals uitslagen.nl\, runtimer en mylaps. Doet u mee met dit evenement\, zorg dan dat u goed voorbereid aan de start staat! Met een goed trainingsschema komt u een heel eind. Train bijvoorbeeld met start to run van Evy Gruyaert. Download de start to run mp3 bestanden en zet ze op uw telefoon. Oortjes in\, hit the play button en en rennen maar! \n\n\n\n\nMeer informatie over Bedrijvenloop Franeker op Hardloopkalender.nl  \nOp zaterdag 31 maart 2018 wordt in Franeker een eenmalig en uniek loopevenement (5.5 km) georganiseerd op en om het bedrijventerrein van Kie voor bedrijven die zich vestigen in en rondom Franeker.     Doe samen met je collegas mee aan de Bedrijvenloop! Gewoon gezellig samenlopen met collegas of samen strijden voor de titel Snelst lopend bedrijf Franeker 2018.     Vorm namens jouw bedrijf een team van 3-5 personen en loop mee! Inschrijven is mogelijk tot uiterlijk 19 maart via bedrijvenloopfraneker@gmail.com  Inschrijfgeld per bedrijventeam: 150\,- (tweede team 100\,-)     Meedoen aan de bedrijvenloop is natuurlijk fantastisch\, maar daarbij komt dat deze loop niet zonder reden georganiseerd wordt\, met de loop wordt namelijk geld ingezameld voor de Muskathlon waaraan de initiatiefnemer van deze loop (Nynke de Jong) in oktober 2018 zal deelnemen.    Een Muskathlon is een ultieme uitdaging op een extreme locatie om maximale fondsen te werven om extreme armoede tegen te gaan.   	De ultieme uitdaging op een extreme locatie: dat is 42 kilometer hardlopen op het eiland Sumba in Indonesië\, een gebied waar extreme armoede heerst. Dit is wat ik ga doen in oktober 2018.  	De maximale fondsen: dat is het sponsorbedrag van 10.000\,- wat ik voor mijn deelname moet inzamelen. Dit sponsorgeld komt ten goede aan Compassion\, een kind-hulporganisatie die zich wereldwijd inzet om kinderen van armoede te bevrijden.  De organisatie heeft in 25 landen projecten\, waarin zij kinderen o.a. voorzien van onderwijs\, voeding en (medische)zorg.     Het gehele inschrijfgeld komt ten goede aan het hierboven genoemde doel.       Meer info: www.facebook.com BedrijvenloopFraneker  info \n  \n  \n 
URL:https://hardloopevenementen.com/loopagenda/bedrijvenloop-franeker-franeker-gemeente-franekeradeel-fr/
END:VEVENT
BEGIN:VEVENT
DTSTART;VALUE=DATE:20120907
DTEND;VALUE=DATE:20120908
DTSTAMP:20260423T222201
CREATED:20170925T141823Z
LAST-MODIFIED:20190423T102946Z
UID:7795-1346976000-1346976000@hardloopevenementen.com
SUMMARY:16e WEA bedrijvenloop Goes (ZE)
DESCRIPTION:Doe mee met het hardloopevenement 16e WEA bedrijvenloop te Goes (ZE) op vr 07 sep 2012. De volgende afstanden staan op het programma: 7\,8 km hardlopen. Wilt u inschrijven voor dit loopevenement?  Raadpleeg hiervoor dan de website van de organisatie\nDe uitslagen van deze hardloopwedstrijd zijn te raadplegen via dezelfde website of via de bekende websites zoals uitslagen.nl\, runtimer en mylaps. Doet u mee met dit evenement\, zorg dan dat u goed voorbereid aan de start staat! Met een goed trainingsschema komt u een heel eind. Train bijvoorbeeld met start to run van Evy Gruyaert. Download de start to run mp3 bestanden en zet ze op uw telefoon. Oortjes in\, hit the play button en en rennen maar! \n\n\n\n\nMeer informatie over 16e WEA bedrijvenloop op Hardloopkalender.nl  \nHet loopevenement 16e WEA bedrijvenloop te Goes vindt plaats op vrijdag 14 september 2012. De loop wordt georganiseerd door AV `56. Inschrijven is mogelijk vanaf 14 augustus 2012. Klik hier voor het adres van de start (Google Maps).Er is EHBO aanwezig. Afstand SoortloopInschrijfgeldStarttijdInfo7.8 km5\,0019.30Voor meer informatie:Wim de Jongemdejonge1@zeelandnet.nl0113311031http:  www.av56.nl \n  \n  \n 
URL:https://hardloopevenementen.com/loopagenda/16e-wea-bedrijvenloop-goes-ze/
END:VEVENT
BEGIN:VEVENT
DTSTART;VALUE=DATE:20110916
DTEND;VALUE=DATE:20110917
DTSTAMP:20260423T222201
CREATED:20110723T121005Z
LAST-MODIFIED:20190423T101848Z
UID:6337-1316131200-1316131200@hardloopevenementen.com
SUMMARY:15e WEA bedrijvenloop Goes (ZE)
DESCRIPTION:Doe mee met het hardloopevenement 15e WEA bedrijvenloop te Goes (ZE) op vr 16 sep 2011. De volgende afstanden staan op het programma: 7\,8 km hardlopen. Wilt u inschrijven voor dit loopevenement?  Raadpleeg hiervoor dan de website van de organisatie\nDe uitslagen van deze hardloopwedstrijd zijn te raadplegen via dezelfde website of via de bekende websites zoals uitslagen.nl\, runtimer en mylaps. Doet u mee met dit evenement\, zorg dan dat u goed voorbereid aan de start staat! Met een goed trainingsschema komt u een heel eind. Train bijvoorbeeld met start to run van Evy Gruyaert. Download de start to run mp3 bestanden en zet ze op uw telefoon. Oortjes in\, hit the play button en en rennen maar! \n\n\n\n\nMeer informatie over 15e WEA bedrijvenloop op Hardloopkalender.nl  \nHet loopevenement 15e WEA bedrijvenloop te Goes vindt plaats op vrijdag 16 september 2011. De loop wordt georganiseerd door AV `56. Inschrijven is mogelijk vanaf 20 augustus 2010. Klik hier voor het adres van de start (Google Maps).Er is verkleedaccomodatie met douchemogelijkheid aanwezig. Er is EHBO aanwezig. Afstand(km)Inschrijfgeld(€)Starttijd7\,8€5\,0019.30Voor meer informatie:Wim de Jongemdejonge1@zeelandnet.nl0113311031http:  www.av56.nl \n  \n  \n 
URL:https://hardloopevenementen.com/loopagenda/15e-wea-bedrijvenloop-goes-ze-2/
END:VEVENT
BEGIN:VEVENT
DTSTART;VALUE=DATE:20100917
DTEND;VALUE=DATE:20100918
DTSTAMP:20260423T222201
CREATED:20131109T181719Z
LAST-MODIFIED:20190423T100843Z
UID:3606-1284681600-1284681600@hardloopevenementen.com
SUMMARY:15e WEA bedrijvenloop Goes (ZE)
DESCRIPTION:Doe mee met het hardloopevenement 15e WEA bedrijvenloop te Goes (ZE) op vr 17 sep 2010. De volgende afstanden staan op het programma: 1\,9 km – 7\,8 km hardlopen. Wilt u inschrijven voor dit loopevenement?  Raadpleeg hiervoor dan de website van de organisatie\nDe uitslagen van deze hardloopwedstrijd zijn te raadplegen via dezelfde website of via de bekende websites zoals uitslagen.nl\, runtimer en mylaps. Doet u mee met dit evenement\, zorg dan dat u goed voorbereid aan de start staat! Met een goed trainingsschema komt u een heel eind. Train bijvoorbeeld met start to run van Evy Gruyaert. Download de start to run mp3 bestanden en zet ze op uw telefoon. Oortjes in\, hit the play button en en rennen maar! \n\n\n\n\nMeer informatie over 15e WEA bedrijvenloop op Hardloopkalender.nl  \nDit loopevenement wordt georganiseerd door AV `56.De eerste afstand (of onderdeel) start om 19:30.Het adres van de start is Grote Markt 1 Het adres van de finish is Grote markt 1Categorie(ën): mannen\, jeugdVooraf inschrijven is mogelijk vanaf 28 oktober 2009 tot niet van toepassing.Inschrijven op de dag van de loop is mogelijk (vanaf onbekend) op dit adres: onbekend.Meer informatie:Contactpersoon: Wim de JongeTel.: 0113311031Email: mdejonge1@zeelandnet.nlEr is een kleedaccomodatie aanwezig. Douchen is mogelijk.Het parcours is verhard.Overige bijzonderheden:  Parcours bestaat uit meerdere rondes. Eerder uitstappen mogelijk. \n  \n  \n 
URL:https://hardloopevenementen.com/loopagenda/15e-wea-bedrijvenloop-goes-ze/
END:VEVENT
BEGIN:VEVENT
DTSTART;VALUE=DATE:20090918
DTEND;VALUE=DATE:20090919
DTSTAMP:20260423T222201
CREATED:20180717T060552Z
LAST-MODIFIED:20190423T095849Z
UID:1788-1253232000-1253232000@hardloopevenementen.com
SUMMARY:WEA bedrijvenloop Goes (ZE)
DESCRIPTION:Doe mee met het hardloopevenement WEA bedrijvenloop te Goes (ZE) op vr 18 sep 2009. De volgende afstanden staan op het programma: 7\,6 km hardlopen. Wilt u inschrijven voor dit loopevenement?  Raadpleeg hiervoor dan de website van de organisatie\nDe uitslagen van deze hardloopwedstrijd zijn te raadplegen via dezelfde website of via de bekende websites zoals uitslagen.nl\, runtimer en mylaps. Doet u mee met dit evenement\, zorg dan dat u goed voorbereid aan de start staat! Met een goed trainingsschema komt u een heel eind. Train bijvoorbeeld met start to run van Evy Gruyaert. Download de start to run mp3 bestanden en zet ze op uw telefoon. Oortjes in\, hit the play button en en rennen maar! \n\n\n\n\nMeer informatie over WEA bedrijvenloop op Hardloopkalender.nl  \n7\,6 km 19:30 uur \n  \n  \n 
URL:https://hardloopevenementen.com/loopagenda/wea-bedrijvenloop-goes-ze/
END:VEVENT
BEGIN:VEVENT
DTSTART;VALUE=DATE:20080919
DTEND;VALUE=DATE:20080920
DTSTAMP:20260423T222201
CREATED:20090821T233237Z
LAST-MODIFIED:20190423T094521Z
UID:19166-1221782400-1221782400@hardloopevenementen.com
SUMMARY:WEA bedrijvenloop Goes
DESCRIPTION:Doe mee met het hardloopevenement WEA bedrijvenloop te Goes op vr 19 sep 2008. De volgende afstanden staan op het programma: 7\,6 km hardlopen. Wilt u inschrijven voor dit loopevenement?  Raadpleeg hiervoor dan de website van de organisatie\nDe uitslagen van deze hardloopwedstrijd zijn te raadplegen via dezelfde website of via de bekende websites zoals uitslagen.nl\, runtimer en mylaps. Doet u mee met dit evenement\, zorg dan dat u goed voorbereid aan de start staat! Met een goed trainingsschema komt u een heel eind. Train bijvoorbeeld met start to run van Evy Gruyaert. Download de start to run mp3 bestanden en zet ze op uw telefoon. Oortjes in\, hit the play button en en rennen maar! \n\n\n\n\nMeer informatie over WEA bedrijvenloop op Hardloopkalender.nl  \nstart 7\,6 km 19:30 uur \n  \n  \n 
URL:https://hardloopevenementen.com/loopagenda/wea-bedrijvenloop-goes-2/
END:VEVENT
BEGIN:VEVENT
DTSTART;VALUE=DATE:20080203
DTEND;VALUE=DATE:20080204
DTSTAMP:20260423T222201
CREATED:20161201T201353Z
LAST-MODIFIED:20190423T094923Z
UID:20224-1201996800-1201996800@hardloopevenementen.com
SUMMARY:Bedrijvenloop midwintermarathon Apeldoorn
DESCRIPTION:Doe mee met het hardloopevenement Bedrijvenloop midwintermarathon te Apeldoorn op zo 03 feb 2008. De volgende afstanden staan op het programma: 8 km – 18\,5 km – 27\,5 km hardlopen. Wilt u inschrijven voor dit loopevenement?  Raadpleeg hiervoor dan de website van de organisatie\nDe uitslagen van deze hardloopwedstrijd zijn te raadplegen via dezelfde website of via de bekende websites zoals uitslagen.nl\, runtimer en mylaps. Doet u mee met dit evenement\, zorg dan dat u goed voorbereid aan de start staat! Met een goed trainingsschema komt u een heel eind. Train bijvoorbeeld met start to run van Evy Gruyaert. Download de start to run mp3 bestanden en zet ze op uw telefoon. Oortjes in\, hit the play button en en rennen maar! \n\n\n\n\nMeer informatie over Bedrijvenloop midwintermarathon op Hardloopkalender.nl  \nMaak je collegas enthousiast en doe mee met de Bedrijvenloop van de Centraal Beheer Achmea Midwinter Marathon op zondag 3 februari! Of je nu kiest voor hele marathon of voor de Acht van Apeldoorn\, een ding is zeker: je loopt met je collegas door de prachtige omgeving van Apeldoorn. Heb je sportieve collegas of wil je als werkgever je relaties laten meelopen\, schrijf dan in op de Bedrijvenloop. Inschrijving vindt plaats per team. Een team bestaat uit minimaal 3 en maximaal 5 personen.     Voor de Bedrijvenloop kan je je inschrijven op drie afstanden: de Helicon Asselronde van 27\,5 km\, de Hollander Techniek Mini-Marathon van 18\,5 km en de Acht van Apeldoorn van 8 km.          Er zijn enkele regels voor de Bedrijvenloop    Elk team doet mee aan één afstand;     Een team kan bestaan uit dames en heren;     De uitslag van de Bedrijvenloop wordt vastgelegd in een apart klassement;     De som van de tijden van de drie snelste lopers per team bepaalt de plaats in het klassement. Het team met de laagste tijd wint. De tijdwaarneming geschiedt d.m.v. de Championchip. Deze is verplicht en wordt gratis in bruikleen gegeven door de MM.          Wat bieden wij de deelnemers van de Bedrijvenloop?    Championchip gratis in bruikleen;     Herinneringsshirt voor alle deelnemende lopers en loopsters;     Voor elk teamlid een groepsfoto van de deelnemers van het bedrijf;     Opname in Bedrijvenloop klassement;     Herinnering voor alle teamleden van het winnende team;     Aparte kleedruimte voor de teams van de Bedrijvenloop.          Prijzen deelname:    1 team inschrijven:  250\,-     vanaf 2 teams inschrijven:  175\,- per team.          Wil je je aanmelden voor de Bedrijvenloop stuur dan een mailtje naar info@midwintermarathon.nl en ontvang informatie hoe je je kan inschrijven. \n  \n  \n 
URL:https://hardloopevenementen.com/loopagenda/bedrijvenloop-midwintermarathon-apeldoorn/
END:VEVENT
BEGIN:VEVENT
DTSTART;VALUE=DATE:20070921
DTEND;VALUE=DATE:20070922
DTSTAMP:20260423T222201
CREATED:20071215T165219Z
LAST-MODIFIED:20190423T093903Z
UID:298-1190332800-1190332800@hardloopevenementen.com
SUMMARY:WEA bedrijvenloop Goes
DESCRIPTION:Doe mee met het hardloopevenement WEA bedrijvenloop te Goes op vr 21 sep 2007. De volgende afstanden staan op het programma: 7\,6 km hardlopen. Wilt u inschrijven voor dit loopevenement?  Raadpleeg hiervoor dan de website van de organisatie\nDe uitslagen van deze hardloopwedstrijd zijn te raadplegen via dezelfde website of via de bekende websites zoals uitslagen.nl\, runtimer en mylaps. Doet u mee met dit evenement\, zorg dan dat u goed voorbereid aan de start staat! Met een goed trainingsschema komt u een heel eind. Train bijvoorbeeld met start to run van Evy Gruyaert. Download de start to run mp3 bestanden en zet ze op uw telefoon. Oortjes in\, hit the play button en en rennen maar! \n\n\n\n\nMeer informatie over WEA bedrijvenloop op Hardloopkalender.nl  \n  \n  \n 
URL:https://hardloopevenementen.com/loopagenda/wea-bedrijvenloop-goes/
END:VEVENT
END:VCALENDAR