BEGIN:VCALENDAR
VERSION:2.0
PRODID:-//Hardloopevenementen - ECPv6.15.14//NONSGML v1.0//EN
CALSCALE:GREGORIAN
METHOD:PUBLISH
X-WR-CALNAME:Hardloopevenementen
X-ORIGINAL-URL:https://hardloopevenementen.com
X-WR-CALDESC:Evenementen voor Hardloopevenementen
REFRESH-INTERVAL;VALUE=DURATION:PT1H
X-Robots-Tag:noindex
X-PUBLISHED-TTL:PT1H
BEGIN:VTIMEZONE
TZID:UTC
BEGIN:STANDARD
TZOFFSETFROM:+0000
TZOFFSETTO:+0000
TZNAME:UTC
DTSTART:20150101T000000
END:STANDARD
END:VTIMEZONE
BEGIN:VEVENT
DTSTART;VALUE=DATE:20160424
DTEND;VALUE=DATE:20160425
DTSTAMP:20260421T234719
CREATED:20140501T144132Z
LAST-MODIFIED:20190423T112544Z
UID:12882-1461456000-1461456000@hardloopevenementen.com
SUMMARY:Zandverstuiving Trailrun Beekhuizerzand Nunspeet (GE)
DESCRIPTION:Doe mee met het hardloopevenement Zandverstuiving Trailrun Beekhuizerzand te Nunspeet (GE) op zo 24 apr 2016. De volgende afstanden staan op het programma: 15 km – 10 Engelse mijl – 17 km hardlopen. Wilt u inschrijven voor dit loopevenement?  Raadpleeg hiervoor dan de website van de organisatie\nDe uitslagen van deze hardloopwedstrijd zijn te raadplegen via dezelfde website of via de bekende websites zoals uitslagen.nl\, runtimer en mylaps. Doet u mee met dit evenement\, zorg dan dat u goed voorbereid aan de start staat! Met een goed trainingsschema komt u een heel eind. Train bijvoorbeeld met start to run van Evy Gruyaert. Download de start to run mp3 bestanden en zet ze op uw telefoon. Oortjes in\, hit the play button en en rennen maar! \n\n\n\n\nMeer informatie over Zandverstuiving Trailrun Beekhuizerzand op Hardloopkalender.nl  \nZandverstuiving trailrun zondag 24 April 2016    Misschien wel de mooiste trail van het programma. Wil je eens helemaal stuk gaan op de zandduinen van de zandverstuiving op de Veluwe dan moet je deze trailrun zeker meemaken! De organisatie is mede dankzij Trailrunning Veluwe mogelijk gemaakt. De loop is bijzonder omdat we ongeveer de helft van de tijd dwars door het zand lopen. Enkele zandduinen zijn werkelijk steil omhoog. Dit betekent dat je met enkelen hardloop sprongen ook weer beneden bent! Dit moet je meemaken vooral als je van crosslopen of trailrunning houdt. Doordat we in een groep lopen is het van belang dat je rekening houd met je hardloopmaatjes. Snelheid indicatie voor deelnemers: de halve marathon in 1 uur en 50 minuten. \n  \n  \n 
URL:https://hardloopevenementen.com/loopagenda/zandverstuiving-trailrun-beekhuizerzand-nunspeet-ge/
END:VEVENT
END:VCALENDAR