BEGIN:VCALENDAR
VERSION:2.0
PRODID:-//Hardloopevenementen - ECPv6.15.14//NONSGML v1.0//EN
CALSCALE:GREGORIAN
METHOD:PUBLISH
X-ORIGINAL-URL:https://hardloopevenementen.com
X-WR-CALDESC:Evenementen voor Hardloopevenementen
REFRESH-INTERVAL;VALUE=DURATION:PT1H
X-Robots-Tag:noindex
X-PUBLISHED-TTL:PT1H
BEGIN:VTIMEZONE
TZID:UTC
BEGIN:STANDARD
TZOFFSETFROM:+0000
TZOFFSETTO:+0000
TZNAME:UTC
DTSTART:20110101T000000
END:STANDARD
END:VTIMEZONE
BEGIN:VEVENT
DTSTART;VALUE=DATE:20160508
DTEND;VALUE=DATE:20160509
DTSTAMP:20260423T072225
CREATED:20110214T070950Z
LAST-MODIFIED:20190423T112529Z
UID:12814-1462665600-1462665600@hardloopevenementen.com
SUMMARY:Beemster Erfgoed Marathon Middenbeemster\, gemeente Beemster (NH)
DESCRIPTION:Doe mee met het hardloopevenement Beemster Erfgoed Marathon te Middenbeemster\, gemeente Beemster (NH) op zo 08 mei 2016. De volgende afstanden staan op het programma: halve marathon – marathon hardlopen. Wilt u inschrijven voor dit loopevenement?  Raadpleeg hiervoor dan de website van de organisatie\nDe uitslagen van deze hardloopwedstrijd zijn te raadplegen via dezelfde website of via de bekende websites zoals uitslagen.nl\, runtimer en mylaps. Doet u mee met dit evenement\, zorg dan dat u goed voorbereid aan de start staat! Met een goed trainingsschema komt u een heel eind. Train bijvoorbeeld met start to run van Evy Gruyaert. Download de start to run mp3 bestanden en zet ze op uw telefoon. Oortjes in\, hit the play button en en rennen maar! \n\n\n\n\nMeer informatie over Beemster Erfgoed Marathon op Hardloopkalender.nl  \nDeze marathon loop en fiets je samen met je maatje. Je legt samen een halve of een hele marathon af. Onderweg wissel je elkaar af\, de een fietst\, de ander loopt.    Onderweg vermaken wij je met een mooie Beemster polder\, heerlijke hapjes uit de regio en diverse aan muzikaal entertainment. Na afloop geniet je van een heerlijk warme hottub en een welverdiend glaasje bubbels. \n  \n  \n 
URL:https://hardloopevenementen.com/loopagenda/beemster-erfgoed-marathon-middenbeemster-gemeente-beemster-nh/
END:VEVENT
BEGIN:VEVENT
DTSTART;VALUE=DATE:20150510
DTEND;VALUE=DATE:20150511
DTSTAMP:20260423T072225
CREATED:20171003T211414Z
LAST-MODIFIED:20190423T111229Z
UID:10511-1431216000-1431216000@hardloopevenementen.com
SUMMARY:Beemster Erfgoed Marathon Zuidoostbeemster\, gemeente Beemster (NH)
DESCRIPTION:Doe mee met het hardloopevenement Beemster Erfgoed Marathon te Zuidoostbeemster\, gemeente Beemster (NH) op zo 10 mei 2015. De volgende afstanden staan op het programma: halve marathon – marathon hardlopen. Wilt u inschrijven voor dit loopevenement?  Raadpleeg hiervoor dan de website van de organisatie\nDe uitslagen van deze hardloopwedstrijd zijn te raadplegen via dezelfde website of via de bekende websites zoals uitslagen.nl\, runtimer en mylaps. Doet u mee met dit evenement\, zorg dan dat u goed voorbereid aan de start staat! Met een goed trainingsschema komt u een heel eind. Train bijvoorbeeld met start to run van Evy Gruyaert. Download de start to run mp3 bestanden en zet ze op uw telefoon. Oortjes in\, hit the play button en en rennen maar! \n\n\n\n\nMeer informatie over Beemster Erfgoed Marathon op Hardloopkalender.nl  \nDeze marathon of halve marathon leg je in duo’s af! Je rent afwisselend samen met je maatje het parcours lopend en fietsend af. Jwe kunt op elk gewenst moment elkaar afwisselen. Onderweg zijn er diverse proeflocaties ingericht waar je kunt genieten van regionale lekkernijen. Bij de finish staan hottubs klaar om heerlijk in na te genieten van dit gezellige evenement in de mooie Beemster polder. Samen sportief smullen! \n  \n  \n 
URL:https://hardloopevenementen.com/loopagenda/beemster-erfgoed-marathon-zuidoostbeemster-gemeente-beemster-nh/
END:VEVENT
BEGIN:VEVENT
DTSTART;VALUE=DATE:20140511
DTEND;VALUE=DATE:20140512
DTSTAMP:20260423T072225
CREATED:20081207T030626Z
LAST-MODIFIED:20190423T105531Z
UID:34129-1399766400-1399766400@hardloopevenementen.com
SUMMARY:Beemster Erfgoed Marathon Zuidoostbeemster\, gemeente Beemster (NH)
DESCRIPTION:Doe mee met het hardloopevenement Beemster Erfgoed Marathon te Zuidoostbeemster\, gemeente Beemster (NH) op zo 11 mei 2014. De volgende afstanden staan op het programma: halve marathon – marathon hardlopen. Wilt u inschrijven voor dit loopevenement?  Raadpleeg hiervoor dan de website van de organisatie\nDe uitslagen van deze hardloopwedstrijd zijn te raadplegen via dezelfde website of via de bekende websites zoals uitslagen.nl\, runtimer en mylaps. Doet u mee met dit evenement\, zorg dan dat u goed voorbereid aan de start staat! Met een goed trainingsschema komt u een heel eind. Train bijvoorbeeld met start to run van Evy Gruyaert. Download de start to run mp3 bestanden en zet ze op uw telefoon. Oortjes in\, hit the play button en en rennen maar! \n\n\n\n\nMeer informatie over Beemster Erfgoed Marathon op Hardloopkalender.nl  \nEen marathon samen afwisselend lopend en fietsend afleggen door werelderfgoed Beemster. Tijdens het evenement verwend worden met heerlijke versnaperingen uit de regio en muzikaal entertainment. Op 11 mei 2014 wordt dit alles mogelijk tijdens de eerste Beemster Erfgoed Marathon! \n  \n  \n 
URL:https://hardloopevenementen.com/loopagenda/beemster-erfgoed-marathon-zuidoostbeemster-gemeente-beemster-nh-2/
END:VEVENT
BEGIN:VEVENT
DTSTART;VALUE=DATE:20120415
DTEND;VALUE=DATE:20120416
DTSTAMP:20260423T072225
CREATED:20101025T182528Z
LAST-MODIFIED:20190423T103300Z
UID:28517-1334448000-1334448000@hardloopevenementen.com
SUMMARY:Beemster werelderfgoedloop Middenbeemster\, gemeente Beemster (NH)
DESCRIPTION:Doe mee met het hardloopevenement Beemster werelderfgoedloop te Middenbeemster\, gemeente Beemster (NH) op zo 15 apr 2012. De volgende afstanden staan op het programma: 5\,2 km – 8 km – 10\,4 km – 14 km – halve marathon hardlopen. Wilt u inschrijven voor dit loopevenement?  Raadpleeg hiervoor dan de website van de organisatie\nDe uitslagen van deze hardloopwedstrijd zijn te raadplegen via dezelfde website of via de bekende websites zoals uitslagen.nl\, runtimer en mylaps. Doet u mee met dit evenement\, zorg dan dat u goed voorbereid aan de start staat! Met een goed trainingsschema komt u een heel eind. Train bijvoorbeeld met start to run van Evy Gruyaert. Download de start to run mp3 bestanden en zet ze op uw telefoon. Oortjes in\, hit the play button en en rennen maar! \n\n\n\n\nMeer informatie over Beemster werelderfgoedloop op Hardloopkalender.nl  \nOok een jeugdloop van 1\,5 en 3\,0 km . Jeugd start om 10.00 uur de rest om 10.50 uur. Kosten: jeugd gratis de rest euro 7.50 bij voorinschrijven anders euro 10.00.  Voor iedereen een herinnering en het hele parcours is voorzien van km-bordjes. \n  \n  \n 
URL:https://hardloopevenementen.com/loopagenda/beemster-werelderfgoedloop-middenbeemster-gemeente-beemster-nh/
END:VEVENT
END:VCALENDAR