BEGIN:VCALENDAR
VERSION:2.0
PRODID:-//Hardloopevenementen - ECPv6.15.14//NONSGML v1.0//EN
CALSCALE:GREGORIAN
METHOD:PUBLISH
X-WR-CALNAME:Hardloopevenementen
X-ORIGINAL-URL:https://hardloopevenementen.com
X-WR-CALDESC:Evenementen voor Hardloopevenementen
REFRESH-INTERVAL;VALUE=DURATION:PT1H
X-Robots-Tag:noindex
X-PUBLISHED-TTL:PT1H
BEGIN:VTIMEZONE
TZID:UTC
BEGIN:STANDARD
TZOFFSETFROM:+0000
TZOFFSETTO:+0000
TZNAME:UTC
DTSTART:20150101T000000
END:STANDARD
END:VTIMEZONE
BEGIN:VEVENT
DTSTART;VALUE=DATE:20190928
DTEND;VALUE=DATE:20190929
DTSTAMP:20260424T021549
CREATED:20091216T133639Z
LAST-MODIFIED:20191114T112436Z
UID:83735-1569628800-1569628800@hardloopevenementen.com
SUMMARY:BergermeerRun 2019 Alkmaar (NH)
DESCRIPTION:Doe mee met het hardloopevenement BergermeerRun 2019 te Alkmaar (NH) op za 28 sep 2019. De volgende afstanden staan op het programma: 0\,5 km – 1 km – 5 km – 10 km hardlopen. Wilt u inschrijven voor dit loopevenement?  Raadpleeg hiervoor dan de website van de organisatie\nDe uitslagen van deze hardloopwedstrijd zijn te raadplegen via dezelfde website of via de bekende websites zoals uitslagen.nl\, runtimer en mylaps. Doet u mee met dit evenement\, zorg dan dat u goed voorbereid aan de start staat! Met een goed trainingsschema komt u een heel eind. Train bijvoorbeeld met start to run van Evy Gruyaert. Download de start to run mp3 bestanden en zet ze op uw telefoon. Oortjes in\, hit the play button en en rennen maar! \n\n\n\n\nMeer informatie over BergermeerRun 2019 op Hardloopkalender.nl  \n  \n  \n 
URL:https://hardloopevenementen.com/loopagenda/bergermeerrun-2019-alkmaar-nh/
END:VEVENT
BEGIN:VEVENT
DTSTART;VALUE=DATE:20170923
DTEND;VALUE=DATE:20170924
DTSTAMP:20260424T021549
CREATED:20120606T093542Z
LAST-MODIFIED:20190423T114353Z
UID:14065-1506124800-1506124800@hardloopevenementen.com
SUMMARY:Bergermeerrun Alkmaar (NH)
DESCRIPTION:Doe mee met het hardloopevenement Bergermeerrun te Alkmaar (NH) op za 23 sep 2017. De volgende afstanden staan op het programma: 5 km – 10 km hardlopen. Wilt u inschrijven voor dit loopevenement?  Raadpleeg hiervoor dan de website van de organisatie\nDe uitslagen van deze hardloopwedstrijd zijn te raadplegen via dezelfde website of via de bekende websites zoals uitslagen.nl\, runtimer en mylaps. Doet u mee met dit evenement\, zorg dan dat u goed voorbereid aan de start staat! Met een goed trainingsschema komt u een heel eind. Train bijvoorbeeld met start to run van Evy Gruyaert. Download de start to run mp3 bestanden en zet ze op uw telefoon. Oortjes in\, hit the play button en en rennen maar! \n\n\n\n\nMeer informatie over Bergermeerrun op Hardloopkalender.nl  \neen run waarbij gezelligheid voorop staat. een leuke afwisselende loop door de wijk en de directe omgeving.  zorg dat je er dit keer (weer) bij bent!!    tot de 23ste september \n  \n  \n 
URL:https://hardloopevenementen.com/loopagenda/bergermeerrun-alkmaar-nh-2/
END:VEVENT
BEGIN:VEVENT
DTSTART;VALUE=DATE:20160924
DTEND;VALUE=DATE:20160925
DTSTAMP:20260424T021549
CREATED:20080712T045058Z
LAST-MODIFIED:20190423T112206Z
UID:11920-1474675200-1474675200@hardloopevenementen.com
SUMMARY:Bergermeerrun Alkmaar (NH)
DESCRIPTION:Doe mee met het hardloopevenement Bergermeerrun te Alkmaar (NH) op za 24 sep 2016. De volgende afstanden staan op het programma: 0\,8 km – 1\,5 km – 5 km – 10 km hardlopen. Wilt u inschrijven voor dit loopevenement?  Raadpleeg hiervoor dan de website van de organisatie\nDe uitslagen van deze hardloopwedstrijd zijn te raadplegen via dezelfde website of via de bekende websites zoals uitslagen.nl\, runtimer en mylaps. Doet u mee met dit evenement\, zorg dan dat u goed voorbereid aan de start staat! Met een goed trainingsschema komt u een heel eind. Train bijvoorbeeld met start to run van Evy Gruyaert. Download de start to run mp3 bestanden en zet ze op uw telefoon. Oortjes in\, hit the play button en en rennen maar! \n\n\n\n\nMeer informatie over Bergermeerrun op Hardloopkalender.nl  \n  \n  \n 
URL:https://hardloopevenementen.com/loopagenda/bergermeerrun-alkmaar-nh/
END:VEVENT
END:VCALENDAR