BEGIN:VCALENDAR
VERSION:2.0
PRODID:-//Hardloopevenementen - ECPv6.15.14//NONSGML v1.0//EN
CALSCALE:GREGORIAN
METHOD:PUBLISH
X-WR-CALNAME:Hardloopevenementen
X-ORIGINAL-URL:https://hardloopevenementen.com
X-WR-CALDESC:Evenementen voor Hardloopevenementen
REFRESH-INTERVAL;VALUE=DURATION:PT1H
X-Robots-Tag:noindex
X-PUBLISHED-TTL:PT1H
BEGIN:VTIMEZONE
TZID:UTC
BEGIN:STANDARD
TZOFFSETFROM:+0000
TZOFFSETTO:+0000
TZNAME:UTC
DTSTART:20170101T000000
END:STANDARD
END:VTIMEZONE
BEGIN:VEVENT
DTSTART;VALUE=DATE:20181215
DTEND;VALUE=DATE:20181216
DTSTAMP:20260422T044900
CREATED:20120909T150622Z
LAST-MODIFIED:20190423T120110Z
UID:15564-1544832000-1544832000@hardloopevenementen.com
SUMMARY:Betuwe Ugly Sweater Run Eck en Wiel\, gemeente Buren (GE)
DESCRIPTION:Doe mee met het hardloopevenement Betuwe Ugly Sweater Run te Eck en Wiel\, gemeente Buren (GE) op za 15 dec 2018. De volgende afstanden staan op het programma: 5 km hardlopen. Wilt u inschrijven voor dit loopevenement?  Raadpleeg hiervoor dan de website van de organisatie\nDe uitslagen van deze hardloopwedstrijd zijn te raadplegen via dezelfde website of via de bekende websites zoals uitslagen.nl\, runtimer en mylaps. Doet u mee met dit evenement\, zorg dan dat u goed voorbereid aan de start staat! Met een goed trainingsschema komt u een heel eind. Train bijvoorbeeld met start to run van Evy Gruyaert. Download de start to run mp3 bestanden en zet ze op uw telefoon. Oortjes in\, hit the play button en en rennen maar! \n\n\n\n\nMeer informatie over Betuwe Ugly Sweater Run op Hardloopkalender.nl  \nREN OF WANDEL SAMEN MET VRIENDEN EN FAMILIE IN JE FOUTSTE KERSTTRUI DE VROLIJKSTE 5 KM VAN HET JAAR. WE DAGEN JE UIT OM IN JE LEUKSTE UGLY SWEATER NOG EVEN WAT CALORIEËN TE VERBRANDEN VOORDAT DE KERSTVAKANTIE START!    Tickets zijn 5 euro per persoon inclusief Kerstmuts met lampjes en  consumptiebon. Van ieder verkocht startbewijs doneren wij aan Save the Children.     Starttijd: 14.00 UUR – Finish sluit om 16.30 UUR    Koop je tickets op: www.betuweuglysweaterrun.nl \n  \n  \n 
URL:https://hardloopevenementen.com/loopagenda/betuwe-ugly-sweater-run-eck-en-wiel-gemeente-buren-ge/
END:VEVENT
END:VCALENDAR