BEGIN:VCALENDAR
VERSION:2.0
PRODID:-//Hardloopevenementen - ECPv6.15.14//NONSGML v1.0//EN
CALSCALE:GREGORIAN
METHOD:PUBLISH
X-ORIGINAL-URL:https://hardloopevenementen.com
X-WR-CALDESC:Evenementen voor Hardloopevenementen
REFRESH-INTERVAL;VALUE=DURATION:PT1H
X-Robots-Tag:noindex
X-PUBLISHED-TTL:PT1H
BEGIN:VTIMEZONE
TZID:UTC
BEGIN:STANDARD
TZOFFSETFROM:+0000
TZOFFSETTO:+0000
TZNAME:UTC
DTSTART:20080101T000000
END:STANDARD
END:VTIMEZONE
BEGIN:VEVENT
DTSTART;VALUE=DATE:20120714
DTEND;VALUE=DATE:20120715
DTSTAMP:20260424T222921
CREATED:20091206T214304Z
LAST-MODIFIED:20190423T103055Z
UID:28008-1342224000-1342224000@hardloopevenementen.com
SUMMARY:Patrijzenloop Colijnsplaat\, gemeente Noord-Beveland (ZE)
DESCRIPTION:Doe mee met het hardloopevenement Patrijzenloop te Colijnsplaat\, gemeente Noord-Beveland (ZE) op za 14 jul 2012. De volgende afstanden staan op het programma: 3\,5 km – 7 km – 10\,5 km hardlopen. Wilt u inschrijven voor dit loopevenement?  Raadpleeg hiervoor dan de website van de organisatie\nDe uitslagen van deze hardloopwedstrijd zijn te raadplegen via dezelfde website of via de bekende websites zoals uitslagen.nl\, runtimer en mylaps. Doet u mee met dit evenement\, zorg dan dat u goed voorbereid aan de start staat! Met een goed trainingsschema komt u een heel eind. Train bijvoorbeeld met start to run van Evy Gruyaert. Download de start to run mp3 bestanden en zet ze op uw telefoon. Oortjes in\, hit the play button en en rennen maar! \n\n\n\n\nMeer informatie over Patrijzenloop op Hardloopkalender.nl  \nAanvang Patrijzenloop 19:30 uur    Start   Finish:  Voorstraat\, Colijnsplaat    Kleed douchegelegenheid:  Dorpshuis De Brug\, Havelaarstraat\, Colijnsplaat    Kosten: Voor-inschrijving: 3 euro     Na-inschrijving: 6 euro  Parkoers: Ronde van ongeveer 3\,5 km door en rond het dorp. Deze ronde kan 1\, 2 of 3 maal gelopen worden.    Voor-inschrijven tot uiterlijk donderdag 12 juli 24 uur via aeromad@zeelandnet.nl  Bij de inschrijving duidelijk vermelden:  – In de aanhef van de email Patrijzenloop  – Naam\, voornaam\, man of vrouw  – De te lopen afstand (3\,5km\, 7km\, of 10\,5km)  – Leeftijd  – Woonplaats of vereniging     Na-inschrijven:  In cafe de Patrijs in de Voorstraat\, vanaf 17:30 tot uiterlijk 19:00 uur.  Prijsuitreiking na de loop in Cafe de Patrijs\, gevolgd door optreden van live band. Gratis toegang voor iedereen!  Zie voor verder info www.patrijzenjacht.nl \n  \n  \n 
URL:https://hardloopevenementen.com/loopagenda/patrijzenloop-colijnsplaat-gemeente-noord-beveland-ze/
END:VEVENT
BEGIN:VEVENT
DTSTART;VALUE=DATE:20100613
DTEND;VALUE=DATE:20100614
DTSTAMP:20260424T222921
CREATED:20150304T225820Z
LAST-MODIFIED:20190423T101101Z
UID:4054-1276387200-1276387200@hardloopevenementen.com
SUMMARY:Peelandrun Kamperland\, gemeente Noord-Beveland (ZE)
DESCRIPTION:Doe mee met het hardloopevenement Peelandrun te Kamperland\, gemeente Noord-Beveland (ZE) op zo 13 jun 2010. De volgende afstanden staan op het programma: 15 km hardlopen. Wilt u inschrijven voor dit loopevenement?  Raadpleeg hiervoor dan de website van de organisatie\nDe uitslagen van deze hardloopwedstrijd zijn te raadplegen via dezelfde website of via de bekende websites zoals uitslagen.nl\, runtimer en mylaps. Doet u mee met dit evenement\, zorg dan dat u goed voorbereid aan de start staat! Met een goed trainingsschema komt u een heel eind. Train bijvoorbeeld met start to run van Evy Gruyaert. Download de start to run mp3 bestanden en zet ze op uw telefoon. Oortjes in\, hit the play button en en rennen maar! \n\n\n\n\nMeer informatie over Peelandrun op Hardloopkalender.nl  \nDit loopevenement wordt georganiseerd door AV `56.De eerste afstand (of onderdeel) start om 14:00.Het adres van de start en de finish is Categorie(ën): mannen\, vrouwen\, jeugdVooraf inschrijven is mogelijk vanaf 28 oktober 2009 tot niet van toepassing.Inschrijven op de dag van de loop is mogelijk (vanaf onbekend) op dit adres: .Meer informatie:Contactpersoon: Tisha AbuisTel.: 0113370036Email: mdejonge1@zeelandnet.nlEr is een kleedaccomodatie aanwezig. Douchen is mogelijk.Het parcours is verhard.Overige bijzonderheden:  Jubileumeditie 10e keer \n  \n  \n 
URL:https://hardloopevenementen.com/loopagenda/peelandrun-kamperland-gemeente-noord-beveland-ze/
END:VEVENT
BEGIN:VEVENT
DTSTART;VALUE=DATE:20090614
DTEND;VALUE=DATE:20090615
DTSTAMP:20260424T222921
CREATED:20151024T130213Z
LAST-MODIFIED:20190423T100045Z
UID:2175-1244937600-1244937600@hardloopevenementen.com
SUMMARY:3e Peelanderloop Kamperland\, gemeente Noord-Beveland (ZE)
DESCRIPTION:Doe mee met het hardloopevenement 3e Peelanderloop te Kamperland\, gemeente Noord-Beveland (ZE) op zo 14 jun 2009. De volgende afstanden staan op het programma: 5 km – 10 km – 15 km hardlopen. Wilt u inschrijven voor dit loopevenement?  Raadpleeg hiervoor dan de website van de organisatie\nDe uitslagen van deze hardloopwedstrijd zijn te raadplegen via dezelfde website of via de bekende websites zoals uitslagen.nl\, runtimer en mylaps. Doet u mee met dit evenement\, zorg dan dat u goed voorbereid aan de start staat! Met een goed trainingsschema komt u een heel eind. Train bijvoorbeeld met start to run van Evy Gruyaert. Download de start to run mp3 bestanden en zet ze op uw telefoon. Oortjes in\, hit the play button en en rennen maar! \n\n\n\n\nMeer informatie over 3e Peelanderloop op Hardloopkalender.nl  \n3e Peelanderloop\, hardloopevenement  Datum:                       zondag 14 juni 2009\, start 12:00 uur  Start finish:                 Campenseweg 2\, Kamperland (Waterskibaan De Schotsman)  Parcours:                    bos-\, duin -en strandgebied  Afstanden:                  5  10  15 km  Voorinschrijven  3\,50           Na-inschrijven  4\,50  Info:                             www.tamakelaardij.nl   tel: 0113-370036 \n  \n  \n 
URL:https://hardloopevenementen.com/loopagenda/3e-peelanderloop-kamperland-gemeente-noord-beveland-ze/
END:VEVENT
END:VCALENDAR