BEGIN:VCALENDAR
VERSION:2.0
PRODID:-//Hardloopevenementen - ECPv6.15.14//NONSGML v1.0//EN
CALSCALE:GREGORIAN
METHOD:PUBLISH
X-ORIGINAL-URL:https://hardloopevenementen.com
X-WR-CALDESC:Evenementen voor Hardloopevenementen
REFRESH-INTERVAL;VALUE=DURATION:PT1H
X-Robots-Tag:noindex
X-PUBLISHED-TTL:PT1H
BEGIN:VTIMEZONE
TZID:UTC
BEGIN:STANDARD
TZOFFSETFROM:+0000
TZOFFSETTO:+0000
TZNAME:UTC
DTSTART:20060101T000000
END:STANDARD
END:VTIMEZONE
BEGIN:VEVENT
DTSTART;VALUE=DATE:20130105
DTEND;VALUE=DATE:20130106
DTSTAMP:20260420T135150
CREATED:20110920T205859Z
LAST-MODIFIED:20190423T104612Z
UID:32513-1357344000-1357344000@hardloopevenementen.com
SUMMARY:16e Brabantse Biesboschloop Hank\, gemeente Werkendam (NB)
DESCRIPTION:Doe mee met het hardloopevenement 16e Brabantse Biesboschloop te Hank\, gemeente Werkendam (NB) op za 05 jan 2013. De volgende afstanden staan op het programma: 5 km – 10 km hardlopen. Wilt u inschrijven voor dit loopevenement?  Raadpleeg hiervoor dan de website van de organisatie\nDe uitslagen van deze hardloopwedstrijd zijn te raadplegen via dezelfde website of via de bekende websites zoals uitslagen.nl\, runtimer en mylaps. Doet u mee met dit evenement\, zorg dan dat u goed voorbereid aan de start staat! Met een goed trainingsschema komt u een heel eind. Train bijvoorbeeld met start to run van Evy Gruyaert. Download de start to run mp3 bestanden en zet ze op uw telefoon. Oortjes in\, hit the play button en en rennen maar! \n\n\n\n\nMeer informatie over 16e Brabantse Biesboschloop op Hardloopkalender.nl  \nHet loopevenement 16e Brabantse Biesboschloop te Hank vindt plaats op zaterdag 05 januari 2013. De loop wordt georganisseerd door Altena Road Runners. Inschrijven is mogelijk vanaf 05 januari 2013. Klik hier voor het adres van de start (Google Maps).Er is verkleedaccomodatie met douchemogelijkheid aanwezig. Er is EHBO aanwezig. Bijzonderheden: Over asfaltwegen via de Brabantse Biesbosch en de Aakvlaai\, een grote ronde.Voor meer informatie:Henny Wijnandshenny.wijnands@casema.nl0162402913http:  www.stichtingh2o.nl \n  \n  \n 
URL:https://hardloopevenementen.com/loopagenda/16e-brabantse-biesboschloop-hank-gemeente-werkendam-nb/
END:VEVENT
BEGIN:VEVENT
DTSTART;VALUE=DATE:20120107
DTEND;VALUE=DATE:20120108
DTSTAMP:20260420T135150
CREATED:20161218T114802Z
LAST-MODIFIED:20190423T103539Z
UID:29123-1325894400-1325894400@hardloopevenementen.com
SUMMARY:15e Brabantse Biesboschloop Hank\, gemeente Werkendam (NB)
DESCRIPTION:Doe mee met het hardloopevenement 15e Brabantse Biesboschloop te Hank\, gemeente Werkendam (NB) op za 07 jan 2012. De volgende afstanden staan op het programma: 5 km – 10 km hardlopen. Wilt u inschrijven voor dit loopevenement?  Raadpleeg hiervoor dan de website van de organisatie\nDe uitslagen van deze hardloopwedstrijd zijn te raadplegen via dezelfde website of via de bekende websites zoals uitslagen.nl\, runtimer en mylaps. Doet u mee met dit evenement\, zorg dan dat u goed voorbereid aan de start staat! Met een goed trainingsschema komt u een heel eind. Train bijvoorbeeld met start to run van Evy Gruyaert. Download de start to run mp3 bestanden en zet ze op uw telefoon. Oortjes in\, hit the play button en en rennen maar! \n\n\n\n\nMeer informatie over 15e Brabantse Biesboschloop op Hardloopkalender.nl  \nHet loopevenement 15e Brabantse Biesboschloop te Hank vindt plaats op zaterdag 07 januari 2012. De loop wordt georganiseerd door Altena Road Runners. Inschrijven is mogelijk vanaf 07 januari 2012. Klik hier voor het adres van de start (Google Maps).Er is EHBO aanwezig. Bijzonderheden: Over asfaltwegen via de Brabantse Biesbosch en de Aakvlaai\, 1 ronde.Afstand SoortloopInschrijfgeldStarttijdInfo10 km4\,0014:005 km4\,0014:00Voor meer informatie:Henny Wijnandshenny.wijnands@casema.nl0162402913http:  www.altenaroadrunners.nl \n  \n  \n 
URL:https://hardloopevenementen.com/loopagenda/15e-brabantse-biesboschloop-hank-gemeente-werkendam-nb/
END:VEVENT
BEGIN:VEVENT
DTSTART;VALUE=DATE:20100102
DTEND;VALUE=DATE:20100103
DTSTAMP:20260420T135150
CREATED:20121118T131104Z
LAST-MODIFIED:20190423T101513Z
UID:24226-1262390400-1262390400@hardloopevenementen.com
SUMMARY:Brabantse Biesboschloop Hank\, gemeente Werkendam (NB)
DESCRIPTION:Doe mee met het hardloopevenement Brabantse Biesboschloop te Hank\, gemeente Werkendam (NB) op za 02 jan 2010. De volgende afstanden staan op het programma: 5 km – 10 km hardlopen. Wilt u inschrijven voor dit loopevenement?  Raadpleeg hiervoor dan de website van de organisatie\nDe uitslagen van deze hardloopwedstrijd zijn te raadplegen via dezelfde website of via de bekende websites zoals uitslagen.nl\, runtimer en mylaps. Doet u mee met dit evenement\, zorg dan dat u goed voorbereid aan de start staat! Met een goed trainingsschema komt u een heel eind. Train bijvoorbeeld met start to run van Evy Gruyaert. Download de start to run mp3 bestanden en zet ze op uw telefoon. Oortjes in\, hit the play button en en rennen maar! \n\n\n\n\nMeer informatie over Brabantse Biesboschloop op Hardloopkalender.nl  \nDit loopevenement wordt georganiseerd door Altena Road Runners.De eerste afstand (of onderdeel) start om 14:00.Het adres van de start is Kurenpolderweg 15 Het adres van de finish is Kurenpolderweg 31Categorie(ën): mannen\, vrouwenVooraf inschrijven is mogelijk vanaf 02 januari 2010 tot niet van toepassing.Inschrijven op de dag van de loop is mogelijk (vanaf 12:00 uur) op dit adres: Kantine V.V.Be Ready  Kurenpolderweg 15  4273 LA Hank.Meer informatie:Contactpersoon: Henny WijnandsTel.: 0162402913Email: henny.wijnands@casema.nlEr is een kleedaccomodatie aanwezig. Douchen is mogelijk.Het parcours is verhard.Vorig jaar deden er 200 lopers mee aan dit evenement.Overige bijzonderheden:  Over asfaltwegen via de Brabantse Biesbosch en de Aakvlaai\, 1 ronde \n  \n  \n 
URL:https://hardloopevenementen.com/loopagenda/brabantse-biesboschloop-hank-gemeente-werkendam-nb/
END:VEVENT
BEGIN:VEVENT
DTSTART;VALUE=DATE:20080105
DTEND;VALUE=DATE:20080106
DTSTAMP:20260420T135150
CREATED:20130914T052757Z
LAST-MODIFIED:20190423T095000Z
UID:20392-1199491200-1199491200@hardloopevenementen.com
SUMMARY:11e Brabantse Biesboschloop Hank
DESCRIPTION:Doe mee met het hardloopevenement 11e Brabantse Biesboschloop te Hank op za 05 jan 2008. De volgende afstanden staan op het programma: 0\,5 km – 1 km – 1\,5 km – 2 km – 5 km – 10 km hardlopen. Wilt u inschrijven voor dit loopevenement?  Raadpleeg hiervoor dan de website van de organisatie\nDe uitslagen van deze hardloopwedstrijd zijn te raadplegen via dezelfde website of via de bekende websites zoals uitslagen.nl\, runtimer en mylaps. Doet u mee met dit evenement\, zorg dan dat u goed voorbereid aan de start staat! Met een goed trainingsschema komt u een heel eind. Train bijvoorbeeld met start to run van Evy Gruyaert. Download de start to run mp3 bestanden en zet ze op uw telefoon. Oortjes in\, hit the play button en en rennen maar! \n\n\n\n\nMeer informatie over 11e Brabantse Biesboschloop op Hardloopkalender.nl  \nOrganisatie Stichting h2o ism V.V. Be ready en A.V. de Altena Road Runners   Aanvang en Afstand 14:00 uur 10 km wedstrijd en prestatieloop  14:00 uur 5 km prestatieloop   Start en Finish Kurenpolderweg ter hoogte van Sportpark   Jeugdlopen t m 7 jaar (14:03 uur) 500m. 1 ronde  8 en 9 jaar (13:15 uur) 1000m. 2 ronden  10 en 11 jaar (13:25 uur) 1500m. 3 ronden  12 t m 15 jaar (13:40 uur) 2000m. 4 ronden    Inschrijven Kantine v.v. Be Ready  Kurenpolderweg 15  4273LA Hank  tel. 0162 – 40 26 53   tot twintig minuten voor de start   Inschrijfgeld 4 Euro   Inschrijfgeld Jeugd  euro    Kleedruimte en Douchegelegenheid Warme kleedkamers en douches aanwezig   Geldprijzen M sen\, M35+\, M45+\, M55+\, V sen\, V35+ en V45+   Minimaal 5 deelnemers per categorie   Tombola Om 15:30 uur is er een grote loterij onder alle deelnemers van de 5 en 10km. Men moet dan wel aanwezig zijn   Parkoers records Mannen; 30.55 (Armand van der Smissen\, 2006)   Vrouwen; 35.32 (Sandra ter Horst\, 2002)   Parkoers Over asfaltwegen vanaf het sportpark via de Brabantse Biesbosch en de Aakvlaai.  Een grote ronde. Alle kilometers aangegeven.   Parkoers Jeugd Op de Kurenpolderweg en naast gelegen fietspad\, volledig overzichtbaar. 1\,2\,3 of 4 ronden van 500m.    Inlichtingen Henny Wijnands  tel. 0162 – 40 29 13  mob. 06 – 50 25 16 73 \n  \n  \n 
URL:https://hardloopevenementen.com/loopagenda/11e-brabantse-biesboschloop-hank/
END:VEVENT
BEGIN:VEVENT
DTSTART;VALUE=DATE:20070106
DTEND;VALUE=DATE:20070107
DTSTAMP:20260420T135150
CREATED:20100524T221841Z
LAST-MODIFIED:20190423T094105Z
UID:818-1168041600-1168041600@hardloopevenementen.com
SUMMARY:10e Brabantse Biesboschloop Hank
DESCRIPTION:Doe mee met het hardloopevenement 10e Brabantse Biesboschloop te Hank op za 06 jan 2007. De volgende afstanden staan op het programma: 5 km – 10 km hardlopen. Wilt u inschrijven voor dit loopevenement?  Raadpleeg hiervoor dan de website van de organisatie\nDe uitslagen van deze hardloopwedstrijd zijn te raadplegen via dezelfde website of via de bekende websites zoals uitslagen.nl\, runtimer en mylaps. Doet u mee met dit evenement\, zorg dan dat u goed voorbereid aan de start staat! Met een goed trainingsschema komt u een heel eind. Train bijvoorbeeld met start to run van Evy Gruyaert. Download de start to run mp3 bestanden en zet ze op uw telefoon. Oortjes in\, hit the play button en en rennen maar! \n\n\n\n\nMeer informatie over 10e Brabantse Biesboschloop op Hardloopkalender.nl  \n  \n  \n 
URL:https://hardloopevenementen.com/loopagenda/10e-brabantse-biesboschloop-hank/
END:VEVENT
END:VCALENDAR