BEGIN:VCALENDAR
VERSION:2.0
PRODID:-//Hardloopevenementen - ECPv6.15.14//NONSGML v1.0//EN
CALSCALE:GREGORIAN
METHOD:PUBLISH
X-ORIGINAL-URL:https://hardloopevenementen.com
X-WR-CALDESC:Evenementen voor Hardloopevenementen
REFRESH-INTERVAL;VALUE=DURATION:PT1H
X-Robots-Tag:noindex
X-PUBLISHED-TTL:PT1H
BEGIN:VTIMEZONE
TZID:UTC
BEGIN:STANDARD
TZOFFSETFROM:+0000
TZOFFSETTO:+0000
TZNAME:UTC
DTSTART:20070101T000000
END:STANDARD
END:VTIMEZONE
BEGIN:VEVENT
DTSTART;VALUE=DATE:20080324
DTEND;VALUE=DATE:20080325
DTSTAMP:20260421T073539
CREATED:20140507T021515Z
LAST-MODIFIED:20190423T094824Z
UID:19972-1206316800-1206316800@hardloopevenementen.com
SUMMARY:Bijl en Bezemer Trainingslopen Spijkenisse
DESCRIPTION:Doe mee met het hardloopevenement Bijl en Bezemer Trainingslopen te Spijkenisse op ma 24 mrt 2008. De volgende afstanden staan op het programma: 30 km – 35 km hardlopen. Wilt u inschrijven voor dit loopevenement?  Raadpleeg hiervoor dan de website van de organisatie\nDe uitslagen van deze hardloopwedstrijd zijn te raadplegen via dezelfde website of via de bekende websites zoals uitslagen.nl\, runtimer en mylaps. Doet u mee met dit evenement\, zorg dan dat u goed voorbereid aan de start staat! Met een goed trainingsschema komt u een heel eind. Train bijvoorbeeld met start to run van Evy Gruyaert. Download de start to run mp3 bestanden en zet ze op uw telefoon. Oortjes in\, hit the play button en en rennen maar! \n\n\n\n\nMeer informatie over Bijl en Bezemer Trainingslopen op Hardloopkalender.nl  \n30-35 km 11:00 uur \n  \n  \n 
URL:https://hardloopevenementen.com/loopagenda/bijl-en-bezemer-trainingslopen-spijkenisse/
END:VEVENT
BEGIN:VEVENT
DTSTART;VALUE=DATE:20080302
DTEND;VALUE=DATE:20080303
DTSTAMP:20260421T073539
CREATED:20150306T100655Z
LAST-MODIFIED:20190423T094851Z
UID:20083-1204416000-1204416000@hardloopevenementen.com
SUMMARY:Bijl en Bezemer Trainingslopen Dordrecht
DESCRIPTION:Doe mee met het hardloopevenement Bijl en Bezemer Trainingslopen te Dordrecht op zo 02 mrt 2008. De volgende afstanden staan op het programma: 30 km hardlopen. Wilt u inschrijven voor dit loopevenement?  Raadpleeg hiervoor dan de website van de organisatie\nDe uitslagen van deze hardloopwedstrijd zijn te raadplegen via dezelfde website of via de bekende websites zoals uitslagen.nl\, runtimer en mylaps. Doet u mee met dit evenement\, zorg dan dat u goed voorbereid aan de start staat! Met een goed trainingsschema komt u een heel eind. Train bijvoorbeeld met start to run van Evy Gruyaert. Download de start to run mp3 bestanden en zet ze op uw telefoon. Oortjes in\, hit the play button en en rennen maar! \n\n\n\n\nMeer informatie over Bijl en Bezemer Trainingslopen op Hardloopkalender.nl  \n30 km 10:00 uur \n  \n  \n 
URL:https://hardloopevenementen.com/loopagenda/bijl-en-bezemer-trainingslopen-dordrecht/
END:VEVENT
BEGIN:VEVENT
DTSTART;VALUE=DATE:20080203
DTEND;VALUE=DATE:20080204
DTSTAMP:20260421T073539
CREATED:20111117T111905Z
LAST-MODIFIED:20190423T094923Z
UID:20226-1201996800-1201996800@hardloopevenementen.com
SUMMARY:Bijl en Bezemer Trainingslopen Oud-Beijerland
DESCRIPTION:Doe mee met het hardloopevenement Bijl en Bezemer Trainingslopen te Oud-Beijerland op zo 03 feb 2008. De volgende afstanden staan op het programma: 25 km hardlopen. Wilt u inschrijven voor dit loopevenement?  Raadpleeg hiervoor dan de website van de organisatie\nDe uitslagen van deze hardloopwedstrijd zijn te raadplegen via dezelfde website of via de bekende websites zoals uitslagen.nl\, runtimer en mylaps. Doet u mee met dit evenement\, zorg dan dat u goed voorbereid aan de start staat! Met een goed trainingsschema komt u een heel eind. Train bijvoorbeeld met start to run van Evy Gruyaert. Download de start to run mp3 bestanden en zet ze op uw telefoon. Oortjes in\, hit the play button en en rennen maar! \n\n\n\n\nMeer informatie over Bijl en Bezemer Trainingslopen op Hardloopkalender.nl  \n25 km 10:00 uur \n  \n  \n 
URL:https://hardloopevenementen.com/loopagenda/bijl-en-bezemer-trainingslopen-oud-beijerland/
END:VEVENT
BEGIN:VEVENT
DTSTART;VALUE=DATE:20080113
DTEND;VALUE=DATE:20080114
DTSTAMP:20260421T073539
CREATED:20141215T194748Z
LAST-MODIFIED:20190423T094946Z
UID:20328-1200182400-1200182400@hardloopevenementen.com
SUMMARY:Bijl en Bezemer Trainingslopen Oud-Beijerland
DESCRIPTION:Doe mee met het hardloopevenement Bijl en Bezemer Trainingslopen te Oud-Beijerland op zo 13 jan 2008. De volgende afstanden staan op het programma: 20 km hardlopen. Wilt u inschrijven voor dit loopevenement?  Raadpleeg hiervoor dan de website van de organisatie\nDe uitslagen van deze hardloopwedstrijd zijn te raadplegen via dezelfde website of via de bekende websites zoals uitslagen.nl\, runtimer en mylaps. Doet u mee met dit evenement\, zorg dan dat u goed voorbereid aan de start staat! Met een goed trainingsschema komt u een heel eind. Train bijvoorbeeld met start to run van Evy Gruyaert. Download de start to run mp3 bestanden en zet ze op uw telefoon. Oortjes in\, hit the play button en en rennen maar! \n\n\n\n\nMeer informatie over Bijl en Bezemer Trainingslopen op Hardloopkalender.nl  \n20 km 10:00 uur \n  \n  \n 
URL:https://hardloopevenementen.com/loopagenda/bijl-en-bezemer-trainingslopen-oud-beijerland-2/
END:VEVENT
END:VCALENDAR