BEGIN:VCALENDAR
VERSION:2.0
PRODID:-//Hardloopevenementen - ECPv6.15.14//NONSGML v1.0//EN
CALSCALE:GREGORIAN
METHOD:PUBLISH
X-WR-CALNAME:Hardloopevenementen
X-ORIGINAL-URL:https://hardloopevenementen.com
X-WR-CALDESC:Evenementen voor Hardloopevenementen
REFRESH-INTERVAL;VALUE=DURATION:PT1H
X-Robots-Tag:noindex
X-PUBLISHED-TTL:PT1H
BEGIN:VTIMEZONE
TZID:UTC
BEGIN:STANDARD
TZOFFSETFROM:+0000
TZOFFSETTO:+0000
TZNAME:UTC
DTSTART:20090101T000000
END:STANDARD
END:VTIMEZONE
BEGIN:VEVENT
DTSTART;VALUE=DATE:20160925
DTEND;VALUE=DATE:20160926
DTSTAMP:20260421T171622
CREATED:20180811T030210Z
LAST-MODIFIED:20190423T112159Z
UID:11889-1474761600-1474761600@hardloopevenementen.com
SUMMARY:Binnenstadloop Maassluis (ZH)
DESCRIPTION:Doe mee met het hardloopevenement Binnenstadloop te Maassluis (ZH) op zo 25 sep 2016. De volgende afstanden staan op het programma: 2 km – 6 km hardlopen. Wilt u inschrijven voor dit loopevenement?  Raadpleeg hiervoor dan de website van de organisatie\nDe uitslagen van deze hardloopwedstrijd zijn te raadplegen via dezelfde website of via de bekende websites zoals uitslagen.nl\, runtimer en mylaps. Doet u mee met dit evenement\, zorg dan dat u goed voorbereid aan de start staat! Met een goed trainingsschema komt u een heel eind. Train bijvoorbeeld met start to run van Evy Gruyaert. Download de start to run mp3 bestanden en zet ze op uw telefoon. Oortjes in\, hit the play button en en rennen maar! \n\n\n\n\nMeer informatie over Binnenstadloop op Hardloopkalender.nl  \nHet loopevenement Binnenstadloop te Maaasluis vindt plaats op zondag 25 september 2016. \n  \n  \n 
URL:https://hardloopevenementen.com/loopagenda/binnenstadloop-maassluis-zh-4/
END:VEVENT
BEGIN:VEVENT
DTSTART;VALUE=DATE:20150927
DTEND;VALUE=DATE:20150928
DTSTAMP:20260421T171622
CREATED:20160910T060444Z
LAST-MODIFIED:20190423T110852Z
UID:9699-1443312000-1443312000@hardloopevenementen.com
SUMMARY:Binnenstadloop Maassluis (ZH)
DESCRIPTION:Doe mee met het hardloopevenement Binnenstadloop te Maassluis (ZH) op zo 27 sep 2015. De volgende afstanden staan op het programma: 2 km – 6 km hardlopen. Wilt u inschrijven voor dit loopevenement?  Raadpleeg hiervoor dan de website van de organisatie\nDe uitslagen van deze hardloopwedstrijd zijn te raadplegen via dezelfde website of via de bekende websites zoals uitslagen.nl\, runtimer en mylaps. Doet u mee met dit evenement\, zorg dan dat u goed voorbereid aan de start staat! Met een goed trainingsschema komt u een heel eind. Train bijvoorbeeld met start to run van Evy Gruyaert. Download de start to run mp3 bestanden en zet ze op uw telefoon. Oortjes in\, hit the play button en en rennen maar! \n\n\n\n\nMeer informatie over Binnenstadloop op Hardloopkalender.nl  \nHet loopevenement Binnenstadloop te Maaasluis vindt plaats op zondag 27 september 2015. \n  \n  \n 
URL:https://hardloopevenementen.com/loopagenda/binnenstadloop-maassluis-zh-3/
END:VEVENT
BEGIN:VEVENT
DTSTART;VALUE=DATE:20110918
DTEND;VALUE=DATE:20110919
DTSTAMP:20260421T171622
CREATED:20141231T004115Z
LAST-MODIFIED:20190423T101846Z
UID:6322-1316304000-1316304000@hardloopevenementen.com
SUMMARY:Binnenstadloop Maassluis (ZH)
DESCRIPTION:Doe mee met het hardloopevenement Binnenstadloop te Maassluis (ZH) op zo 18 sep 2011. De volgende afstanden staan op het programma: 2 km – 6 km hardlopen. Wilt u inschrijven voor dit loopevenement?  Raadpleeg hiervoor dan de website van de organisatie\nDe uitslagen van deze hardloopwedstrijd zijn te raadplegen via dezelfde website of via de bekende websites zoals uitslagen.nl\, runtimer en mylaps. Doet u mee met dit evenement\, zorg dan dat u goed voorbereid aan de start staat! Met een goed trainingsschema komt u een heel eind. Train bijvoorbeeld met start to run van Evy Gruyaert. Download de start to run mp3 bestanden en zet ze op uw telefoon. Oortjes in\, hit the play button en en rennen maar! \n\n\n\n\nMeer informatie over Binnenstadloop op Hardloopkalender.nl  \nHet loopevenement Binnenstadloop te Maaasluis vindt plaats op zondag 18 september 2011. De loop wordt georganiseerd door AV Waterweg. Inschrijven is mogelijk vanaf 19 september 2010. Klik hier voor het adres van de start (Google Maps).Er is geen verkleedaccomodatie aanwezig. Er is EHBO aanwezig. Bijzonderheden: Gratis loop voor jong en oud..Afstand(km)Inschrijfgeld()Starttijd20\,0014.0060\,0014.15Voor meer informatie:Ruud Wesselswoc@avwaterweg.nl0653542328http:  www.avwaterweg.nl \n  \n  \n 
URL:https://hardloopevenementen.com/loopagenda/binnenstadloop-maassluis-zh-2/
END:VEVENT
BEGIN:VEVENT
DTSTART;VALUE=DATE:20100919
DTEND;VALUE=DATE:20100920
DTSTAMP:20260421T171622
CREATED:20140331T040856Z
LAST-MODIFIED:20190423T100837Z
UID:3587-1284854400-1284854400@hardloopevenementen.com
SUMMARY:Binnenstadloop Maassluis (ZH)
DESCRIPTION:Doe mee met het hardloopevenement Binnenstadloop te Maassluis (ZH) op zo 19 sep 2010. De volgende afstanden staan op het programma: 2 km – 6 km hardlopen. Wilt u inschrijven voor dit loopevenement?  Raadpleeg hiervoor dan de website van de organisatie\nDe uitslagen van deze hardloopwedstrijd zijn te raadplegen via dezelfde website of via de bekende websites zoals uitslagen.nl\, runtimer en mylaps. Doet u mee met dit evenement\, zorg dan dat u goed voorbereid aan de start staat! Met een goed trainingsschema komt u een heel eind. Train bijvoorbeeld met start to run van Evy Gruyaert. Download de start to run mp3 bestanden en zet ze op uw telefoon. Oortjes in\, hit the play button en en rennen maar! \n\n\n\n\nMeer informatie over Binnenstadloop op Hardloopkalender.nl  \nDit loopevenement wordt georganiseerd door AV Waterweg.De eerste afstand (of onderdeel) start om 14:00.Het adres van de start is Markt – Het adres van de finish is markt -Categorie(ën): mannen\, vrouwen\, jeugdVooraf inschrijven is mogelijk vanaf 19 september 2010 tot niet van toepassing.Inschrijven op de dag van de loop is mogelijk (vanaf 10.00 uur) op dit adres: De Wiemel Deurne.Meer informatie:Contactpersoon: Ruud WesselsTel.: 0653542328Email: woc@avwaterweg.nlEr is geen kleedaccomodatie aanwezig.Het parcours is verhard.Vorig jaar deden er 100 lopers mee aan dit evenement.Overige bijzonderheden:  Gratis loop voor jong en oud. \n  \n  \n 
URL:https://hardloopevenementen.com/loopagenda/binnenstadloop-maassluis-zh/
END:VEVENT
END:VCALENDAR