BEGIN:VCALENDAR
VERSION:2.0
PRODID:-//Hardloopevenementen - ECPv6.15.14//NONSGML v1.0//EN
CALSCALE:GREGORIAN
METHOD:PUBLISH
X-WR-CALNAME:Hardloopevenementen
X-ORIGINAL-URL:https://hardloopevenementen.com
X-WR-CALDESC:Evenementen voor Hardloopevenementen
REFRESH-INTERVAL;VALUE=DURATION:PT1H
X-Robots-Tag:noindex
X-PUBLISHED-TTL:PT1H
BEGIN:VTIMEZONE
TZID:UTC
BEGIN:STANDARD
TZOFFSETFROM:+0000
TZOFFSETTO:+0000
TZNAME:UTC
DTSTART:20130101T000000
END:STANDARD
END:VTIMEZONE
BEGIN:VEVENT
DTSTART;VALUE=DATE:20180426
DTEND;VALUE=DATE:20180427
DTSTAMP:20260421T024144
CREATED:20080206T175658Z
LAST-MODIFIED:20190423T120525Z
UID:16698-1524700800-1524700800@hardloopevenementen.com
SUMMARY:Exalto biz Koningsnachtloop Hoorn (NH)
DESCRIPTION:Doe mee met het hardloopevenement Exalto biz Koningsnachtloop te Hoorn (NH) op do 26 apr 2018. De volgende afstanden staan op het programma: 1 km – 5 km – 10 km hardlopen. Wilt u inschrijven voor dit loopevenement?  Raadpleeg hiervoor dan de website van de organisatie\nDe uitslagen van deze hardloopwedstrijd zijn te raadplegen via dezelfde website of via de bekende websites zoals uitslagen.nl\, runtimer en mylaps. Doet u mee met dit evenement\, zorg dan dat u goed voorbereid aan de start staat! Met een goed trainingsschema komt u een heel eind. Train bijvoorbeeld met start to run van Evy Gruyaert. Download de start to run mp3 bestanden en zet ze op uw telefoon. Oortjes in\, hit the play button en en rennen maar! \n\n\n\n\nMeer informatie over Exalto biz Koningsnachtloop op Hardloopkalender.nl  \n  \n  \n 
URL:https://hardloopevenementen.com/loopagenda/exalto-biz-koningsnachtloop-hoorn-nh-2/
END:VEVENT
BEGIN:VEVENT
DTSTART;VALUE=DATE:20160426
DTEND;VALUE=DATE:20160427
DTSTAMP:20260421T024144
CREATED:20180803T183315Z
LAST-MODIFIED:20190423T112542Z
UID:12871-1461628800-1461628800@hardloopevenementen.com
SUMMARY:Exalto biz Koningsnachtloop Hoorn (NH)
DESCRIPTION:Doe mee met het hardloopevenement Exalto biz Koningsnachtloop te Hoorn (NH) op di 26 apr 2016. De volgende afstanden staan op het programma: 1\,2 km – 5 km – 10 km hardlopen. Wilt u inschrijven voor dit loopevenement?  Raadpleeg hiervoor dan de website van de organisatie\nDe uitslagen van deze hardloopwedstrijd zijn te raadplegen via dezelfde website of via de bekende websites zoals uitslagen.nl\, runtimer en mylaps. Doet u mee met dit evenement\, zorg dan dat u goed voorbereid aan de start staat! Met een goed trainingsschema komt u een heel eind. Train bijvoorbeeld met start to run van Evy Gruyaert. Download de start to run mp3 bestanden en zet ze op uw telefoon. Oortjes in\, hit the play button en en rennen maar! \n\n\n\n\nMeer informatie over Exalto biz Koningsnachtloop op Hardloopkalender.nl  \nGezellige en recreatieve loop in het teken van oranje! \n  \n  \n 
URL:https://hardloopevenementen.com/loopagenda/exalto-biz-koningsnachtloop-hoorn-nh/
END:VEVENT
BEGIN:VEVENT
DTSTART;VALUE=DATE:20140425
DTEND;VALUE=DATE:20140426
DTSTAMP:20260421T024144
CREATED:20090308T043611Z
LAST-MODIFIED:20190423T105605Z
UID:34258-1398384000-1398384000@hardloopevenementen.com
SUMMARY:Exalto biz  Koningsnachtloop Hoorn (NH)
DESCRIPTION:Doe mee met het hardloopevenement Exalto biz  Koningsnachtloop te Hoorn (NH) op vr 25 apr 2014. De volgende afstanden staan op het programma: 1\,2 km – 5 km – 10 km hardlopen. Wilt u inschrijven voor dit loopevenement?  Raadpleeg hiervoor dan de website van de organisatie\nDe uitslagen van deze hardloopwedstrijd zijn te raadplegen via dezelfde website of via de bekende websites zoals uitslagen.nl\, runtimer en mylaps. Doet u mee met dit evenement\, zorg dan dat u goed voorbereid aan de start staat! Met een goed trainingsschema komt u een heel eind. Train bijvoorbeeld met start to run van Evy Gruyaert. Download de start to run mp3 bestanden en zet ze op uw telefoon. Oortjes in\, hit the play button en en rennen maar! \n\n\n\n\nMeer informatie over Exalto biz  Koningsnachtloop op Hardloopkalender.nl  \nHet loopevenement Exalto.biz  Koningsnachtloop te Hoorn Nh vindt plaats op vrijdag 25 april 2014. De loop wordt georganisseerd door Loopgroep Hoorn. Klik hier voor het adres van de start (Google Maps).Bijzonderheden: Mooie gezellige loop geheel in oranjesfeer voor jeugd en volwassenen.. \n  \n  \n 
URL:https://hardloopevenementen.com/loopagenda/exalto-biz-koningsnachtloop-hoorn-nh-3/
END:VEVENT
END:VCALENDAR