BEGIN:VCALENDAR
VERSION:2.0
PRODID:-//Hardloopevenementen - ECPv6.15.14//NONSGML v1.0//EN
CALSCALE:GREGORIAN
METHOD:PUBLISH
X-ORIGINAL-URL:https://hardloopevenementen.com
X-WR-CALDESC:Evenementen voor Hardloopevenementen
REFRESH-INTERVAL;VALUE=DURATION:PT1H
X-Robots-Tag:noindex
X-PUBLISHED-TTL:PT1H
BEGIN:VTIMEZONE
TZID:UTC
BEGIN:STANDARD
TZOFFSETFROM:+0000
TZOFFSETTO:+0000
TZNAME:UTC
DTSTART:20170101T000000
END:STANDARD
END:VTIMEZONE
BEGIN:VEVENT
DTSTART;VALUE=DATE:20190121
DTEND;VALUE=DATE:20190122
DTSTAMP:20260425T174520
CREATED:20161023T103306Z
LAST-MODIFIED:20191114T112812Z
UID:17310-1548028800-1548028800@hardloopevenementen.com
SUMMARY:MIND Blue Monday Run - Blauwestad Groningen (GR)
DESCRIPTION:Doe mee met het hardloopevenement MIND Blue Monday Run – Blauwestad te Groningen (GR) op ma 21 jan 2019. De volgende afstanden staan op het programma: 7 km – 10 km – halve marathon hardlopen. Wilt u inschrijven voor dit loopevenement?  Raadpleeg hiervoor dan de website van de organisatie\nDe uitslagen van deze hardloopwedstrijd zijn te raadplegen via dezelfde website of via de bekende websites zoals uitslagen.nl\, runtimer en mylaps. Doet u mee met dit evenement\, zorg dan dat u goed voorbereid aan de start staat! Met een goed trainingsschema komt u een heel eind. Train bijvoorbeeld met start to run van Evy Gruyaert. Download de start to run mp3 bestanden en zet ze op uw telefoon. Oortjes in\, hit the play button en en rennen maar! \n\n\n\n\nMeer informatie over MIND Blue Monday Run – Blauwestad op Hardloopkalender.nl  \nHet Taboe op deze Dodelijke Ziekte doorbreken!    Op Blue Monday 21 januari 2019 is er weer de MIND BlueMondayRun in Blauwestad.    Meld je aan bij dit team door een eigen actie aan te maken.    Om mee te doen hoef je alleen maar een actie aan te maken bij dit team en minimaal een bedrag van 25 euro ophalen. Natuurlijk is het nog mooier als je grootser wordt gesteund door donateurs en je meer geld gesponsord krijgt. Het gaat tenslotte ook om de aandacht die we willen vragen voor de ziekte Depressie.     Je kunt 7\, 10 km of een Halve Marathon lopen rond Blauwestad. (wandelen kan ook) Welke afstand jij loopt hoef je niet door te geven\, dit kan je voor jezelf bepalen en of communiceren naaar je donateurs\, familie\, vrienden of collega’s. De start is om 12.00 uur. Zien we je dan?    Waarom rennen?     Ten eerste voor jezelf! Verschillende onderzoeken hebben bewezen dat rennen (en bewegen in het algemeen) absoluut depressieve klachten kan verminderen. Er is niet voor niets een speciale therapievorm hiervoor: running therapy of wandeltherapie. Ook rennen we natuurlijk om aandacht te vragen voor de verschrikkelijke ziekte depressie en om geld op te halen voor een initiatief dat het leven met een depressie een beetje makkelijker maakt. Dit jaar is dit initiatief Abi.     ABI     ABI is een app speciaal gemaakt voor de omgeving van iemand met een depressie. De app zit vol met tips en informatie om depressie bespreekbaar te maken en om ervoor te zorgen dat iemand met een depressie zich gehoord en gezien voelt. Ook kan je zelf tips toevoegen en meldingen instellen. Naast de app is er ook een kaartenset met op elke kaart een tip en op de achterkant de mogelijkheid om op te schrijven hoe het uitvoeren van de tip is gegaan.     Abi is het eindproduct van mijn afstudeerproject voor de opleiding Communicatie & Multimedia Design. Met Abi richt ik me op de vrienden van iemand met een depressie. Mijn doel is om ervoor te zorgen dat zij beter kunnen omgaan met een depressieve vriend of vriendin\, zodat de vriendschap intact blijft en dat er wederzijds begrip ontstaat. Vriendschap is belangrijk\, omdat contact met vrienden en vriendinnen kan helpen bij het herstel van een depressie. Abi is het resultaat van uitgebreid onderzoek en vele gesprekken met de doelgroep en psychologen.     Rixt (maker en bedenker van ABI en overwinnaar van een depressie)   De app is ontworpen en klaar om ook daadwerkelijk gebouwd te worden. Met het opgehaalde geld zal deze app door MIND Bluegebouwd en gelanceerd worden. \n  \n  \n 
URL:https://hardloopevenementen.com/loopagenda/mind-blue-monday-run-blauwestad-groningen-gr-2/
END:VEVENT
BEGIN:VEVENT
DTSTART;VALUE=DATE:20180115
DTEND;VALUE=DATE:20180116
DTSTAMP:20260425T174520
CREATED:20080813T172258Z
LAST-MODIFIED:20190423T120719Z
UID:17215-1515974400-1515974400@hardloopevenementen.com
SUMMARY:MIND Blue Monday Run - Blauwestad Groningen (GR)
DESCRIPTION:Doe mee met het hardloopevenement MIND Blue Monday Run – Blauwestad te Groningen (GR) op ma 15 jan 2018. De volgende afstanden staan op het programma: 10 km – halve marathon hardlopen. Wilt u inschrijven voor dit loopevenement?  Raadpleeg hiervoor dan de website van de organisatie\nDe uitslagen van deze hardloopwedstrijd zijn te raadplegen via dezelfde website of via de bekende websites zoals uitslagen.nl\, runtimer en mylaps. Doet u mee met dit evenement\, zorg dan dat u goed voorbereid aan de start staat! Met een goed trainingsschema komt u een heel eind. Train bijvoorbeeld met start to run van Evy Gruyaert. Download de start to run mp3 bestanden en zet ze op uw telefoon. Oortjes in\, hit the play button en en rennen maar! \n\n\n\n\nMeer informatie over MIND Blue Monday Run – Blauwestad op Hardloopkalender.nl  \nMaandag 15 januari 2018 is het weer Blue Monday. Op deze dag organiseer ik\, Koploper Stefan Wendel\, de MIND Blue Monday Run om het Oldambtmeer bij Blauwestad. Het is geen officiële wedstrijdloop\, maar een sponsorloop voor MIND Blue. Je kunt meedoen aan twee afstanden: 10 km en 21 km.     Wie loopt deze maandag met mij mee?    Hartje winter langs misschien wel een bevroren meer en een ijskoude wind 10 of 21 km koplopen op deze meest sombere dag van het jaar. Om op deze manier aandacht te vragen voor de dodelijke ziekte depressie. En natuurlijk donaties voor betere hulp.    Waar doe je het voor?  Met jouw actie steun je direct mensen met een depressie. Al het ingezamelde geld van deze Blue Monday Run stelt MIND beschikbaar voor het uitbreiden en doorontwikkelen van de supportgroepen van de Depressie Vereniging. In deze groepen vertellen mensen elkaar hoe zij leven met hun depressie. Zo’n groep kan een belangrijke rol (gaan) spelen in iemand zijn of haar leven. Het zorgt voor herkenning en erkenning. En het draagt bij aan herstel.     Op dit moment zijn er al bijna 60 supportgroepen in heel Nederland. Om deze supportgroepen te laten bestaan en uit te kunnen breiden\, is geld nodig. Voor  200\,- kan 1 persoon het hele jaar deelnemen aan zo’n groep.     Doe je mee? Ga naar https:  www.doemeemetmind.nl project blue-monday-run en maak je eigen actiepagina aan \n  \n  \n 
URL:https://hardloopevenementen.com/loopagenda/mind-blue-monday-run-blauwestad-groningen-gr/
END:VEVENT
END:VCALENDAR