BEGIN:VCALENDAR
VERSION:2.0
PRODID:-//Hardloopevenementen - ECPv6.15.14//NONSGML v1.0//EN
CALSCALE:GREGORIAN
METHOD:PUBLISH
X-WR-CALNAME:Hardloopevenementen
X-ORIGINAL-URL:https://hardloopevenementen.com
X-WR-CALDESC:Evenementen voor Hardloopevenementen
REFRESH-INTERVAL;VALUE=DURATION:PT1H
X-Robots-Tag:noindex
X-PUBLISHED-TTL:PT1H
BEGIN:VTIMEZONE
TZID:UTC
BEGIN:STANDARD
TZOFFSETFROM:+0000
TZOFFSETTO:+0000
TZNAME:UTC
DTSTART:20130101T000000
END:STANDARD
END:VTIMEZONE
BEGIN:VEVENT
DTSTART;VALUE=DATE:20141101
DTEND;VALUE=DATE:20141102
DTSTAMP:20260420T170548
CREATED:20070404T031320Z
LAST-MODIFIED:20190423T105001Z
UID:8828-1414800000-1414800000@hardloopevenementen.com
SUMMARY:Boerboscross Rolde\, gemeente Aa en Hunze (DR)
DESCRIPTION:Doe mee met het hardloopevenement Boerboscross te Rolde\, gemeente Aa en Hunze (DR) op za 01 nov 2014. De volgende afstanden staan op het programma: 4\,2 km – 7 km hardlopen. Wilt u inschrijven voor dit loopevenement?  Raadpleeg hiervoor dan de website van de organisatie\nDe uitslagen van deze hardloopwedstrijd zijn te raadplegen via dezelfde website of via de bekende websites zoals uitslagen.nl\, runtimer en mylaps. Doet u mee met dit evenement\, zorg dan dat u goed voorbereid aan de start staat! Met een goed trainingsschema komt u een heel eind. Train bijvoorbeeld met start to run van Evy Gruyaert. Download de start to run mp3 bestanden en zet ze op uw telefoon. Oortjes in\, hit the play button en en rennen maar! \n\n\n\n\nMeer informatie over Boerboscross op Hardloopkalender.nl  \nInschrijven: vanaf 12:30  Locatie: Sporthal de Boerhoorn\,  Zuides 50\, 9451KD Rolde  Deelname: 3\,-  Start Cross: 14:00  Organisatie: Loopgroep SGO  Geopark Hondsrug crosscircuit: 1e loop  Boerbos cross sponsor:   Echte Bakker Pots Rolde  Opzet run: Jeugd 12-20 jr ca 4\,2 km\, Senioren  ca 7 km  Parkoers:  Over onverharde paden in het Boerbos in Rolde. Het Boerbos kenmerkt zich door uitdagende  heuvels\, heide en bos. \n  \n  \n 
URL:https://hardloopevenementen.com/loopagenda/boerboscross-rolde-gemeente-aa-en-hunze-dr/
END:VEVENT
END:VCALENDAR