BEGIN:VCALENDAR
VERSION:2.0
PRODID:-//Hardloopevenementen - ECPv6.15.14//NONSGML v1.0//EN
CALSCALE:GREGORIAN
METHOD:PUBLISH
X-ORIGINAL-URL:https://hardloopevenementen.com
X-WR-CALDESC:Evenementen voor Hardloopevenementen
REFRESH-INTERVAL;VALUE=DURATION:PT1H
X-Robots-Tag:noindex
X-PUBLISHED-TTL:PT1H
BEGIN:VTIMEZONE
TZID:UTC
BEGIN:STANDARD
TZOFFSETFROM:+0000
TZOFFSETTO:+0000
TZNAME:UTC
DTSTART:20110101T000000
END:STANDARD
END:VTIMEZONE
BEGIN:VEVENT
DTSTART;VALUE=DATE:20120818
DTEND;VALUE=DATE:20120819
DTSTAMP:20260423T031935
CREATED:20170118T082248Z
LAST-MODIFIED:20190423T103019Z
UID:27874-1345248000-1345248000@hardloopevenementen.com
SUMMARY:Bosbaan Marathon Amstelveen (NH)
DESCRIPTION:Doe mee met het hardloopevenement Bosbaan Marathon te Amstelveen (NH) op za 18 aug 2012. De volgende afstanden staan op het programma: marathon hardlopen. Wilt u inschrijven voor dit loopevenement?  Raadpleeg hiervoor dan de website van de organisatie\nDe uitslagen van deze hardloopwedstrijd zijn te raadplegen via dezelfde website of via de bekende websites zoals uitslagen.nl\, runtimer en mylaps. Doet u mee met dit evenement\, zorg dan dat u goed voorbereid aan de start staat! Met een goed trainingsschema komt u een heel eind. Train bijvoorbeeld met start to run van Evy Gruyaert. Download de start to run mp3 bestanden en zet ze op uw telefoon. Oortjes in\, hit the play button en en rennen maar! \n\n\n\n\nMeer informatie over Bosbaan Marathon op Hardloopkalender.nl  \nBosbaan Marathon   1182 AG Amstelveen    Datum: zaterdag 18 Augustus 2012  Start: 09.00 uur    Maximum aantal deelnemers: 25  Kosten: Gratis    Een wilde marathon rond de roeibaan in het Amsterdamse Bos in Amstelveen. Een aanloopstuk en dan 8 ronden rond de bosbaan. Een mooi vlak parcours\, met water en groen.    Er is geen verzorging dus neem een bidon en wat te eten mee. Leg een fles drank in je auto. Daar kom je iedere ronde langs. Er is geen kleed- en douche gelegenheid\, en maak een sanitaire stop tijdens het aanrijden.    De marathon is aangemeld bij de 100 Marathon Club Nederland (http:  www.100mcnl.org ) maar is nog in afwachting van erkenning door de 100 MCNL.    Alleen voorinschrijving: wildemarathon@kpnmail.nl (Francis Spoelstra) \n  \n  \n 
URL:https://hardloopevenementen.com/loopagenda/bosbaan-marathon-amstelveen-nh/
END:VEVENT
END:VCALENDAR