BEGIN:VCALENDAR
VERSION:2.0
PRODID:-//Hardloopevenementen - ECPv6.15.14//NONSGML v1.0//EN
CALSCALE:GREGORIAN
METHOD:PUBLISH
X-ORIGINAL-URL:https://hardloopevenementen.com
X-WR-CALDESC:Evenementen voor Hardloopevenementen
REFRESH-INTERVAL;VALUE=DURATION:PT1H
X-Robots-Tag:noindex
X-PUBLISHED-TTL:PT1H
BEGIN:VTIMEZONE
TZID:UTC
BEGIN:STANDARD
TZOFFSETFROM:+0000
TZOFFSETTO:+0000
TZNAME:UTC
DTSTART:20120101T000000
END:STANDARD
END:VTIMEZONE
BEGIN:VEVENT
DTSTART;VALUE=DATE:20161009
DTEND;VALUE=DATE:20161010
DTSTAMP:20260421T044036
CREATED:20100801T135729Z
LAST-MODIFIED:20190423T112137Z
UID:11791-1475971200-1475971200@hardloopevenementen.com
SUMMARY:Bosschenhoofdse Midsummerrun Bosschenhoofd\, gemeente Halderberge (NB)
DESCRIPTION:Doe mee met het hardloopevenement Bosschenhoofdse Midsummerrun te Bosschenhoofd\, gemeente Halderberge (NB) op zo 09 okt 2016. De volgende afstanden staan op het programma: 5 km – 10 km hardlopen. Wilt u inschrijven voor dit loopevenement?  Raadpleeg hiervoor dan de website van de organisatie\nDe uitslagen van deze hardloopwedstrijd zijn te raadplegen via dezelfde website of via de bekende websites zoals uitslagen.nl\, runtimer en mylaps. Doet u mee met dit evenement\, zorg dan dat u goed voorbereid aan de start staat! Met een goed trainingsschema komt u een heel eind. Train bijvoorbeeld met start to run van Evy Gruyaert. Download de start to run mp3 bestanden en zet ze op uw telefoon. Oortjes in\, hit the play button en en rennen maar! \n\n\n\n\nMeer informatie over Bosschenhoofdse Midsummerrun op Hardloopkalender.nl  \nInformatie:  – Inschrijven: Kan zowel via het inschrijfformulier\, of op de dag zelf vanaf 10:00 tot een kwartier voor aanvang van de betreffende wedstrijd.  – Startnummers: U kunt zondag 9 oktober vanaf 10:00 uur uw startnummer ophalen bij Café Concordia (tegenover de kerk).  – Adres: Pastoor van Breugelstraat 72\, 4744 AE Bosschenhoofd  Kleedruimtes en douchegelegenheid: Omkleden kan men bij Café Concordia (tegenover de kerk) of in de gymzaal van de basisschool t Bosschehart. Er is een douchegelegenheid in de gymzaal van de basisschool t Bosschehart.  – Start en finish: De start en finish vinden plaats bij Café Concordia (tegenover de kerk).  – Start 5 kilometer:  11:00 uur.  – Start 10 kilometer:  12:00 uur.  – Prijzen: Voor de 5 kilometer worden de eerste drie mannen en vrouwen gehuldigd. Voor de 10 kilometer geldt dit voor de eerste drie mannen en vrouwen in elke leeftijdscategorie (heren senioren\, 35\, 45\, 55 en 65\, voor de dames senioren\, 45\, en 55)(volgens WBLC). We hebben dit jaar ook  50\,- prijzengeld voor het parcoursrecord op de 5 en 10 kilometer.  Huldiging direct na de betreffende wedstrijd.  – Parcoursrecord: Het parcoursrecord staat nu op 15.58 minuten voor de 5 kilometer. En voor de 10 kilometer staat het parcoursrecord op 33.25 minuten.  – Parkeren: Dit is mogelijk op het terrein van De Reiskoffer. Alleen te bereiken via de Seppedreef. Ook is er parkeergelegenheid op het Midzomerplein. Volg P Midsummerrun. Fietsenstalling aanwezig bij oude pastorie (tegenover Café Concordia). Zie ook ROUTEBESCHRIJVING  PARKEREN \n  \n  \n 
URL:https://hardloopevenementen.com/loopagenda/bosschenhoofdse-midsummerrun-bosschenhoofd-gemeente-halderberge-nb/
END:VEVENT
BEGIN:VEVENT
DTSTART;VALUE=DATE:20130824
DTEND;VALUE=DATE:20130825
DTSTAMP:20260421T044036
CREATED:20161116T074916Z
LAST-MODIFIED:20190423T104048Z
UID:31284-1377302400-1377302400@hardloopevenementen.com
SUMMARY:Bosschenhoofdse Midsummerrun Bosschenhoofd\, gemeente Halderberge (NB)
DESCRIPTION:Doe mee met het hardloopevenement Bosschenhoofdse Midsummerrun te Bosschenhoofd\, gemeente Halderberge (NB) op za 24 aug 2013. De volgende afstanden staan op het programma: 5 km – 10 km hardlopen. Wilt u inschrijven voor dit loopevenement?  Raadpleeg hiervoor dan de website van de organisatie\nDe uitslagen van deze hardloopwedstrijd zijn te raadplegen via dezelfde website of via de bekende websites zoals uitslagen.nl\, runtimer en mylaps. Doet u mee met dit evenement\, zorg dan dat u goed voorbereid aan de start staat! Met een goed trainingsschema komt u een heel eind. Train bijvoorbeeld met start to run van Evy Gruyaert. Download de start to run mp3 bestanden en zet ze op uw telefoon. Oortjes in\, hit the play button en en rennen maar! \n\n\n\n\nMeer informatie over Bosschenhoofdse Midsummerrun op Hardloopkalender.nl  \nDe Midsummerrun Bosschenhoofd beleeft op zaterdag 24 augustus 2013 haar 1e editie\, dit hardloop-evenement wordt gehouden tijdens de 24ste Bosschenhoofdse Midzomerfeesten. Al 24 jaar achter elkaar het leukste midzomerfeest in de regio. Het weekend is een mix van sport\,braderie en volksfeest. Geen ander regionaal evenement in Brabant kan dit evenaren\, met ruim duizenden enthousiaste bezoekers tijdens dit laatste volle weekend van Augustus. \n  \n  \n 
URL:https://hardloopevenementen.com/loopagenda/bosschenhoofdse-midsummerrun-bosschenhoofd-gemeente-halderberge-nb-2/
END:VEVENT
END:VCALENDAR