BEGIN:VCALENDAR
VERSION:2.0
PRODID:-//Hardloopevenementen - ECPv6.15.14//NONSGML v1.0//EN
CALSCALE:GREGORIAN
METHOD:PUBLISH
X-WR-CALNAME:Hardloopevenementen
X-ORIGINAL-URL:https://hardloopevenementen.com
X-WR-CALDESC:Evenementen voor Hardloopevenementen
REFRESH-INTERVAL;VALUE=DURATION:PT1H
X-Robots-Tag:noindex
X-PUBLISHED-TTL:PT1H
BEGIN:VTIMEZONE
TZID:UTC
BEGIN:STANDARD
TZOFFSETFROM:+0000
TZOFFSETTO:+0000
TZNAME:UTC
DTSTART:20080101T000000
END:STANDARD
END:VTIMEZONE
BEGIN:VEVENT
DTSTART;VALUE=DATE:20100606
DTEND;VALUE=DATE:20100607
DTSTAMP:20260421T005822
CREATED:20140624T130923Z
LAST-MODIFIED:20190423T101115Z
UID:4109-1275782400-1275782400@hardloopevenementen.com
SUMMARY:Dr Brenninkmeijerloop Lichtenvoorde\, gemeente Oost Gelre (GE)
DESCRIPTION:Doe mee met het hardloopevenement Dr Brenninkmeijerloop te Lichtenvoorde\, gemeente Oost Gelre (GE) op zo 06 jun 2010. De volgende afstanden staan op het programma: 2 km – 5 km – 10 km hardlopen. Wilt u inschrijven voor dit loopevenement?  Raadpleeg hiervoor dan de website van de organisatie\nDe uitslagen van deze hardloopwedstrijd zijn te raadplegen via dezelfde website of via de bekende websites zoals uitslagen.nl\, runtimer en mylaps. Doet u mee met dit evenement\, zorg dan dat u goed voorbereid aan de start staat! Met een goed trainingsschema komt u een heel eind. Train bijvoorbeeld met start to run van Evy Gruyaert. Download de start to run mp3 bestanden en zet ze op uw telefoon. Oortjes in\, hit the play button en en rennen maar! \n\n\n\n\nMeer informatie over Dr Brenninkmeijerloop op Hardloopkalender.nl  \nDit loopevenement wordt georganiseerd door St. Dr. Brenninkmeijerloop.De eerste afstand (of onderdeel) start om 10:00.Het adres van de start en de finish is Raadhuisstraat18Categorie(ën): mannen\, vrouwen\, jeugdVooraf inschrijven is mogelijk vanaf 06 juni 2010 tot niet van toepassing.Inschrijven op de dag van de loop is mogelijk (vanaf 6 juni 2010 kwartier voor start) op dit adres: Raadhuisstraat 18.Meer informatie:Contactpersoon: E.H.J. KetelsTel.: 0544376563Email: e.ketels@wanadoo.nlEr is een kleedaccomodatie aanwezig. Douchen is mogelijk.Het parcours is verhard.Overige bijzonderheden:  Nieuw\, sfeervol evenement! \n  \n  \n 
URL:https://hardloopevenementen.com/loopagenda/dr-brenninkmeijerloop-lichtenvoorde-gemeente-oost-gelre-ge-2/
END:VEVENT
BEGIN:VEVENT
DTSTART;VALUE=DATE:20090607
DTEND;VALUE=DATE:20090608
DTSTAMP:20260421T005822
CREATED:20080823T073242Z
LAST-MODIFIED:20190423T100055Z
UID:2211-1244332800-1244332800@hardloopevenementen.com
SUMMARY:Dr Brenninkmeijerloop Lichtenvoorde\, gemeente Oost Gelre (GE)
DESCRIPTION:Doe mee met het hardloopevenement Dr Brenninkmeijerloop te Lichtenvoorde\, gemeente Oost Gelre (GE) op zo 07 jun 2009. De volgende afstanden staan op het programma: 2 km – 5 km – 10 km hardlopen. Wilt u inschrijven voor dit loopevenement?  Raadpleeg hiervoor dan de website van de organisatie\nDe uitslagen van deze hardloopwedstrijd zijn te raadplegen via dezelfde website of via de bekende websites zoals uitslagen.nl\, runtimer en mylaps. Doet u mee met dit evenement\, zorg dan dat u goed voorbereid aan de start staat! Met een goed trainingsschema komt u een heel eind. Train bijvoorbeeld met start to run van Evy Gruyaert. Download de start to run mp3 bestanden en zet ze op uw telefoon. Oortjes in\, hit the play button en en rennen maar! \n\n\n\n\nMeer informatie over Dr Brenninkmeijerloop op Hardloopkalender.nl  \nkroegenestafette om 12.15 uur \n  \n  \n 
URL:https://hardloopevenementen.com/loopagenda/dr-brenninkmeijerloop-lichtenvoorde-gemeente-oost-gelre-ge/
END:VEVENT
END:VCALENDAR