BEGIN:VCALENDAR
VERSION:2.0
PRODID:-//Hardloopevenementen - ECPv6.15.14//NONSGML v1.0//EN
CALSCALE:GREGORIAN
METHOD:PUBLISH
X-ORIGINAL-URL:https://hardloopevenementen.com
X-WR-CALDESC:Evenementen voor Hardloopevenementen
REFRESH-INTERVAL;VALUE=DURATION:PT1H
X-Robots-Tag:noindex
X-PUBLISHED-TTL:PT1H
BEGIN:VTIMEZONE
TZID:UTC
BEGIN:STANDARD
TZOFFSETFROM:+0000
TZOFFSETTO:+0000
TZNAME:UTC
DTSTART:20120101T000000
END:STANDARD
END:VTIMEZONE
BEGIN:VEVENT
DTSTART;VALUE=DATE:20200510
DTEND;VALUE=DATE:20200511
DTSTAMP:20260424T082539
CREATED:20100808T211415Z
LAST-MODIFIED:20200206T111401Z
UID:145003-1589068800-1589068800@hardloopevenementen.com
SUMMARY:Vestingloop Brielle Brielle (ZH)
DESCRIPTION:Doe mee met het hardloopevenement Vestingloop Brielle te Brielle (ZH) op zo 10 mei 2020. De volgende afstanden staan op het programma: 1 km – 5 km – 10 km hardlopen. Wilt u inschrijven voor dit loopevenement?  Raadpleeg hiervoor dan de website van de organisatie\nDe uitslagen van deze hardloopwedstrijd zijn te raadplegen via dezelfde website of via de bekende websites zoals uitslagen.nl\, runtimer en mylaps. Doet u mee met dit evenement\, zorg dan dat u goed voorbereid aan de start staat! Met een goed trainingsschema komt u een heel eind. Train bijvoorbeeld met start to run van Evy Gruyaert. Download de start to run mp3 bestanden en zet ze op uw telefoon. Oortjes in\, hit the play button en en rennen maar! \n\n\n\n\nMeer informatie over Vestingloop Brielle op Hardloopkalender.nl  \nOp 10 mei 2020 vindt de tweede editie van de Rabobank Vestingloop Brielle plaats! Een hardloopfeest dat voor iedereen iets te bieden heeft.  Een 1 km Familieloop\, een 5 km Vestingloop\, een 10 km Geuzenloop\, 5 km & 10 km Bedrijvenloop en Wandeltocht van 10 km. Lopen door prachtige natuur\, langs historische plekken en starten en finishen bij de gezelligheid van Strandcafé de Meiden aan het sfeervolle Brielse Meer. Schrijf je nu in! \n  \n  \n 
URL:https://hardloopevenementen.com/loopagenda/vestingloop-brielle-brielle-zh-2/
END:VEVENT
BEGIN:VEVENT
DTSTART;VALUE=DATE:20190512
DTEND;VALUE=DATE:20190513
DTSTAMP:20260424T082539
CREATED:20100624T052509Z
LAST-MODIFIED:20191114T112637Z
UID:43722-1557619200-1557619200@hardloopevenementen.com
SUMMARY:Vestingloop Brielle Brielle (ZH)
DESCRIPTION:Doe mee met het hardloopevenement Vestingloop Brielle te Brielle (ZH) op zo 12 mei 2019. De volgende afstanden staan op het programma: 1 km – 5 km – 10 km hardlopen. Wilt u inschrijven voor dit loopevenement?  Raadpleeg hiervoor dan de website van de organisatie\nDe uitslagen van deze hardloopwedstrijd zijn te raadplegen via dezelfde website of via de bekende websites zoals uitslagen.nl\, runtimer en mylaps. Doet u mee met dit evenement\, zorg dan dat u goed voorbereid aan de start staat! Met een goed trainingsschema komt u een heel eind. Train bijvoorbeeld met start to run van Evy Gruyaert. Download de start to run mp3 bestanden en zet ze op uw telefoon. Oortjes in\, hit the play button en en rennen maar! \n\n\n\n\nMeer informatie over Vestingloop Brielle op Hardloopkalender.nl  \nOp 12 mei 2019 vindt de eerste editie van de Rabobank Vestingloop Brielle plaats! Een hardloopfeest dat voor iedereen iets te bieden heeft.  Een 1 km Familieloop\, een 5 km Vestingloop en een 10 km Geuzenloop en wandeltocht van 10 km. Lopen door prachtige natuur\, langs historische plekken en starten en finishen bij de gezelligheid van Strandcafé de Meiden aan het sfeervolle Brielse Meer. Schrijf je nu in! \n  \n  \n 
URL:https://hardloopevenementen.com/loopagenda/vestingloop-brielle-brielle-zh/
END:VEVENT
BEGIN:VEVENT
DTSTART;VALUE=DATE:20130210
DTEND;VALUE=DATE:20130211
DTSTAMP:20260424T082539
CREATED:20070801T130219Z
LAST-MODIFIED:20190423T104509Z
UID:32277-1360454400-1360454400@hardloopevenementen.com
SUMMARY:10 Engelse mijlen Geuzenpark Brielle Brielle (ZH)
DESCRIPTION:Doe mee met het hardloopevenement 10 Engelse mijlen Geuzenpark Brielle te Brielle (ZH) op zo 10 feb 2013. De volgende afstanden staan op het programma: 5 km – 10 km – 10 Engelse mijl hardlopen. Wilt u inschrijven voor dit loopevenement?  Raadpleeg hiervoor dan de website van de organisatie\nDe uitslagen van deze hardloopwedstrijd zijn te raadplegen via dezelfde website of via de bekende websites zoals uitslagen.nl\, runtimer en mylaps. Doet u mee met dit evenement\, zorg dan dat u goed voorbereid aan de start staat! Met een goed trainingsschema komt u een heel eind. Train bijvoorbeeld met start to run van Evy Gruyaert. Download de start to run mp3 bestanden en zet ze op uw telefoon. Oortjes in\, hit the play button en en rennen maar! \n\n\n\n\nMeer informatie over 10 Engelse mijlen Geuzenpark Brielle op Hardloopkalender.nl  \nNieuwe start locatie!  Vanaf onze nieuwe atletiekbaan in het Geuzenpark. \n  \n  \n 
URL:https://hardloopevenementen.com/loopagenda/10-engelse-mijlen-geuzenpark-brielle-brielle-zh/
END:VEVENT
END:VCALENDAR