BEGIN:VCALENDAR
VERSION:2.0
PRODID:-//Hardloopevenementen - ECPv6.15.14//NONSGML v1.0//EN
CALSCALE:GREGORIAN
METHOD:PUBLISH
X-WR-CALNAME:Hardloopevenementen
X-ORIGINAL-URL:https://hardloopevenementen.com
X-WR-CALDESC:Evenementen voor Hardloopevenementen
REFRESH-INTERVAL;VALUE=DURATION:PT1H
X-Robots-Tag:noindex
X-PUBLISHED-TTL:PT1H
BEGIN:VTIMEZONE
TZID:UTC
BEGIN:STANDARD
TZOFFSETFROM:+0000
TZOFFSETTO:+0000
TZNAME:UTC
DTSTART:20100101T000000
END:STANDARD
END:VTIMEZONE
BEGIN:VEVENT
DTSTART;VALUE=DATE:20140812
DTEND;VALUE=DATE:20140813
DTSTAMP:20260419T230029
CREATED:20110925T142729Z
LAST-MODIFIED:20190423T105242Z
UID:33509-1407801600-1407801600@hardloopevenementen.com
SUMMARY:7e Henktenhoor Brinloop Diever Diever\, gemeente Westerveld (DR)
DESCRIPTION:Doe mee met het hardloopevenement 7e Henktenhoor Brinloop Diever te Diever\, gemeente Westerveld (DR) op di 12 aug 2014. De volgende afstanden staan op het programma: 2\,5 km – 5 km – 10 km hardlopen. Wilt u inschrijven voor dit loopevenement?  Raadpleeg hiervoor dan de website van de organisatie\nDe uitslagen van deze hardloopwedstrijd zijn te raadplegen via dezelfde website of via de bekende websites zoals uitslagen.nl\, runtimer en mylaps. Doet u mee met dit evenement\, zorg dan dat u goed voorbereid aan de start staat! Met een goed trainingsschema komt u een heel eind. Train bijvoorbeeld met start to run van Evy Gruyaert. Download de start to run mp3 bestanden en zet ze op uw telefoon. Oortjes in\, hit the play button en en rennen maar! \n\n\n\n\nMeer informatie over 7e Henktenhoor Brinloop Diever op Hardloopkalender.nl  \nHet loopevenement 7e Henktenhoor Brinloop Diever te Diever vindt plaats op dinsdag 12 augustus 2014. De loop wordt georganisseerd door SV Friesland. Klik hier voor het adres van de start (Google Maps). \n  \n  \n 
URL:https://hardloopevenementen.com/loopagenda/7e-henktenhoor-brinloop-diever-diever-gemeente-westerveld-dr-4/
END:VEVENT
BEGIN:VEVENT
DTSTART;VALUE=DATE:20130813
DTEND;VALUE=DATE:20130814
DTSTAMP:20260419T230029
CREATED:20070210T052115Z
LAST-MODIFIED:20190423T104057Z
UID:31317-1376352000-1376352000@hardloopevenementen.com
SUMMARY:7e Henktenhoor Brinloop Diever Diever\, gemeente Westerveld (DR)
DESCRIPTION:Doe mee met het hardloopevenement 7e Henktenhoor Brinloop Diever te Diever\, gemeente Westerveld (DR) op di 13 aug 2013. De volgende afstanden staan op het programma: 2\,5 km – 5 km – 10 km hardlopen. Wilt u inschrijven voor dit loopevenement?  Raadpleeg hiervoor dan de website van de organisatie\nDe uitslagen van deze hardloopwedstrijd zijn te raadplegen via dezelfde website of via de bekende websites zoals uitslagen.nl\, runtimer en mylaps. Doet u mee met dit evenement\, zorg dan dat u goed voorbereid aan de start staat! Met een goed trainingsschema komt u een heel eind. Train bijvoorbeeld met start to run van Evy Gruyaert. Download de start to run mp3 bestanden en zet ze op uw telefoon. Oortjes in\, hit the play button en en rennen maar! \n\n\n\n\nMeer informatie over 7e Henktenhoor Brinloop Diever op Hardloopkalender.nl  \nHet loopevenement 7e Henktenhoor Brinloop Diever te Diever vindt plaats op dinsdag 13 augustus 2013. De loop wordt georganisseerd door SV Friesland. Inschrijven is mogelijk vanaf 13 augustus 2013. Klik hier voor het adres van de start (Google Maps).Er is verkleedaccomodatie met douchemogelijkheid aanwezig. Er is EHBO aanwezig. Voor meer informatie:Freek Benthemsportpromdiever@planet.nl0592414764http:  www.dieversportief.nl \n  \n  \n 
URL:https://hardloopevenementen.com/loopagenda/7e-henktenhoor-brinloop-diever-diever-gemeente-westerveld-dr-3/
END:VEVENT
BEGIN:VEVENT
DTSTART;VALUE=DATE:20120814
DTEND;VALUE=DATE:20120815
DTSTAMP:20260419T230029
CREATED:20100830T185244Z
LAST-MODIFIED:20190423T103026Z
UID:27896-1344902400-1344902400@hardloopevenementen.com
SUMMARY:7e Henktenhoor Brinloop Diever Diever\, gemeente Westerveld (DR)
DESCRIPTION:Doe mee met het hardloopevenement 7e Henktenhoor Brinloop Diever te Diever\, gemeente Westerveld (DR) op di 14 aug 2012. De volgende afstanden staan op het programma: 2\,5 km – 5 km – 10 km hardlopen. Wilt u inschrijven voor dit loopevenement?  Raadpleeg hiervoor dan de website van de organisatie\nDe uitslagen van deze hardloopwedstrijd zijn te raadplegen via dezelfde website of via de bekende websites zoals uitslagen.nl\, runtimer en mylaps. Doet u mee met dit evenement\, zorg dan dat u goed voorbereid aan de start staat! Met een goed trainingsschema komt u een heel eind. Train bijvoorbeeld met start to run van Evy Gruyaert. Download de start to run mp3 bestanden en zet ze op uw telefoon. Oortjes in\, hit the play button en en rennen maar! \n\n\n\n\nMeer informatie over 7e Henktenhoor Brinloop Diever op Hardloopkalender.nl  \nHet loopevenement 7e Henktenhoor Brinloop Diever te Diever vindt plaats op dinsdag 14 augustus 2012. De loop wordt georganiseerd door SV Friesland. Inschrijven is mogelijk vanaf 16 augustus 2011. Klik hier voor het adres van de start (Google Maps).Er is EHBO aanwezig. Afstand SoortloopInschrijfgeldStarttijdInfo10 km3\,0019.305 km3\,0019\,302.5 km3\,0019\,30Voor meer informatie:Freek Benthemsportpromdiever@planet.nl0592414764http:  www.dieversportief.nl \n  \n  \n 
URL:https://hardloopevenementen.com/loopagenda/7e-henktenhoor-brinloop-diever-diever-gemeente-westerveld-dr-2/
END:VEVENT
BEGIN:VEVENT
DTSTART;VALUE=DATE:20110816
DTEND;VALUE=DATE:20110817
DTSTAMP:20260419T230029
CREATED:20101022T114201Z
LAST-MODIFIED:20190423T101935Z
UID:6524-1313452800-1313452800@hardloopevenementen.com
SUMMARY:7e Henktenhoor Brinloop Diever Diever\, gemeente Westerveld (DR)
DESCRIPTION:Doe mee met het hardloopevenement 7e Henktenhoor Brinloop Diever te Diever\, gemeente Westerveld (DR) op di 16 aug 2011. De volgende afstanden staan op het programma: 2\,5 km – 5 km – 10 km hardlopen. Wilt u inschrijven voor dit loopevenement?  Raadpleeg hiervoor dan de website van de organisatie\nDe uitslagen van deze hardloopwedstrijd zijn te raadplegen via dezelfde website of via de bekende websites zoals uitslagen.nl\, runtimer en mylaps. Doet u mee met dit evenement\, zorg dan dat u goed voorbereid aan de start staat! Met een goed trainingsschema komt u een heel eind. Train bijvoorbeeld met start to run van Evy Gruyaert. Download de start to run mp3 bestanden en zet ze op uw telefoon. Oortjes in\, hit the play button en en rennen maar! \n\n\n\n\nMeer informatie over 7e Henktenhoor Brinloop Diever op Hardloopkalender.nl  \nHet loopevenement 7e Henktenhoor Brinloop Diever te Diever vindt plaats op dinsdag 16 augustus 2011. De loop wordt georganiseerd door SV Friesland. Inschrijven is mogelijk vanaf 16 augustus 2011. Klik hier voor het adres van de start (Google Maps).Er is verkleedaccomodatie met douchemogelijkheid aanwezig. Er is EHBO aanwezig. Bijzonderheden: samen met st.sport.prom.Diever.Afstand(km)Inschrijfgeld(€)Starttijd10€5\,0019.30Voor meer informatie:Freek Benthemsportpromdiever@planet.nl0592414764http:  www.dieversportief.nl \n  \n  \n 
URL:https://hardloopevenementen.com/loopagenda/7e-henktenhoor-brinloop-diever-diever-gemeente-westerveld-dr/
END:VEVENT
END:VCALENDAR