BEGIN:VCALENDAR
VERSION:2.0
PRODID:-//Hardloopevenementen - ECPv6.15.14//NONSGML v1.0//EN
CALSCALE:GREGORIAN
METHOD:PUBLISH
X-WR-CALNAME:Hardloopevenementen
X-ORIGINAL-URL:https://hardloopevenementen.com
X-WR-CALDESC:Evenementen voor Hardloopevenementen
REFRESH-INTERVAL;VALUE=DURATION:PT1H
X-Robots-Tag:noindex
X-PUBLISHED-TTL:PT1H
BEGIN:VTIMEZONE
TZID:UTC
BEGIN:STANDARD
TZOFFSETFROM:+0000
TZOFFSETTO:+0000
TZNAME:UTC
DTSTART:20160101T000000
END:STANDARD
END:VTIMEZONE
BEGIN:VEVENT
DTSTART;VALUE=DATE:20200515
DTEND;VALUE=DATE:20200516
DTSTAMP:20260422T170605
CREATED:20130121T092219Z
LAST-MODIFIED:20200206T111359Z
UID:144997-1589500800-1589500800@hardloopevenementen.com
SUMMARY:BTS Polderloop Hoeksche Waard 2020 Klaaswaal\, gemeente Hoeksche Waard (ZH)
DESCRIPTION:Doe mee met het hardloopevenement BTS Polderloop Hoeksche Waard 2020 te Klaaswaal\, gemeente Hoeksche Waard (ZH) op vr 15 mei 2020. De volgende afstanden staan op het programma: 5 km – 10 km hardlopen. Wilt u inschrijven voor dit loopevenement?  Raadpleeg hiervoor dan de website van de organisatie\nDe uitslagen van deze hardloopwedstrijd zijn te raadplegen via dezelfde website of via de bekende websites zoals uitslagen.nl\, runtimer en mylaps. Doet u mee met dit evenement\, zorg dan dat u goed voorbereid aan de start staat! Met een goed trainingsschema komt u een heel eind. Train bijvoorbeeld met start to run van Evy Gruyaert. Download de start to run mp3 bestanden en zet ze op uw telefoon. Oortjes in\, hit the play button en en rennen maar! \n\n\n\n\nMeer informatie over BTS Polderloop Hoeksche Waard 2020 op Hardloopkalender.nl  \nDe BTS Polderloop Hoeksche Waard is hét sportieve evenement in de Hoeksche Waard die voor iedereen wat te bieden heeft. Op vrijdagavond 15 mei 2020 organiseren we alweer de 4e editie van dit sportieve evenement\, waarbij de deelnemers door de mooie polders lopen die in- en rondom Klaaswaal heen liggen. De start en finish is op de Voorstraat.    Zoals elk jaar is er een Kidsrun voor kinderen t m 12 jaar\, een 5 kilometer loop en een 10 kilometer loop. Daarbij hebben we sinds dit jaar ook een mooie wandeltocht van 5 kilometer als onderdeel toegevoegd.     Zoals elk jaar wordt er ook dit jaar gelopen voor het goede doel. Het goede doel van dit jaar is Hospice Hoeksche Waard. Een deel van het inschrijfgeld van iedere deelnemer gaat naar dit mooie doel. Als stichting zullen wij nog een extra bedrag doneren wanneer we voldoende aantal deelnemers hebben. \n  \n  \n 
URL:https://hardloopevenementen.com/loopagenda/bts-polderloop-hoeksche-waard-2020-klaaswaal-gemeente-hoeksche-waard-zh/
END:VEVENT
BEGIN:VEVENT
DTSTART;VALUE=DATE:20190531
DTEND;VALUE=DATE:20190601
DTSTAMP:20260422T170605
CREATED:20081021T220310Z
LAST-MODIFIED:20191114T112616Z
UID:43631-1559260800-1559260800@hardloopevenementen.com
SUMMARY:BTS Polderrun Klaaswaal Klaaswaal\, gemeente Cromstrijen (ZH)
DESCRIPTION:Doe mee met het hardloopevenement BTS Polderrun Klaaswaal te Klaaswaal\, gemeente Cromstrijen (ZH) op vr 31 mei 2019. De volgende afstanden staan op het programma: 1 km – 5 km – 10 km hardlopen. Wilt u inschrijven voor dit loopevenement?  Raadpleeg hiervoor dan de website van de organisatie\nDe uitslagen van deze hardloopwedstrijd zijn te raadplegen via dezelfde website of via de bekende websites zoals uitslagen.nl\, runtimer en mylaps. Doet u mee met dit evenement\, zorg dan dat u goed voorbereid aan de start staat! Met een goed trainingsschema komt u een heel eind. Train bijvoorbeeld met start to run van Evy Gruyaert. Download de start to run mp3 bestanden en zet ze op uw telefoon. Oortjes in\, hit the play button en en rennen maar! \n\n\n\n\nMeer informatie over BTS Polderrun Klaaswaal op Hardloopkalender.nl  \nDe Polderrun Klaaswaal is het eerste sportieve familiefeest in Klaaswaal met een 1 kilometer Kidsrun\, 5 kilometer loop en een 10 kilometer loop. Wanneer je deelneemt aan de BTS Polderrun Klaaswaal gaat een deel van het inschrijfgeld naar het goede doel! \n  \n  \n 
URL:https://hardloopevenementen.com/loopagenda/bts-polderrun-klaaswaal-klaaswaal-gemeente-cromstrijen-zh-3/
END:VEVENT
BEGIN:VEVENT
DTSTART;VALUE=DATE:20180601
DTEND;VALUE=DATE:20180602
DTSTAMP:20260422T170605
CREATED:20080914T194602Z
LAST-MODIFIED:20190423T120439Z
UID:16496-1527811200-1527811200@hardloopevenementen.com
SUMMARY:BTS Polderrun Klaaswaal Klaaswaal\, gemeente Cromstrijen (ZH)
DESCRIPTION:Doe mee met het hardloopevenement BTS Polderrun Klaaswaal te Klaaswaal\, gemeente Cromstrijen (ZH) op vr 01 jun 2018. De volgende afstanden staan op het programma: 5 km – 10 km hardlopen. Wilt u inschrijven voor dit loopevenement?  Raadpleeg hiervoor dan de website van de organisatie\nDe uitslagen van deze hardloopwedstrijd zijn te raadplegen via dezelfde website of via de bekende websites zoals uitslagen.nl\, runtimer en mylaps. Doet u mee met dit evenement\, zorg dan dat u goed voorbereid aan de start staat! Met een goed trainingsschema komt u een heel eind. Train bijvoorbeeld met start to run van Evy Gruyaert. Download de start to run mp3 bestanden en zet ze op uw telefoon. Oortjes in\, hit the play button en en rennen maar! \n\n\n\n\nMeer informatie over BTS Polderrun Klaaswaal op Hardloopkalender.nl  \nDe BTS Polderrun Klaaswaal bevat een Kidsrun\, een 5 kilometer loop en een 10 kilometer loop en deze afstanden zijn gemeten en gecertificeerd. Tijdens de BTS Polderrun Klaaswaal loop je door de rustige\, uitgestrekte polders die om Klaaswaal heen liggen en eindig je op de Voorstraat in Klaaswaal. \n  \n  \n 
URL:https://hardloopevenementen.com/loopagenda/bts-polderrun-klaaswaal-klaaswaal-gemeente-cromstrijen-zh-2/
END:VEVENT
BEGIN:VEVENT
DTSTART;VALUE=DATE:20170505
DTEND;VALUE=DATE:20170506
DTSTAMP:20260422T170605
CREATED:20110814T184114Z
LAST-MODIFIED:20190423T114646Z
UID:14840-1493942400-1493942400@hardloopevenementen.com
SUMMARY:BTS Polderrun Klaaswaal Klaaswaal\, gemeente Cromstrijen (ZH)
DESCRIPTION:Doe mee met het hardloopevenement BTS Polderrun Klaaswaal te Klaaswaal\, gemeente Cromstrijen (ZH) op vr 05 mei 2017. De volgende afstanden staan op het programma: 1 km – 5 km – 10 km hardlopen. Wilt u inschrijven voor dit loopevenement?  Raadpleeg hiervoor dan de website van de organisatie\nDe uitslagen van deze hardloopwedstrijd zijn te raadplegen via dezelfde website of via de bekende websites zoals uitslagen.nl\, runtimer en mylaps. Doet u mee met dit evenement\, zorg dan dat u goed voorbereid aan de start staat! Met een goed trainingsschema komt u een heel eind. Train bijvoorbeeld met start to run van Evy Gruyaert. Download de start to run mp3 bestanden en zet ze op uw telefoon. Oortjes in\, hit the play button en en rennen maar! \n\n\n\n\nMeer informatie over BTS Polderrun Klaaswaal op Hardloopkalender.nl  \nDe 1e editie van de BTS Polderrun Klaaswaal bevat 3 afstanden:  Kidsrun – 1 kilometer  5 kilometer loop  10 kilometer loop \n  \n  \n 
URL:https://hardloopevenementen.com/loopagenda/bts-polderrun-klaaswaal-klaaswaal-gemeente-cromstrijen-zh/
END:VEVENT
END:VCALENDAR