BEGIN:VCALENDAR
VERSION:2.0
PRODID:-//Hardloopevenementen - ECPv6.15.14//NONSGML v1.0//EN
CALSCALE:GREGORIAN
METHOD:PUBLISH
X-WR-CALNAME:Hardloopevenementen
X-ORIGINAL-URL:https://hardloopevenementen.com
X-WR-CALDESC:Evenementen voor Hardloopevenementen
REFRESH-INTERVAL;VALUE=DURATION:PT1H
X-Robots-Tag:noindex
X-PUBLISHED-TTL:PT1H
BEGIN:VTIMEZONE
TZID:UTC
BEGIN:STANDARD
TZOFFSETFROM:+0000
TZOFFSETTO:+0000
TZNAME:UTC
DTSTART:20160101T000000
END:STANDARD
END:VTIMEZONE
BEGIN:VEVENT
DTSTART;VALUE=DATE:20190922
DTEND;VALUE=DATE:20190923
DTSTAMP:20260422T233503
CREATED:20120305T070905Z
LAST-MODIFIED:20191114T112442Z
UID:142608-1569110400-1569110400@hardloopevenementen.com
SUMMARY:Bubbel Run Den haag Den Haag (ZH)
DESCRIPTION:Doe mee met het hardloopevenement Bubbel Run Den haag te Den Haag (ZH) op zo 22 sep 2019. De volgende afstanden staan op het programma: 2 km – 5 km hardlopen. Wilt u inschrijven voor dit loopevenement?  Raadpleeg hiervoor dan de website van de organisatie\nDe uitslagen van deze hardloopwedstrijd zijn te raadplegen via dezelfde website of via de bekende websites zoals uitslagen.nl\, runtimer en mylaps. Doet u mee met dit evenement\, zorg dan dat u goed voorbereid aan de start staat! Met een goed trainingsschema komt u een heel eind. Train bijvoorbeeld met start to run van Evy Gruyaert. Download de start to run mp3 bestanden en zet ze op uw telefoon. Oortjes in\, hit the play button en en rennen maar! \n\n\n\n\nMeer informatie over Bubbel Run Den haag op Hardloopkalender.nl  \nMis het niet! Ben je klaar om te rennen? Te lopen? Te dansen? Te huppelen op de beats van de muziek? Volledig ondergedompeld te worden in schuim? Doe dan mee aan de derde editie en leukste Bubbel Run van Nederland op 22 september 2019 Den Haag Zuiderpark. \n  \n  \n 
URL:https://hardloopevenementen.com/loopagenda/bubbel-run-den-haag-den-haag-zh/
END:VEVENT
BEGIN:VEVENT
DTSTART;VALUE=DATE:20180617
DTEND;VALUE=DATE:20180618
DTSTAMP:20260422T233503
CREATED:20110210T083130Z
LAST-MODIFIED:20190423T120414Z
UID:16378-1529193600-1529193600@hardloopevenementen.com
SUMMARY:Bubbel Run Den Haag (ZH)
DESCRIPTION:Doe mee met het hardloopevenement Bubbel Run te Den Haag (ZH) op zo 17 jun 2018. De volgende afstanden staan op het programma: 2 km – 5 km hardlopen. Wilt u inschrijven voor dit loopevenement?  Raadpleeg hiervoor dan de website van de organisatie\nDe uitslagen van deze hardloopwedstrijd zijn te raadplegen via dezelfde website of via de bekende websites zoals uitslagen.nl\, runtimer en mylaps. Doet u mee met dit evenement\, zorg dan dat u goed voorbereid aan de start staat! Met een goed trainingsschema komt u een heel eind. Train bijvoorbeeld met start to run van Evy Gruyaert. Download de start to run mp3 bestanden en zet ze op uw telefoon. Oortjes in\, hit the play button en en rennen maar! \n\n\n\n\nMeer informatie over Bubbel Run op Hardloopkalender.nl  \nMis het niet! Ben je klaar om te rennen? Te lopen? Te dansen? Te huppelen op de beats van de muziek? Volledig ondergedompeld te worden in  schuim? Doe dan mee aan de leukste Bubbel Run van Nederland!     De leukste familie schuim run in Nederland is een parcours van 2.5 en 5 KM met 3 tot 6 schuim zones een leuk schuimrijk evenement voor jong en oud.Start met je familie\, vrienden of collegas en wordt op de finish onthaald als een schuimbom met muziek. Schuim en fun zijn de  belangrijkste ingrediënten! \n  \n  \n 
URL:https://hardloopevenementen.com/loopagenda/bubbel-run-den-haag-zh/
END:VEVENT
BEGIN:VEVENT
DTSTART;VALUE=DATE:20180521
DTEND;VALUE=DATE:20180522
DTSTAMP:20260422T233503
CREATED:20061124T082532Z
LAST-MODIFIED:20190423T120456Z
UID:16570-1526860800-1526860800@hardloopevenementen.com
SUMMARY:Bubbel Run Zwolle (OV)
DESCRIPTION:Doe mee met het hardloopevenement Bubbel Run te Zwolle (OV) op ma 21 mei 2018. De volgende afstanden staan op het programma: 2\,5 km – 5 km hardlopen. Wilt u inschrijven voor dit loopevenement?  Raadpleeg hiervoor dan de website van de organisatie\nDe uitslagen van deze hardloopwedstrijd zijn te raadplegen via dezelfde website of via de bekende websites zoals uitslagen.nl\, runtimer en mylaps. Doet u mee met dit evenement\, zorg dan dat u goed voorbereid aan de start staat! Met een goed trainingsschema komt u een heel eind. Train bijvoorbeeld met start to run van Evy Gruyaert. Download de start to run mp3 bestanden en zet ze op uw telefoon. Oortjes in\, hit the play button en en rennen maar! \n\n\n\n\nMeer informatie over Bubbel Run op Hardloopkalender.nl  \nDe ALLER EERSTE KLEUREN Bubbel Run in Nederland is een parcours van 2.5 en 5 KM met 3 tot 6 schuim zones een leuk schuimrijk evenement voor jong en oud.Start met je familie\, vrienden of collegas en wordt op de finish onthaald als een schuimbom met muziek. Schuim en fun zijn de  belangrijkste ingrediënten! \n  \n  \n 
URL:https://hardloopevenementen.com/loopagenda/bubbel-run-zwolle-ov/
END:VEVENT
BEGIN:VEVENT
DTSTART;VALUE=DATE:20170611
DTEND;VALUE=DATE:20170612
DTSTAMP:20260422T233503
CREATED:20091205T194820Z
LAST-MODIFIED:20190423T114547Z
UID:14575-1497139200-1497139200@hardloopevenementen.com
SUMMARY:Bubbel Run Amersfoort (UT)
DESCRIPTION:Doe mee met het hardloopevenement Bubbel Run te Amersfoort (UT) op zo 11 jun 2017. De volgende afstanden staan op het programma: 5 km hardlopen. Wilt u inschrijven voor dit loopevenement?  Raadpleeg hiervoor dan de website van de organisatie\nDe uitslagen van deze hardloopwedstrijd zijn te raadplegen via dezelfde website of via de bekende websites zoals uitslagen.nl\, runtimer en mylaps. Doet u mee met dit evenement\, zorg dan dat u goed voorbereid aan de start staat! Met een goed trainingsschema komt u een heel eind. Train bijvoorbeeld met start to run van Evy Gruyaert. Download de start to run mp3 bestanden en zet ze op uw telefoon. Oortjes in\, hit the play button en en rennen maar! \n\n\n\n\nMeer informatie over Bubbel Run op Hardloopkalender.nl  \nBen je klaar om te rennen? Te lopen? Te dansen? Te huppelen op de beats van de muziek? Volledig ondergedompeld te worden in schuim met verschillende kleurtjes? Doe dan mee aan de allereerste en leukste kleuren bubbel loop van Nederland!    Prijzen: 12.95 tot  16.95 ( Inclusief shirt) \n  \n  \n 
URL:https://hardloopevenementen.com/loopagenda/bubbel-run-amersfoort-ut/
END:VEVENT
END:VCALENDAR