BEGIN:VCALENDAR
VERSION:2.0
PRODID:-//Hardloopevenementen - ECPv6.15.14//NONSGML v1.0//EN
CALSCALE:GREGORIAN
METHOD:PUBLISH
X-WR-CALNAME:Hardloopevenementen
X-ORIGINAL-URL:https://hardloopevenementen.com
X-WR-CALDESC:Evenementen voor Hardloopevenementen
REFRESH-INTERVAL;VALUE=DURATION:PT1H
X-Robots-Tag:noindex
X-PUBLISHED-TTL:PT1H
BEGIN:VTIMEZONE
TZID:UTC
BEGIN:STANDARD
TZOFFSETFROM:+0000
TZOFFSETTO:+0000
TZNAME:UTC
DTSTART:20160101T000000
END:STANDARD
END:VTIMEZONE
BEGIN:VEVENT
DTSTART;VALUE=DATE:20180218
DTEND;VALUE=DATE:20180219
DTSTAMP:20260422T033609
CREATED:20070901T003411Z
LAST-MODIFIED:20190423T120644Z
UID:17053-1518912000-1518912000@hardloopevenementen.com
SUMMARY:Buitenhoutcross Almere (FL)
DESCRIPTION:Doe mee met het hardloopevenement Buitenhoutcross te Almere (FL) op zo 18 feb 2018. De volgende afstanden staan op het programma: 1 km – 2 km – 4 km – 6 km – 8 km hardlopen. Wilt u inschrijven voor dit loopevenement?  Raadpleeg hiervoor dan de website van de organisatie\nDe uitslagen van deze hardloopwedstrijd zijn te raadplegen via dezelfde website of via de bekende websites zoals uitslagen.nl\, runtimer en mylaps. Doet u mee met dit evenement\, zorg dan dat u goed voorbereid aan de start staat! Met een goed trainingsschema komt u een heel eind. Train bijvoorbeeld met start to run van Evy Gruyaert. Download de start to run mp3 bestanden en zet ze op uw telefoon. Oortjes in\, hit the play button en en rennen maar! \n\n\n\n\nMeer informatie over Buitenhoutcross op Hardloopkalender.nl  \nDe afsluiting van de CrossCup Almere vindt plaats in de Buitenhout op een afwisselend parcours van bospaden\, zand en een strook modderpad. Er kan ook alleen aan deze wedstrijd deelgenomen worden.  De jeugd loopt 1 of 2 km (afhankelijk van de leeftijd). Volwassenen kiezen voor een parcours van (ongeveer) 4\, 6 of 8km. \n  \n  \n 
URL:https://hardloopevenementen.com/loopagenda/buitenhoutcross-almere-fl-2/
END:VEVENT
BEGIN:VEVENT
DTSTART;VALUE=DATE:20170219
DTEND;VALUE=DATE:20170220
DTSTAMP:20260422T033609
CREATED:20140605T102836Z
LAST-MODIFIED:20190423T114812Z
UID:15231-1487462400-1487462400@hardloopevenementen.com
SUMMARY:Buitenhoutcross Almere (FL)
DESCRIPTION:Doe mee met het hardloopevenement Buitenhoutcross te Almere (FL) op zo 19 feb 2017. De volgende afstanden staan op het programma: 1 km – 2 km – 4 km – 6 km – 8 km hardlopen. Wilt u inschrijven voor dit loopevenement?  Raadpleeg hiervoor dan de website van de organisatie\nDe uitslagen van deze hardloopwedstrijd zijn te raadplegen via dezelfde website of via de bekende websites zoals uitslagen.nl\, runtimer en mylaps. Doet u mee met dit evenement\, zorg dan dat u goed voorbereid aan de start staat! Met een goed trainingsschema komt u een heel eind. Train bijvoorbeeld met start to run van Evy Gruyaert. Download de start to run mp3 bestanden en zet ze op uw telefoon. Oortjes in\, hit the play button en en rennen maar! \n\n\n\n\nMeer informatie over Buitenhoutcross op Hardloopkalender.nl  \n  \n  \n 
URL:https://hardloopevenementen.com/loopagenda/buitenhoutcross-almere-fl/
END:VEVENT
END:VCALENDAR