BEGIN:VCALENDAR
VERSION:2.0
PRODID:-//Hardloopevenementen - ECPv6.15.14//NONSGML v1.0//EN
CALSCALE:GREGORIAN
METHOD:PUBLISH
X-WR-CALNAME:Hardloopevenementen
X-ORIGINAL-URL:https://hardloopevenementen.com
X-WR-CALDESC:Evenementen voor Hardloopevenementen
REFRESH-INTERVAL;VALUE=DURATION:PT1H
X-Robots-Tag:noindex
X-PUBLISHED-TTL:PT1H
BEGIN:VTIMEZONE
TZID:UTC
BEGIN:STANDARD
TZOFFSETFROM:+0000
TZOFFSETTO:+0000
TZNAME:UTC
DTSTART:20130101T000000
END:STANDARD
END:VTIMEZONE
BEGIN:VEVENT
DTSTART;VALUE=DATE:20140601
DTEND;VALUE=DATE:20140602
DTSTAMP:20260421T110126
CREATED:20150607T091506Z
LAST-MODIFIED:20190423T105445Z
UID:33961-1401580800-1401580800@hardloopevenementen.com
SUMMARY:CROSSTAKEL TIME TRIAL CUP C Den Helder (NH)
DESCRIPTION:Doe mee met het hardloopevenement CROSSTAKEL TIME TRIAL CUP C te Den Helder (NH) op zo 01 jun 2014. De volgende afstanden staan op het programma:  hardlopen. Wilt u inschrijven voor dit loopevenement?  Raadpleeg hiervoor dan de website van de organisatie\nDe uitslagen van deze hardloopwedstrijd zijn te raadplegen via dezelfde website of via de bekende websites zoals uitslagen.nl\, runtimer en mylaps. Doet u mee met dit evenement\, zorg dan dat u goed voorbereid aan de start staat! Met een goed trainingsschema komt u een heel eind. Train bijvoorbeeld met start to run van Evy Gruyaert. Download de start to run mp3 bestanden en zet ze op uw telefoon. Oortjes in\, hit the play button en en rennen maar! \n\n\n\n\nMeer informatie over CROSSTAKEL TIME TRIAL CUP C op Hardloopkalender.nl  \nHet loopevenement CROSSTAKEL-TIME-TRIAL CUP C te Den Helder vindt plaats op zondag 01 juni 2014. De loop wordt georganisseerd door LIJFSTIJL Events. Klik hier voor het adres van de start (Google Maps).Bijzonderheden: 1\,1 kilometer\, 17 CROSStakels\, 300+ meter hoogteverschil. \n  \n  \n 
URL:https://hardloopevenementen.com/loopagenda/crosstakel-time-trial-cup-c-den-helder-nh/
END:VEVENT
END:VCALENDAR