BEGIN:VCALENDAR
VERSION:2.0
PRODID:-//Hardloopevenementen - ECPv6.15.14//NONSGML v1.0//EN
CALSCALE:GREGORIAN
METHOD:PUBLISH
X-ORIGINAL-URL:https://hardloopevenementen.com
X-WR-CALDESC:Evenementen voor Hardloopevenementen
REFRESH-INTERVAL;VALUE=DURATION:PT1H
X-Robots-Tag:noindex
X-PUBLISHED-TTL:PT1H
BEGIN:VTIMEZONE
TZID:UTC
BEGIN:STANDARD
TZOFFSETFROM:+0000
TZOFFSETTO:+0000
TZNAME:UTC
DTSTART:20070101T000000
END:STANDARD
END:VTIMEZONE
BEGIN:VEVENT
DTSTART;VALUE=DATE:20141011
DTEND;VALUE=DATE:20141012
DTSTAMP:20260424T142615
CREATED:20120509T050849Z
LAST-MODIFIED:20190423T105037Z
UID:8957-1412985600-1412985600@hardloopevenementen.com
SUMMARY:C1000 Kees Elzinga Halve marathon Meppel (DR)
DESCRIPTION:Doe mee met het hardloopevenement C1000 Kees Elzinga Halve marathon te Meppel (DR) op za 11 okt 2014. De volgende afstanden staan op het programma: 10 km – halve marathon hardlopen. Wilt u inschrijven voor dit loopevenement?  Raadpleeg hiervoor dan de website van de organisatie\nDe uitslagen van deze hardloopwedstrijd zijn te raadplegen via dezelfde website of via de bekende websites zoals uitslagen.nl\, runtimer en mylaps. Doet u mee met dit evenement\, zorg dan dat u goed voorbereid aan de start staat! Met een goed trainingsschema komt u een heel eind. Train bijvoorbeeld met start to run van Evy Gruyaert. Download de start to run mp3 bestanden en zet ze op uw telefoon. Oortjes in\, hit the play button en en rennen maar! \n\n\n\n\nMeer informatie over C1000 Kees Elzinga Halve marathon op Hardloopkalender.nl  \nHet loopevenement C1000 Kees Elzinga Halve marathon te Meppel vindt plaats op zaterdag 11 oktober 2014. De loop wordt georganisseerd door AV de Sprinter. Klik hier voor het adres van de start (Google Maps). \n  \n  \n 
URL:https://hardloopevenementen.com/loopagenda/c1000-kees-elzinga-halve-marathon-meppel-dr-3/
END:VEVENT
BEGIN:VEVENT
DTSTART;VALUE=DATE:20131012
DTEND;VALUE=DATE:20131013
DTSTAMP:20260424T142615
CREATED:20110513T072708Z
LAST-MODIFIED:20190423T103921Z
UID:8327-1381536000-1381536000@hardloopevenementen.com
SUMMARY:C1000 KEES ELZINGA HALVE MARATHON Meppel (DR)
DESCRIPTION:Doe mee met het hardloopevenement C1000 KEES ELZINGA HALVE MARATHON te Meppel (DR) op za 12 okt 2013. De volgende afstanden staan op het programma: 10 km – halve marathon hardlopen. Wilt u inschrijven voor dit loopevenement?  Raadpleeg hiervoor dan de website van de organisatie\nDe uitslagen van deze hardloopwedstrijd zijn te raadplegen via dezelfde website of via de bekende websites zoals uitslagen.nl\, runtimer en mylaps. Doet u mee met dit evenement\, zorg dan dat u goed voorbereid aan de start staat! Met een goed trainingsschema komt u een heel eind. Train bijvoorbeeld met start to run van Evy Gruyaert. Download de start to run mp3 bestanden en zet ze op uw telefoon. Oortjes in\, hit the play button en en rennen maar! \n\n\n\n\nMeer informatie over C1000 KEES ELZINGA HALVE MARATHON op Hardloopkalender.nl  \nZowel halve marathon als 10 km een grote ronde door het prachtige Reestdal    Start en finish op de atletiekbaan in Meppel.  Tijdregistratie dmv chip.      Voorinschrijving tot 5 oktober. \n  \n  \n 
URL:https://hardloopevenementen.com/loopagenda/c1000-kees-elzinga-halve-marathon-meppel-dr-2/
END:VEVENT
BEGIN:VEVENT
DTSTART;VALUE=DATE:20121013
DTEND;VALUE=DATE:20121014
DTSTAMP:20260424T142615
CREATED:20080619T120504Z
LAST-MODIFIED:20190423T102849Z
UID:7561-1350086400-1350086400@hardloopevenementen.com
SUMMARY:C1000 Kees Elzinga Halve marathon Meppel (DR)
DESCRIPTION:Doe mee met het hardloopevenement C1000 Kees Elzinga Halve marathon te Meppel (DR) op za 13 okt 2012. De volgende afstanden staan op het programma: 10 km – halve marathon hardlopen. Wilt u inschrijven voor dit loopevenement?  Raadpleeg hiervoor dan de website van de organisatie\nDe uitslagen van deze hardloopwedstrijd zijn te raadplegen via dezelfde website of via de bekende websites zoals uitslagen.nl\, runtimer en mylaps. Doet u mee met dit evenement\, zorg dan dat u goed voorbereid aan de start staat! Met een goed trainingsschema komt u een heel eind. Train bijvoorbeeld met start to run van Evy Gruyaert. Download de start to run mp3 bestanden en zet ze op uw telefoon. Oortjes in\, hit the play button en en rennen maar! \n\n\n\n\nMeer informatie over C1000 Kees Elzinga Halve marathon op Hardloopkalender.nl  \nHet loopevenement C1000 Kees Elzinga Halve marathon te Meppel vindt plaats op zaterdag 13 oktober 2012. De loop wordt georganiseerd door McDonald's AV de Sprinter. Inschrijven is mogelijk vanaf 01 juni 2012. Klik hier voor het adres van de start (Google Maps).Er is EHBO aanwezig. Afstand SoortloopInschrijfgeldStarttijdInfo21.195 km10\,0011:30uur10 km8\,0011:40Voor meer informatie:B. Hartsuikerorganisatie.avdesprinter@gmail.com0522251241http:  www.avdesprinter.nl \n  \n  \n 
URL:https://hardloopevenementen.com/loopagenda/c1000-kees-elzinga-halve-marathon-meppel-dr/
END:VEVENT
BEGIN:VEVENT
DTSTART;VALUE=DATE:20110312
DTEND;VALUE=DATE:20110313
DTSTAMP:20260424T142615
CREATED:20130912T020531Z
LAST-MODIFIED:20190423T102315Z
UID:26747-1299888000-1299888000@hardloopevenementen.com
SUMMARY:31e C1000 Halve Marathon Harderwijk Harderwijk (GE)
DESCRIPTION:Doe mee met het hardloopevenement 31e C1000 Halve Marathon Harderwijk te Harderwijk (GE) op za 12 mrt 2011. De volgende afstanden staan op het programma: 0\,7 km – 5\,2 km – 10\,7 km – halve marathon hardlopen. Wilt u inschrijven voor dit loopevenement?  Raadpleeg hiervoor dan de website van de organisatie\nDe uitslagen van deze hardloopwedstrijd zijn te raadplegen via dezelfde website of via de bekende websites zoals uitslagen.nl\, runtimer en mylaps. Doet u mee met dit evenement\, zorg dan dat u goed voorbereid aan de start staat! Met een goed trainingsschema komt u een heel eind. Train bijvoorbeeld met start to run van Evy Gruyaert. Download de start to run mp3 bestanden en zet ze op uw telefoon. Oortjes in\, hit the play button en en rennen maar! \n\n\n\n\nMeer informatie over 31e C1000 Halve Marathon Harderwijk op Hardloopkalender.nl  \nHet loopevenement 31e C1000 Halve Marathon Harderwijk te Harderwijk vindt plaats op zaterdag 12 maart 2011. De loop wordt georganiseerd door AV Athlos. Inschrijven is mogelijk vanaf 01 januari 2011. Klik hier voor het adres van de start (Google Maps).Er is verkleedaccomodatie met douchemogelijkheid aanwezig. Er is EHBO aanwezig. Afstand(km)Inschrijfgeld(€)Starttijd0\,720€3\,0013.3010\,7€6\,0014.0021\,1€7\,5014.005\,2€6\,0014.05Voor meer informatie:Ruud Janssen   Gijs Nijhuis (secr.)wedstrijdsecretariaat@athlos.nl0341427503http:  www.athlos.nl \n  \n  \n 
URL:https://hardloopevenementen.com/loopagenda/31e-c1000-halve-marathon-harderwijk-harderwijk-ge/
END:VEVENT
BEGIN:VEVENT
DTSTART;VALUE=DATE:20081109
DTEND;VALUE=DATE:20081110
DTSTAMP:20260424T142615
CREATED:20120713T101820Z
LAST-MODIFIED:20190423T094415Z
UID:1083-1226188800-1226188800@hardloopevenementen.com
SUMMARY:C1000 Valkenloop Valkenswaard
DESCRIPTION:Doe mee met het hardloopevenement C1000 Valkenloop te Valkenswaard op zo 09 nov 2008. De volgende afstanden staan op het programma: 7\,1 km – 12\,5 km – halve marathon hardlopen. Wilt u inschrijven voor dit loopevenement?  Raadpleeg hiervoor dan de website van de organisatie\nDe uitslagen van deze hardloopwedstrijd zijn te raadplegen via dezelfde website of via de bekende websites zoals uitslagen.nl\, runtimer en mylaps. Doet u mee met dit evenement\, zorg dan dat u goed voorbereid aan de start staat! Met een goed trainingsschema komt u een heel eind. Train bijvoorbeeld met start to run van Evy Gruyaert. Download de start to run mp3 bestanden en zet ze op uw telefoon. Oortjes in\, hit the play button en en rennen maar! \n\n\n\n\nMeer informatie over C1000 Valkenloop op Hardloopkalender.nl  \nstart  21\,1 km 10:30 uur  12\,5 km 11:15 uur  7\,1 km 12:00 uur \n  \n  \n 
URL:https://hardloopevenementen.com/loopagenda/c1000-valkenloop-valkenswaard/
END:VEVENT
END:VCALENDAR