BEGIN:VCALENDAR
VERSION:2.0
PRODID:-//Hardloopevenementen - ECPv6.15.14//NONSGML v1.0//EN
CALSCALE:GREGORIAN
METHOD:PUBLISH
X-WR-CALNAME:Hardloopevenementen
X-ORIGINAL-URL:https://hardloopevenementen.com
X-WR-CALDESC:Evenementen voor Hardloopevenementen
REFRESH-INTERVAL;VALUE=DURATION:PT1H
X-Robots-Tag:noindex
X-PUBLISHED-TTL:PT1H
BEGIN:VTIMEZONE
TZID:UTC
BEGIN:STANDARD
TZOFFSETFROM:+0000
TZOFFSETTO:+0000
TZNAME:UTC
DTSTART:20100101T000000
END:STANDARD
END:VTIMEZONE
BEGIN:VEVENT
DTSTART;VALUE=DATE:20191006
DTEND;VALUE=DATE:20191007
DTSTAMP:20260422T233804
CREATED:20140707T170846Z
LAST-MODIFIED:20191114T112428Z
UID:142587-1570320000-1570320000@hardloopevenementen.com
SUMMARY:Van Santen Halve Marathon Capelle Capelle aan den IJssel (ZH)
DESCRIPTION:Doe mee met het hardloopevenement Van Santen Halve Marathon Capelle te Capelle aan den IJssel (ZH) op zo 06 okt 2019. De volgende afstanden staan op het programma: 1 km – 5 km – 10 km – halve marathon hardlopen. Wilt u inschrijven voor dit loopevenement?  Raadpleeg hiervoor dan de website van de organisatie\nDe uitslagen van deze hardloopwedstrijd zijn te raadplegen via dezelfde website of via de bekende websites zoals uitslagen.nl\, runtimer en mylaps. Doet u mee met dit evenement\, zorg dan dat u goed voorbereid aan de start staat! Met een goed trainingsschema komt u een heel eind. Train bijvoorbeeld met start to run van Evy Gruyaert. Download de start to run mp3 bestanden en zet ze op uw telefoon. Oortjes in\, hit the play button en en rennen maar! \n\n\n\n\nMeer informatie over Van Santen Halve Marathon Capelle op Hardloopkalender.nl  \nOp 6 oktober 2019 wordt in Capelle voor het eerst de Halve Marathon van Capelle georganiseerd. Helemaal nieuw is deze niet: het is de nieuwe naam van de Schollebosloop en Schenkelloop\, die samengevoegd een nieuwe opzet krijgen. Met de nieuwe start en finish bij de terrasjes van Winkelcentrum De Koperwiek in het bruisende stadshart van Capelle\, en met de vertrouwde prachtige parcoursen door het Schollebos en het Hitland zoals je gewend bent\, word dit loopevenement een fantastisch sportfeest. \n  \n  \n 
URL:https://hardloopevenementen.com/loopagenda/van-santen-halve-marathon-capelle-capelle-aan-den-ijssel-zh/
END:VEVENT
BEGIN:VEVENT
DTSTART;VALUE=DATE:20190121
DTEND;VALUE=DATE:20190122
DTSTAMP:20260422T233804
CREATED:20140912T213031Z
LAST-MODIFIED:20191114T112815Z
UID:17326-1548028800-1548028800@hardloopevenementen.com
SUMMARY:MIND Blue Monday Run - Capelle Capelle aan den IJssel (ZH)
DESCRIPTION:Doe mee met het hardloopevenement MIND Blue Monday Run – Capelle te Capelle aan den IJssel (ZH) op ma 21 jan 2019. De volgende afstanden staan op het programma: 5 km hardlopen. Wilt u inschrijven voor dit loopevenement?  Raadpleeg hiervoor dan de website van de organisatie\nDe uitslagen van deze hardloopwedstrijd zijn te raadplegen via dezelfde website of via de bekende websites zoals uitslagen.nl\, runtimer en mylaps. Doet u mee met dit evenement\, zorg dan dat u goed voorbereid aan de start staat! Met een goed trainingsschema komt u een heel eind. Train bijvoorbeeld met start to run van Evy Gruyaert. Download de start to run mp3 bestanden en zet ze op uw telefoon. Oortjes in\, hit the play button en en rennen maar! \n\n\n\n\nMeer informatie over MIND Blue Monday Run – Capelle op Hardloopkalender.nl  \nBewegen in te zetten om mensen weer gezond en enthousiast te laten leven \n  \n  \n 
URL:https://hardloopevenementen.com/loopagenda/mind-blue-monday-run-capelle-capelle-aan-den-ijssel-zh/
END:VEVENT
BEGIN:VEVENT
DTSTART;VALUE=DATE:20111209
DTEND;VALUE=DATE:20111210
DTSTAMP:20260422T233804
CREATED:20180511T234350Z
LAST-MODIFIED:20190423T101644Z
UID:5840-1323388800-1323388800@hardloopevenementen.com
SUMMARY:Santarun Capelle West Capelle aan den IJssel (ZH)
DESCRIPTION:Doe mee met het hardloopevenement Santarun Capelle West te Capelle aan den IJssel (ZH) op vr 09 dec 2011. De volgende afstanden staan op het programma: 1\,7 km – 3\,5 km hardlopen. Wilt u inschrijven voor dit loopevenement?  Raadpleeg hiervoor dan de website van de organisatie\nDe uitslagen van deze hardloopwedstrijd zijn te raadplegen via dezelfde website of via de bekende websites zoals uitslagen.nl\, runtimer en mylaps. Doet u mee met dit evenement\, zorg dan dat u goed voorbereid aan de start staat! Met een goed trainingsschema komt u een heel eind. Train bijvoorbeeld met start to run van Evy Gruyaert. Download de start to run mp3 bestanden en zet ze op uw telefoon. Oortjes in\, hit the play button en en rennen maar! \n\n\n\n\nMeer informatie over Santarun Capelle West op Hardloopkalender.nl  \nDe 3e editie van de Santarun wordt georganiseerd door de St. Buurtgroep Capelle West en vindt plaats in het kader van de Kerstmarkt van winkeliersvereniging Capelle West. Inschrijven via www.inschrijven.nl. Alle deelnemers ontvangen een eigen Kerstmannenpak dat tijdens de loop gedragen wordt. Deelnemen kost € 2\,50\, parkeer en kleedgelegenheid zijn gratis. Meer info op de website www.rondevanwest.nl \n  \n  \n 
URL:https://hardloopevenementen.com/loopagenda/santarun-capelle-west-capelle-aan-den-ijssel-zh/
END:VEVENT
END:VCALENDAR