BEGIN:VCALENDAR
VERSION:2.0
PRODID:-//Hardloopevenementen - ECPv6.15.14//NONSGML v1.0//EN
CALSCALE:GREGORIAN
METHOD:PUBLISH
X-WR-CALNAME:Hardloopevenementen
X-ORIGINAL-URL:https://hardloopevenementen.com
X-WR-CALDESC:Evenementen voor Hardloopevenementen
REFRESH-INTERVAL;VALUE=DURATION:PT1H
X-Robots-Tag:noindex
X-PUBLISHED-TTL:PT1H
BEGIN:VTIMEZONE
TZID:UTC
BEGIN:STANDARD
TZOFFSETFROM:+0000
TZOFFSETTO:+0000
TZNAME:UTC
DTSTART:20130101T000000
END:STANDARD
END:VTIMEZONE
BEGIN:VEVENT
DTSTART;VALUE=DATE:20141109
DTEND;VALUE=DATE:20141110
DTSTAMP:20260422T210549
CREATED:20151021T185919Z
LAST-MODIFIED:20190423T104937Z
UID:8735-1415491200-1415491200@hardloopevenementen.com
SUMMARY:MarathonPlus Centennial 2014 Deventer (OV)
DESCRIPTION:Doe mee met het hardloopevenement MarathonPlus Centennial 2014 te Deventer (OV) op zo 09 nov 2014. De volgende afstanden staan op het programma: 0\,1 km hardlopen. Wilt u inschrijven voor dit loopevenement?  Raadpleeg hiervoor dan de website van de organisatie\nDe uitslagen van deze hardloopwedstrijd zijn te raadplegen via dezelfde website of via de bekende websites zoals uitslagen.nl\, runtimer en mylaps. Doet u mee met dit evenement\, zorg dan dat u goed voorbereid aan de start staat! Met een goed trainingsschema komt u een heel eind. Train bijvoorbeeld met start to run van Evy Gruyaert. Download de start to run mp3 bestanden en zet ze op uw telefoon. Oortjes in\, hit the play button en en rennen maar! \n\n\n\n\nMeer informatie over MarathonPlus Centennial 2014 op Hardloopkalender.nl  \nHet loopevenement MarathonPlus Centennial 2014 te Deventer vindt plaats op zondag 09 november 2014. De loop wordt georganisseerd door Atletiekvereniging MarathonPlus. Klik hier voor het adres van de start (Google Maps). \n  \n  \n 
URL:https://hardloopevenementen.com/loopagenda/marathonplus-centennial-2014-deventer-ov/
END:VEVENT
END:VCALENDAR