BEGIN:VCALENDAR
VERSION:2.0
PRODID:-//Hardloopevenementen - ECPv6.15.14//NONSGML v1.0//EN
CALSCALE:GREGORIAN
METHOD:PUBLISH
X-WR-CALNAME:Hardloopevenementen
X-ORIGINAL-URL:https://hardloopevenementen.com
X-WR-CALDESC:Evenementen voor Hardloopevenementen
REFRESH-INTERVAL;VALUE=DURATION:PT1H
X-Robots-Tag:noindex
X-PUBLISHED-TTL:PT1H
BEGIN:VTIMEZONE
TZID:UTC
BEGIN:STANDARD
TZOFFSETFROM:+0000
TZOFFSETTO:+0000
TZNAME:UTC
DTSTART:20060101T000000
END:STANDARD
END:VTIMEZONE
BEGIN:VEVENT
DTSTART;VALUE=DATE:20121007
DTEND;VALUE=DATE:20121008
DTSTAMP:20260419T203536
CREATED:20070325T004356Z
LAST-MODIFIED:20190423T102859Z
UID:7598-1349568000-1349568000@hardloopevenementen.com
SUMMARY:Centrumloop Helmond (NB)
DESCRIPTION:Doe mee met het hardloopevenement Centrumloop te Helmond (NB) op zo 07 okt 2012. De volgende afstanden staan op het programma: 1 km – 5 km – 10 km – 15 km hardlopen. Wilt u inschrijven voor dit loopevenement?  Raadpleeg hiervoor dan de website van de organisatie\nDe uitslagen van deze hardloopwedstrijd zijn te raadplegen via dezelfde website of via de bekende websites zoals uitslagen.nl\, runtimer en mylaps. Doet u mee met dit evenement\, zorg dan dat u goed voorbereid aan de start staat! Met een goed trainingsschema komt u een heel eind. Train bijvoorbeeld met start to run van Evy Gruyaert. Download de start to run mp3 bestanden en zet ze op uw telefoon. Oortjes in\, hit the play button en en rennen maar! \n\n\n\n\nMeer informatie over Centrumloop op Hardloopkalender.nl  \nHet loopevenement Centrumloop te Helmond vindt plaats op zondag 07 oktober 2012. De loop wordt georganiseerd door HAC. Inschrijven is mogelijk vanaf 04 september 2012. Klik hier voor het adres van de start (Google Maps).Er is EHBO aanwezig. Afstand SoortloopInschrijfgeldStarttijdInfo5 km5\,0011.0010 km5\,0011.0015 km5\,0011.001 km0\,0010.00Voor meer informatie:Gijs Jacobswedstrijdenhac@gmail.com0492548043http:  www.hac-helmond.nl \n  \n  \n 
URL:https://hardloopevenementen.com/loopagenda/centrumloop-helmond-nb-4/
END:VEVENT
BEGIN:VEVENT
DTSTART;VALUE=DATE:20111002
DTEND;VALUE=DATE:20111003
DTSTAMP:20260419T203536
CREATED:20130810T141711Z
LAST-MODIFIED:20190423T101821Z
UID:6221-1317513600-1317513600@hardloopevenementen.com
SUMMARY:Centrumloop Helmond (NB)
DESCRIPTION:Doe mee met het hardloopevenement Centrumloop te Helmond (NB) op zo 02 okt 2011. De volgende afstanden staan op het programma: 0\,4 km – 0\,8 km – 1\,2 km – 5 km – 10 km hardlopen. Wilt u inschrijven voor dit loopevenement?  Raadpleeg hiervoor dan de website van de organisatie\nDe uitslagen van deze hardloopwedstrijd zijn te raadplegen via dezelfde website of via de bekende websites zoals uitslagen.nl\, runtimer en mylaps. Doet u mee met dit evenement\, zorg dan dat u goed voorbereid aan de start staat! Met een goed trainingsschema komt u een heel eind. Train bijvoorbeeld met start to run van Evy Gruyaert. Download de start to run mp3 bestanden en zet ze op uw telefoon. Oortjes in\, hit the play button en en rennen maar! \n\n\n\n\nMeer informatie over Centrumloop op Hardloopkalender.nl  \nHet loopevenement Centrumloop te Helmond vindt plaats op zondag 02 oktober 2011. De loop wordt georganiseerd door HAC. Inschrijven is mogelijk vanaf 01 augustus 2011. Klik hier voor het adres van de start (Google Maps).Er is verkleedaccomodatie met douchemogelijkheid aanwezig. Er is EHBO aanwezig. Afstand(km)Inschrijfgeld(€)Starttijd0\,4€0\,0010.000\,8€0\,0010.201\,2€0\,0010.405€5\,0011.010€5\,0012.00Voor meer informatie:Gijs Jacobswedstrijden@hac-helmond.nl0492548043http:  www.hac-helmond.nl \n  \n  \n 
URL:https://hardloopevenementen.com/loopagenda/centrumloop-helmond-nb-3/
END:VEVENT
BEGIN:VEVENT
DTSTART;VALUE=DATE:20101003
DTEND;VALUE=DATE:20101004
DTSTAMP:20260419T203536
CREATED:20180831T072615Z
LAST-MODIFIED:20190423T100809Z
UID:3497-1286064000-1286064000@hardloopevenementen.com
SUMMARY:Centrumloop Helmond (NB)
DESCRIPTION:Doe mee met het hardloopevenement Centrumloop te Helmond (NB) op zo 03 okt 2010. De volgende afstanden staan op het programma: 0\,6 km – 1 km – 1\,5 km – 5 km – 10 km – 15 km hardlopen. Wilt u inschrijven voor dit loopevenement?  Raadpleeg hiervoor dan de website van de organisatie\nDe uitslagen van deze hardloopwedstrijd zijn te raadplegen via dezelfde website of via de bekende websites zoals uitslagen.nl\, runtimer en mylaps. Doet u mee met dit evenement\, zorg dan dat u goed voorbereid aan de start staat! Met een goed trainingsschema komt u een heel eind. Train bijvoorbeeld met start to run van Evy Gruyaert. Download de start to run mp3 bestanden en zet ze op uw telefoon. Oortjes in\, hit the play button en en rennen maar! \n\n\n\n\nMeer informatie over Centrumloop op Hardloopkalender.nl  \nDit loopevenement wordt georganiseerd door HAC.De eerste afstand (of onderdeel) start om 10:00.Het adres van de start en de finish is Molenven 3Categorie(ën): mannen\, vrouwen\, jeugdVooraf inschrijven is mogelijk vanaf 30 juli 2010 tot 29 september 2010.Inschrijven op de dag van de loop is mogelijk (vanaf 9.00) op dit adres: Molenven 3.Meer informatie:Contactpersoon: Gijs JacobsTel.: 0492548043Email: wedstrijden@hac-helmond.nlEr is een kleedaccomodatie aanwezig. Douchen is mogelijk.Het parcours is verhard.Vorig jaar deden er 201 lopers mee aan dit evenement.Overige bijzonderheden:  Beschut\, snel parcours met 4 doorkomsten over de baan. \n  \n  \n 
URL:https://hardloopevenementen.com/loopagenda/centrumloop-helmond-nb-2/
END:VEVENT
BEGIN:VEVENT
DTSTART;VALUE=DATE:20100513
DTEND;VALUE=DATE:20100514
DTSTAMP:20260419T203536
CREATED:20140111T100234Z
LAST-MODIFIED:20190423T101157Z
UID:23485-1273708800-1273708800@hardloopevenementen.com
SUMMARY:Centrumloop Wemeldinge\, gemeente Kapelle (ZE)
DESCRIPTION:Doe mee met het hardloopevenement Centrumloop te Wemeldinge\, gemeente Kapelle (ZE) op do 13 mei 2010. De volgende afstanden staan op het programma: 6\,8 km hardlopen. Wilt u inschrijven voor dit loopevenement?  Raadpleeg hiervoor dan de website van de organisatie\nDe uitslagen van deze hardloopwedstrijd zijn te raadplegen via dezelfde website of via de bekende websites zoals uitslagen.nl\, runtimer en mylaps. Doet u mee met dit evenement\, zorg dan dat u goed voorbereid aan de start staat! Met een goed trainingsschema komt u een heel eind. Train bijvoorbeeld met start to run van Evy Gruyaert. Download de start to run mp3 bestanden en zet ze op uw telefoon. Oortjes in\, hit the play button en en rennen maar! \n\n\n\n\nMeer informatie over Centrumloop op Hardloopkalender.nl  \nDit loopevenement wordt georganiseerd door AV `56.De eerste afstand (of onderdeel) start om 13:00.Het adres van de start en de finish is markt 5Categorie(ën): mannen\, vrouwen\, jeugdVooraf inschrijven is mogelijk vanaf 28 oktober 2009 tot niet van toepassing.Inschrijven op de dag van de loop is mogelijk (vanaf onbekend) op dit adres: onbekend.Meer informatie:Contactpersoon: Jack van StelTel.: 0113574151Email: stelvio@zeelandnet.nlEr is een kleedaccomodatie aanwezig. Douchen is niet mogelijk.Het parcours is verhard.Overige bijzonderheden:  Meer kosten nainschrijving  2.00  Chip tijdmeting \n  \n  \n 
URL:https://hardloopevenementen.com/loopagenda/centrumloop-wemeldinge-gemeente-kapelle-ze/
END:VEVENT
BEGIN:VEVENT
DTSTART;VALUE=DATE:20091004
DTEND;VALUE=DATE:20091005
DTSTAMP:20260419T203536
CREATED:20180329T005606Z
LAST-MODIFIED:20190423T095824Z
UID:1695-1254614400-1254614400@hardloopevenementen.com
SUMMARY:Centrumloop Helmond (NB)
DESCRIPTION:Doe mee met het hardloopevenement Centrumloop te Helmond (NB) op zo 04 okt 2009. De volgende afstanden staan op het programma: 0\,6 km – 1 km – 1\,5 km – 5 km – 10 km hardlopen. Wilt u inschrijven voor dit loopevenement?  Raadpleeg hiervoor dan de website van de organisatie\nDe uitslagen van deze hardloopwedstrijd zijn te raadplegen via dezelfde website of via de bekende websites zoals uitslagen.nl\, runtimer en mylaps. Doet u mee met dit evenement\, zorg dan dat u goed voorbereid aan de start staat! Met een goed trainingsschema komt u een heel eind. Train bijvoorbeeld met start to run van Evy Gruyaert. Download de start to run mp3 bestanden en zet ze op uw telefoon. Oortjes in\, hit the play button en en rennen maar! \n\n\n\n\nMeer informatie over Centrumloop op Hardloopkalender.nl  \n0\,6 km 10:00 uur\, 1 km 10:20 uur\, 1\,5 km 10:40 uur\, 5 km 11:30 uur\, 10-10-10 km 12:00 uur \n  \n  \n 
URL:https://hardloopevenementen.com/loopagenda/centrumloop-helmond-nb/
END:VEVENT
BEGIN:VEVENT
DTSTART;VALUE=DATE:20080501
DTEND;VALUE=DATE:20080502
DTSTAMP:20260419T203536
CREATED:20171104T182203Z
LAST-MODIFIED:20190423T094740Z
UID:19778-1209600000-1209600000@hardloopevenementen.com
SUMMARY:Centrumloop Wemeldinge
DESCRIPTION:Doe mee met het hardloopevenement Centrumloop te Wemeldinge op do 01 mei 2008. De volgende afstanden staan op het programma: 6\,4 km hardlopen. Wilt u inschrijven voor dit loopevenement?  Raadpleeg hiervoor dan de website van de organisatie\nDe uitslagen van deze hardloopwedstrijd zijn te raadplegen via dezelfde website of via de bekende websites zoals uitslagen.nl\, runtimer en mylaps. Doet u mee met dit evenement\, zorg dan dat u goed voorbereid aan de start staat! Met een goed trainingsschema komt u een heel eind. Train bijvoorbeeld met start to run van Evy Gruyaert. Download de start to run mp3 bestanden en zet ze op uw telefoon. Oortjes in\, hit the play button en en rennen maar! \n\n\n\n\nMeer informatie over Centrumloop op Hardloopkalender.nl  \n6\,4 km 11:30 uur \n  \n  \n 
URL:https://hardloopevenementen.com/loopagenda/centrumloop-wemeldinge-2/
END:VEVENT
BEGIN:VEVENT
DTSTART;VALUE=DATE:20071007
DTEND;VALUE=DATE:20071008
DTSTAMP:20260419T203536
CREATED:20070120T013553Z
LAST-MODIFIED:20190423T093851Z
UID:249-1191715200-1191715200@hardloopevenementen.com
SUMMARY:Centrumloop Stiphout 10 Helmond
DESCRIPTION:Doe mee met het hardloopevenement Centrumloop Stiphout 10 te Helmond op zo 07 okt 2007. De volgende afstanden staan op het programma: 5 km – 10 km – 15 km hardlopen. Wilt u inschrijven voor dit loopevenement?  Raadpleeg hiervoor dan de website van de organisatie\nDe uitslagen van deze hardloopwedstrijd zijn te raadplegen via dezelfde website of via de bekende websites zoals uitslagen.nl\, runtimer en mylaps. Doet u mee met dit evenement\, zorg dan dat u goed voorbereid aan de start staat! Met een goed trainingsschema komt u een heel eind. Train bijvoorbeeld met start to run van Evy Gruyaert. Download de start to run mp3 bestanden en zet ze op uw telefoon. Oortjes in\, hit the play button en en rennen maar! \n\n\n\n\nMeer informatie over Centrumloop Stiphout 10 op Hardloopkalender.nl  \n  \n  \n 
URL:https://hardloopevenementen.com/loopagenda/centrumloop-stiphout-10-helmond/
END:VEVENT
BEGIN:VEVENT
DTSTART;VALUE=DATE:20070517
DTEND;VALUE=DATE:20070518
DTSTAMP:20260419T203536
CREATED:20121123T082950Z
LAST-MODIFIED:20190423T093957Z
UID:533-1179360000-1179360000@hardloopevenementen.com
SUMMARY:Centrumloop Wemeldinge
DESCRIPTION:Doe mee met het hardloopevenement Centrumloop te Wemeldinge op do 17 mei 2007. De volgende afstanden staan op het programma: 6\,4 km hardlopen. Wilt u inschrijven voor dit loopevenement?  Raadpleeg hiervoor dan de website van de organisatie\nDe uitslagen van deze hardloopwedstrijd zijn te raadplegen via dezelfde website of via de bekende websites zoals uitslagen.nl\, runtimer en mylaps. Doet u mee met dit evenement\, zorg dan dat u goed voorbereid aan de start staat! Met een goed trainingsschema komt u een heel eind. Train bijvoorbeeld met start to run van Evy Gruyaert. Download de start to run mp3 bestanden en zet ze op uw telefoon. Oortjes in\, hit the play button en en rennen maar! \n\n\n\n\nMeer informatie over Centrumloop op Hardloopkalender.nl  \n  \n  \n 
URL:https://hardloopevenementen.com/loopagenda/centrumloop-wemeldinge/
END:VEVENT
END:VCALENDAR