BEGIN:VCALENDAR
VERSION:2.0
PRODID:-//Hardloopevenementen - ECPv6.15.14//NONSGML v1.0//EN
CALSCALE:GREGORIAN
METHOD:PUBLISH
X-WR-CALNAME:Hardloopevenementen
X-ORIGINAL-URL:https://hardloopevenementen.com
X-WR-CALDESC:Evenementen voor Hardloopevenementen
REFRESH-INTERVAL;VALUE=DURATION:PT1H
X-Robots-Tag:noindex
X-PUBLISHED-TTL:PT1H
BEGIN:VTIMEZONE
TZID:UTC
BEGIN:STANDARD
TZOFFSETFROM:+0000
TZOFFSETTO:+0000
TZNAME:UTC
DTSTART:20130101T000000
END:STANDARD
END:VTIMEZONE
BEGIN:VEVENT
DTSTART;VALUE=DATE:20140629
DTEND;VALUE=DATE:20140630
DTSTAMP:20260423T004308
CREATED:20070907T050551Z
LAST-MODIFIED:20190423T105339Z
UID:33707-1404000000-1404000000@hardloopevenementen.com
SUMMARY:Mud Challengers Mud en Obstacle Run Amsterdam (NH)
DESCRIPTION:Doe mee met het hardloopevenement Mud Challengers Mud en Obstacle Run te Amsterdam (NH) op zo 29 jun 2014. De volgende afstanden staan op het programma: 5 km – 10 km – 15 km hardlopen. Wilt u inschrijven voor dit loopevenement?  Raadpleeg hiervoor dan de website van de organisatie\nDe uitslagen van deze hardloopwedstrijd zijn te raadplegen via dezelfde website of via de bekende websites zoals uitslagen.nl\, runtimer en mylaps. Doet u mee met dit evenement\, zorg dan dat u goed voorbereid aan de start staat! Met een goed trainingsschema komt u een heel eind. Train bijvoorbeeld met start to run van Evy Gruyaert. Download de start to run mp3 bestanden en zet ze op uw telefoon. Oortjes in\, hit the play button en en rennen maar! \n\n\n\n\nMeer informatie over Mud Challengers Mud en Obstacle Run op Hardloopkalender.nl  \nMud & Obstacle Run www.mud-challengers.com op 28 & 29 juni 2014.    Ultimate Fitness Challenge www.ufc.nl ligt aan de basis van Mud Challengers.  Dit event bestaat sinds 1999 en gaat inmiddels internationaal.     Om ons te onderscheiden van andere runs hebben wij een spectaculair sport onderdeel uit de USA naar Nederland gehaald Speed Climbing Challenge (zie filmpje op onze website) wat uniek is voor Nederland. Deze discipline is alleen weggelegd voor de 50 beste lopers met een hoofdprijs van  1000\,- De wedstrijd is; wie het eerst beneden is.    Met vriendelijke groet\,  Mud Challengers \n  \n  \n 
URL:https://hardloopevenementen.com/loopagenda/mud-challengers-mud-en-obstacle-run-amsterdam-nh/
END:VEVENT
BEGIN:VEVENT
DTSTART;VALUE=DATE:20140628
DTEND;VALUE=DATE:20140629
DTSTAMP:20260423T004308
CREATED:20110202T201433Z
LAST-MODIFIED:20190423T105344Z
UID:33727-1403913600-1403913600@hardloopevenementen.com
SUMMARY:Mud Challengers Mud en Obstacle Run Amsterdam (NH)
DESCRIPTION:Doe mee met het hardloopevenement Mud Challengers Mud en Obstacle Run te Amsterdam (NH) op za 28 jun 2014. De volgende afstanden staan op het programma: 5 km – 10 km – 15 km hardlopen. Wilt u inschrijven voor dit loopevenement?  Raadpleeg hiervoor dan de website van de organisatie\nDe uitslagen van deze hardloopwedstrijd zijn te raadplegen via dezelfde website of via de bekende websites zoals uitslagen.nl\, runtimer en mylaps. Doet u mee met dit evenement\, zorg dan dat u goed voorbereid aan de start staat! Met een goed trainingsschema komt u een heel eind. Train bijvoorbeeld met start to run van Evy Gruyaert. Download de start to run mp3 bestanden en zet ze op uw telefoon. Oortjes in\, hit the play button en en rennen maar! \n\n\n\n\nMeer informatie over Mud Challengers Mud en Obstacle Run op Hardloopkalender.nl  \nMud & Obstacle Run www.mud-challengers.com op 28 & 29 juni 2014.    Ultimate Fitness Challenge www.ufc.nl ligt aan de basis van Mud Challengers.  Dit event bestaat sinds 1999 en gaat inmiddels internationaal.     Om ons te onderscheiden van andere runs hebben wij een spectaculair sport onderdeel uit de USA naar Nederland gehaald Speed Climbing Challenge (zie filmpje op onze website) wat uniek is voor Nederland. Deze discipline is alleen weggelegd voor de 50 beste lopers met een hoofdprijs van  1000\,- De wedstrijd is; wie het eerst beneden is.    Met vriendelijke groet\,  Mud Challengers \n  \n  \n 
URL:https://hardloopevenementen.com/loopagenda/mud-challengers-mud-en-obstacle-run-amsterdam-nh-2/
END:VEVENT
END:VCALENDAR