BEGIN:VCALENDAR
VERSION:2.0
PRODID:-//Hardloopevenementen - ECPv6.15.14//NONSGML v1.0//EN
CALSCALE:GREGORIAN
METHOD:PUBLISH
X-WR-CALNAME:Hardloopevenementen
X-ORIGINAL-URL:https://hardloopevenementen.com
X-WR-CALDESC:Evenementen voor Hardloopevenementen
REFRESH-INTERVAL;VALUE=DURATION:PT1H
X-Robots-Tag:noindex
X-PUBLISHED-TTL:PT1H
BEGIN:VTIMEZONE
TZID:UTC
BEGIN:STANDARD
TZOFFSETFROM:+0000
TZOFFSETTO:+0000
TZNAME:UTC
DTSTART:20090101T000000
END:STANDARD
END:VTIMEZONE
BEGIN:VEVENT
DTSTART;VALUE=DATE:20150614
DTEND;VALUE=DATE:20150615
DTSTAMP:20260423T171354
CREATED:20110304T153123Z
LAST-MODIFIED:20190423T111125Z
UID:10275-1434240000-1434240000@hardloopevenementen.com
SUMMARY:Child Learn Marathon Schimmert\, gemeente Nuth (LI)
DESCRIPTION:Doe mee met het hardloopevenement Child Learn Marathon te Schimmert\, gemeente Nuth (LI) op zo 14 jun 2015. De volgende afstanden staan op het programma: 7 km – 14 km – halve marathon – marathon hardlopen. Wilt u inschrijven voor dit loopevenement?  Raadpleeg hiervoor dan de website van de organisatie\nDe uitslagen van deze hardloopwedstrijd zijn te raadplegen via dezelfde website of via de bekende websites zoals uitslagen.nl\, runtimer en mylaps. Doet u mee met dit evenement\, zorg dan dat u goed voorbereid aan de start staat! Met een goed trainingsschema komt u een heel eind. Train bijvoorbeeld met start to run van Evy Gruyaert. Download de start to run mp3 bestanden en zet ze op uw telefoon. Oortjes in\, hit the play button en en rennen maar! \n\n\n\n\nMeer informatie over Child Learn Marathon op Hardloopkalender.nl  \nOp 14 juni 2015 vindt de zesde editie van de Child Learn Marathon plaats. Herberg Mareveld in het landelijk gelegen Schimmert is deze dag wederom de startplaats\, waar we om 10.00 uur starten met de kleinste sportievelingen (kinderen van groep 3 t m 8 uit het basisonderwijs). Om 11.00 uur starten de deelnemers voor de afstanden 7 en 14 km. Een uur later\, om 12.00 uur wordt het startsein gegeven voor de halve en hele marathon en de estafette.   Voorinschrijving is mogelijk t m 9 juni via het online inschrijfformulier.  Dag inschrijving is mogelijk tot een uur voor de marathon. Door deelname aan de Child Learn Marathon steunt u direct het goede doel. Child Learn zorgt ervoor dat kinderen in India leren in plaats van werken. Al het inschrijfgeld en sponsorgelden voor de Child Learn Marathon gaan rechtstreeks naar Child Learn. \n  \n  \n 
URL:https://hardloopevenementen.com/loopagenda/child-learn-marathon-schimmert-gemeente-nuth-li-2/
END:VEVENT
BEGIN:VEVENT
DTSTART;VALUE=DATE:20140629
DTEND;VALUE=DATE:20140630
DTSTAMP:20260423T171354
CREATED:20120302T193209Z
LAST-MODIFIED:20190423T105334Z
UID:33693-1404000000-1404000000@hardloopevenementen.com
SUMMARY:Child Learn Marathon Schimmert\, gemeente Nuth (LI)
DESCRIPTION:Doe mee met het hardloopevenement Child Learn Marathon te Schimmert\, gemeente Nuth (LI) op zo 29 jun 2014. De volgende afstanden staan op het programma: 7 km – 14 km – halve marathon – marathon hardlopen. Wilt u inschrijven voor dit loopevenement?  Raadpleeg hiervoor dan de website van de organisatie\nDe uitslagen van deze hardloopwedstrijd zijn te raadplegen via dezelfde website of via de bekende websites zoals uitslagen.nl\, runtimer en mylaps. Doet u mee met dit evenement\, zorg dan dat u goed voorbereid aan de start staat! Met een goed trainingsschema komt u een heel eind. Train bijvoorbeeld met start to run van Evy Gruyaert. Download de start to run mp3 bestanden en zet ze op uw telefoon. Oortjes in\, hit the play button en en rennen maar! \n\n\n\n\nMeer informatie over Child Learn Marathon op Hardloopkalender.nl  \nHet loopevenement Child Learn Marathon te Schimmert vindt plaats op zondag 29 juni 2014. De loop wordt georganisseerd door Child Learn . Klik hier voor het adres van de start (Google Maps). \n  \n  \n 
URL:https://hardloopevenementen.com/loopagenda/child-learn-marathon-schimmert-gemeente-nuth-li-3/
END:VEVENT
BEGIN:VEVENT
DTSTART;VALUE=DATE:20100613
DTEND;VALUE=DATE:20100614
DTSTAMP:20260423T171354
CREATED:20151124T084039Z
LAST-MODIFIED:20190423T101102Z
UID:4059-1276387200-1276387200@hardloopevenementen.com
SUMMARY:Child Learn Marathon Schimmert\, gemeente Nuth (LI)
DESCRIPTION:Doe mee met het hardloopevenement Child Learn Marathon te Schimmert\, gemeente Nuth (LI) op zo 13 jun 2010. De volgende afstanden staan op het programma: marathon hardlopen. Wilt u inschrijven voor dit loopevenement?  Raadpleeg hiervoor dan de website van de organisatie\nDe uitslagen van deze hardloopwedstrijd zijn te raadplegen via dezelfde website of via de bekende websites zoals uitslagen.nl\, runtimer en mylaps. Doet u mee met dit evenement\, zorg dan dat u goed voorbereid aan de start staat! Met een goed trainingsschema komt u een heel eind. Train bijvoorbeeld met start to run van Evy Gruyaert. Download de start to run mp3 bestanden en zet ze op uw telefoon. Oortjes in\, hit the play button en en rennen maar! \n\n\n\n\nMeer informatie over Child Learn Marathon op Hardloopkalender.nl  \nDit loopevenement wordt georganiseerd door Ambassadeur child learn.De eerste afstand (of onderdeel) start om 11:59.Het adres van de start en de finish is Mareweg 23Categorie(ën): mannen\, vrouwenVooraf inschrijven is mogelijk vanaf 30 november 2009 tot 06 juni 2010.Inschrijven op de dag van de loop is mogelijk (vanaf 07-juni-12juni 2010) op dit adres: Trichterstraat 17  Schimmert.Meer informatie:Contactpersoon: Christine OkkersenTel.: 0454041732Email: henry.okkersen@hetnet.nlEr is een kleedaccomodatie aanwezig. Douchen is mogelijk.Het parcours is deels onverhard.Overige bijzonderheden:   doel Child LearnKindrenuit steenfabriekenhalen naarschoollatengaan \n  \n  \n 
URL:https://hardloopevenementen.com/loopagenda/child-learn-marathon-schimmert-gemeente-nuth-li/
END:VEVENT
END:VCALENDAR