BEGIN:VCALENDAR
VERSION:2.0
PRODID:-//Hardloopevenementen - ECPv6.15.14//NONSGML v1.0//EN
CALSCALE:GREGORIAN
METHOD:PUBLISH
X-ORIGINAL-URL:https://hardloopevenementen.com
X-WR-CALDESC:Evenementen voor Hardloopevenementen
REFRESH-INTERVAL;VALUE=DURATION:PT1H
X-Robots-Tag:noindex
X-PUBLISHED-TTL:PT1H
BEGIN:VTIMEZONE
TZID:UTC
BEGIN:STANDARD
TZOFFSETFROM:+0000
TZOFFSETTO:+0000
TZNAME:UTC
DTSTART:20180101T000000
END:STANDARD
END:VTIMEZONE
BEGIN:VEVENT
DTSTART;VALUE=DATE:20191221
DTEND;VALUE=DATE:20191222
DTSTAMP:20260422T000655
CREATED:20091102T162415Z
LAST-MODIFIED:20191114T112325Z
UID:142518-1576886400-1576886400@hardloopevenementen.com
SUMMARY:Rondje Thermen Bussloo - Magical Christmas night Bussloo\, gemeente Voorst (GE)
DESCRIPTION:Doe mee met het hardloopevenement Rondje Thermen Bussloo – Magical Christmas night te Bussloo\, gemeente Voorst (GE) op za 21 dec 2019. De volgende afstanden staan op het programma: 5 km – 7\,5 km hardlopen. Wilt u inschrijven voor dit loopevenement?  Raadpleeg hiervoor dan de website van de organisatie\nDe uitslagen van deze hardloopwedstrijd zijn te raadplegen via dezelfde website of via de bekende websites zoals uitslagen.nl\, runtimer en mylaps. Doet u mee met dit evenement\, zorg dan dat u goed voorbereid aan de start staat! Met een goed trainingsschema komt u een heel eind. Train bijvoorbeeld met start to run van Evy Gruyaert. Download de start to run mp3 bestanden en zet ze op uw telefoon. Oortjes in\, hit the play button en en rennen maar! \n\n\n\n\nMeer informatie over Rondje Thermen Bussloo – Magical Christmas night op Hardloopkalender.nl  \nIn 2018 is voor het eerst een magisch verlichte Christmas Night walk en run georganiseerd op Bussloo. En het was in alle opzichten magisch! Meer dan 2000 deelnemers hadden zich ondanks de harde regen verzameld op Bussloo. Toen het startschot viel hield het ineens op met regenen en zorgde de bijna volle maan\, de duizenden lichtjes\, de lasershow en lasereffecten en natuurlijk de muziek onderweg voor een prachtig en magische gebeuren. Op zaterdag 21 december we de tweede editie van dit evenement.     Wandelen of hardlopen  Je kunt kiezen uit een route van 5 of 7\,5 kilometer\, zowel voor wandelen als hardlopen. De route wordt aangegeven door duizenden lichtjes. Onderweg loop je door het magisch verlichte bos\, luister je  naar prachtige muziek en koren\, kun je even bijkomen bij de koek en zopietent en brengt de prachtige winteravond op Bussloo jou in extase! Na afloop kun je genieten bij Pitch en Putt van de gezellige afterparty!    Bij het hardlopen hebben we een tijdwaarneming en de uitslagen worden opgenomen in www.hardloopuitslagen.nl. Je krijgt daarbij een persoonlijke finishfoto en een certificaat! Bovendien ontvangen de 3 eerst aankomenden op beide afstanden(dames en heren) een kerstpakket. De wandeldeelnemers ontvangen ook een chip en startnummer\, zodat ook zij hun deelname later kunnen terugvinden! De routes (5 of 7\,5 km) gaan geheel over de verkeersvrije fietspaden.    Voor de vroege vogels hebben we een leuke korting van 2\,50. Als je inschrijft voor 1 oktober betaal je slechts  10\, willekeurig welke afstand of je wandelt of hardloopt.    Daarna betaal je 12\,50 voor je inschrijving. Je ontvangt bij deelname altijd een gratis dagje sauna bij Thermen Bussloo en een medaille. De saunavoucher krijg je per e-mail toegestuurd\, direct nadat je bent ingeschreven. Je kunt hier dus al direct gebruik van maken. \n  \n  \n 
URL:https://hardloopevenementen.com/loopagenda/rondje-thermen-bussloo-magical-christmas-night-bussloo-gemeente-voorst-ge/
END:VEVENT
END:VCALENDAR