BEGIN:VCALENDAR
VERSION:2.0
PRODID:-//Hardloopevenementen - ECPv6.15.14//NONSGML v1.0//EN
CALSCALE:GREGORIAN
METHOD:PUBLISH
X-WR-CALNAME:Hardloopevenementen
X-ORIGINAL-URL:https://hardloopevenementen.com
X-WR-CALDESC:Evenementen voor Hardloopevenementen
REFRESH-INTERVAL;VALUE=DURATION:PT1H
X-Robots-Tag:noindex
X-PUBLISHED-TTL:PT1H
BEGIN:VTIMEZONE
TZID:UTC
BEGIN:STANDARD
TZOFFSETFROM:+0000
TZOFFSETTO:+0000
TZNAME:UTC
DTSTART:20140101T000000
END:STANDARD
END:VTIMEZONE
BEGIN:VEVENT
DTSTART;VALUE=DATE:20150710
DTEND;VALUE=DATE:20150711
DTSTAMP:20260420T164437
CREATED:20131128T062442Z
LAST-MODIFIED:20190423T111042Z
UID:10102-1436486400-1436486400@hardloopevenementen.com
SUMMARY:confianza estafette Katwijk aan Zee\, gemeente Katwijk (ZH)
DESCRIPTION:Doe mee met het hardloopevenement confianza estafette te Katwijk aan Zee\, gemeente Katwijk (ZH) op vr 10 jul 2015. De volgende afstanden staan op het programma: 4\,4 km hardlopen. Wilt u inschrijven voor dit loopevenement?  Raadpleeg hiervoor dan de website van de organisatie\nDe uitslagen van deze hardloopwedstrijd zijn te raadplegen via dezelfde website of via de bekende websites zoals uitslagen.nl\, runtimer en mylaps. Doet u mee met dit evenement\, zorg dan dat u goed voorbereid aan de start staat! Met een goed trainingsschema komt u een heel eind. Train bijvoorbeeld met start to run van Evy Gruyaert. Download de start to run mp3 bestanden en zet ze op uw telefoon. Oortjes in\, hit the play button en en rennen maar! \n\n\n\n\nMeer informatie over confianza estafette op Hardloopkalender.nl  \nOpen Wedstrijd     Confienza Estafette    Start wissels finish op de baan van AV Rijnsoever.    Inschrijfformulieren bij Running Center Katwijk of klik op:http:  bit.ly 1jwf3I8    Inschrijfgeld  15\,00 per team van 4 personen (inclusief gezellig hapje na afloop)    Daadwerkelijke inschrijving en betaling is op de wedstrijddag zelf vanaf 17.30 uur bij AV Rijnsoever\, Olympiaweg 2 te Katwijk ZH.    Start en finish van deze estafette liggen op de atletiekbaan van A.V.Rijnsoever. Vanaf de start op de baan loopt iedere deelnemer een parcours van 4\,4 kilometer.     Bij terugkeer rest de loper nog een rondje baan waarna de volgende deelnemer aan zijn haar 4\,4 km .    Na afloop kan er nog gezellig wat nagepraat worden onder het genot van een hapje en een drankje.     Inschrijven kan via het formulier dat te verkrijgen is bij running Center Katwijk\, de kantine van de A.V.Rijnsoever en op de site van de A.V.Rijnsoever.     Daadwerkelijke inschrijving vindt plaats op de wedstrijddag zelf. Daar dient het inschrijfformulier te worden ingeleverd en het inschrijfgeld ad  15\,00 (inclusief de hapjes) per team te worden voldaan.     Daarvoor kan men op vrijdag 10 Juli vanaf 17.30 in de kantine van de A.V. Rijnsoever terecht. \n  \n  \n 
URL:https://hardloopevenementen.com/loopagenda/confianza-estafette-katwijk-aan-zee-gemeente-katwijk-zh/
END:VEVENT
END:VCALENDAR