BEGIN:VCALENDAR
VERSION:2.0
PRODID:-//Hardloopevenementen - ECPv6.15.14//NONSGML v1.0//EN
CALSCALE:GREGORIAN
METHOD:PUBLISH
X-WR-CALNAME:Hardloopevenementen
X-ORIGINAL-URL:https://hardloopevenementen.com
X-WR-CALDESC:Evenementen voor Hardloopevenementen
REFRESH-INTERVAL;VALUE=DURATION:PT1H
X-Robots-Tag:noindex
X-PUBLISHED-TTL:PT1H
BEGIN:VTIMEZONE
TZID:UTC
BEGIN:STANDARD
TZOFFSETFROM:+0000
TZOFFSETTO:+0000
TZNAME:UTC
DTSTART:20090101T000000
END:STANDARD
END:VTIMEZONE
BEGIN:VEVENT
DTSTART;VALUE=DATE:20140507
DTEND;VALUE=DATE:20140508
DTSTAMP:20260423T213435
CREATED:20151106T120634Z
LAST-MODIFIED:20190423T105540Z
UID:34168-1399420800-1399420800@hardloopevenementen.com
SUMMARY:Gary Cooper Marathon Gieten\, gemeente Aa en Hunze (DR)
DESCRIPTION:Doe mee met het hardloopevenement Gary Cooper Marathon te Gieten\, gemeente Aa en Hunze (DR) op wo 07 mei 2014. De volgende afstanden staan op het programma: marathon hardlopen. Wilt u inschrijven voor dit loopevenement?  Raadpleeg hiervoor dan de website van de organisatie\nDe uitslagen van deze hardloopwedstrijd zijn te raadplegen via dezelfde website of via de bekende websites zoals uitslagen.nl\, runtimer en mylaps. Doet u mee met dit evenement\, zorg dan dat u goed voorbereid aan de start staat! Met een goed trainingsschema komt u een heel eind. Train bijvoorbeeld met start to run van Evy Gruyaert. Download de start to run mp3 bestanden en zet ze op uw telefoon. Oortjes in\, hit the play button en en rennen maar! \n\n\n\n\nMeer informatie over Gary Cooper Marathon op Hardloopkalender.nl  \nHet loopevenement Gary Cooper Marathon te Gieten vindt plaats op woensdag 07 mei 2014. De loop wordt georganisseerd door DFW Runners. Klik hier voor het adres van de start (Google Maps). \n  \n  \n 
URL:https://hardloopevenementen.com/loopagenda/gary-cooper-marathon-gieten-gemeente-aa-en-hunze-dr/
END:VEVENT
BEGIN:VEVENT
DTSTART;VALUE=DATE:20101005
DTEND;VALUE=DATE:20101006
DTSTAMP:20260423T213435
CREATED:20170317T175836Z
LAST-MODIFIED:20190423T100807Z
UID:3489-1286236800-1286236800@hardloopevenementen.com
SUMMARY:cooper en  5km 10km test Harderwijk (GE)
DESCRIPTION:Doe mee met het hardloopevenement cooper en  5km 10km test te Harderwijk (GE) op di 05 okt 2010. De volgende afstanden staan op het programma: 12 min – 5 km – 10 km hardlopen. Wilt u inschrijven voor dit loopevenement?  Raadpleeg hiervoor dan de website van de organisatie\nDe uitslagen van deze hardloopwedstrijd zijn te raadplegen via dezelfde website of via de bekende websites zoals uitslagen.nl\, runtimer en mylaps. Doet u mee met dit evenement\, zorg dan dat u goed voorbereid aan de start staat! Met een goed trainingsschema komt u een heel eind. Train bijvoorbeeld met start to run van Evy Gruyaert. Download de start to run mp3 bestanden en zet ze op uw telefoon. Oortjes in\, hit the play button en en rennen maar! \n\n\n\n\nMeer informatie over cooper en  5km 10km test op Hardloopkalender.nl  \nDit loopevenement wordt georganiseerd door AV Athlos.De eerste afstand (of onderdeel) start om 19:00.Het adres van de start is Strokelweg 9 Het adres van de finish is atletiekbaanCategorie(ën): mannen\, vrouwen\, jeugdVooraf inschrijven is mogelijk vanaf 15 augustus 2010 tot 03 oktober 2010.Inschrijven op de dag van de loop is mogelijk (vanaf 18.00 uur) op dit adres: Strokelweg 9.Meer informatie:Contactpersoon: Gijs Nijhuis (secr.)Tel.: 0341427503Email: wedstrijdsecretariaat@athlos.nlEr is een kleedaccomodatie aanwezig. Douchen is mogelijk.Het parcours is verhard.Overige bijzonderheden:  coopertest: 19.00 uur  5km+10km: 19.15 uur  1x kop koffie thee gratis \n  \n  \n 
URL:https://hardloopevenementen.com/loopagenda/cooper-en-5km-10km-test-harderwijk-ge/
END:VEVENT
END:VCALENDAR